BEGIN:VCALENDAR
VERSION:2.0
PRODID:icalendar-ruby
CALSCALE:GREGORIAN
BEGIN:VTIMEZONE
TZID:America/New_York
BEGIN:DAYLIGHT
DTSTART:20260308T030000
TZOFFSETFROM:-0500
TZOFFSETTO:-0400
RRULE:FREQ=YEARLY;BYDAY=2SU;BYMONTH=3
TZNAME:EDT
END:DAYLIGHT
BEGIN:STANDARD
DTSTART:20261101T010000
TZOFFSETFROM:-0400
TZOFFSETTO:-0500
RRULE:FREQ=YEARLY;BYDAY=1SU;BYMONTH=11
TZNAME:EST
END:STANDARD
END:VTIMEZONE
BEGIN:VEVENT
DTSTAMP:20260421T094109Z
UID:efe771ac-74c2-4b23-ad7b-5c08caee6a76
DTSTART;VALUE=DATE:20260423
DTEND;VALUE=DATE:20260424
DESCRIPTION:
LOCATION:
SUMMARY:Take Our Daughters and Sons to Work Day
END:VEVENT
BEGIN:VEVENT
DTSTAMP:20260421T094109Z
UID:07a0aff6-f7c7-414c-a421-e8d271d00371
DTSTART:20260428T190000
DTEND:20260428T203000
DESCRIPTION:
LOCATION:
SUMMARY:Board of Education Meeting/Public Budget Hearing
END:VEVENT
BEGIN:VEVENT
DTSTAMP:20260421T094109Z
UID:c54c6da2-fe74-4b11-aa12-0cf3b5d6859c
DTSTART:20260430T190000
DTEND:20260430T203000
DESCRIPTION:
LOCATION:51 W Mill Rd\, Long Valley\, NJ 07853\, USA
SUMMARY:Parent University: Middle School Tech Topics
END:VEVENT
BEGIN:VEVENT
DTSTAMP:20260421T094109Z
UID:335ab3f7-9ab2-4e63-8103-f59bc9ed327f
DTSTART;VALUE=DATE:20260504
DTEND;VALUE=DATE:20260505
DESCRIPTION:
LOCATION:
SUMMARY:NJSLA Adaptive ELA-Reading Gr. 3-8 (Session 1)
END:VEVENT
BEGIN:VEVENT
DTSTAMP:20260421T094109Z
UID:18e95361-ed95-47ef-a44f-38d465411c0b
DTSTART:20260504T180000
DTEND:20260504T190000
DESCRIPTION:
LOCATION:LVMS - Performing Arts Center
SUMMARY:4th & 5th Grade Family Life Curriculum Parent Open House
END:VEVENT
BEGIN:VEVENT
DTSTAMP:20260421T094109Z
UID:e953e476-44bc-4681-939c-142c492793f3
DTSTART;VALUE=DATE:20260505
DTEND;VALUE=DATE:20260506
DESCRIPTION:
LOCATION:
SUMMARY:NJSLA Adaptive ELA-Reading Gr. 3-8 (Session 2)
END:VEVENT
BEGIN:VEVENT
DTSTAMP:20260421T094109Z
UID:9fdcc19f-4aad-4738-b752-b6b9f453211c
DTSTART;VALUE=DATE:20260505
DTEND;VALUE=DATE:20260506
DESCRIPTION:
LOCATION:
SUMMARY:Teacher Appreciation Day
END:VEVENT
BEGIN:VEVENT
DTSTAMP:20260421T094109Z
UID:3cfa00f5-5785-4788-9d52-bd79f9a36172
DTSTART;VALUE=DATE:20260506
DTEND;VALUE=DATE:20260507
DESCRIPTION:
LOCATION:
SUMMARY:NJSLA Adaptive ELA-Writing Gr. 3-8 (Session 1)
END:VEVENT
BEGIN:VEVENT
DTSTAMP:20260421T094109Z
UID:b55ae2aa-6435-44d0-8ff9-709df6f16313
DTSTART;VALUE=DATE:20260507
DTEND;VALUE=DATE:20260508
DESCRIPTION:
LOCATION:
SUMMARY:NJSLA Adaptive Math Gr. 3-8 (Session 1)
END:VEVENT
BEGIN:VEVENT
DTSTAMP:20260421T094109Z
UID:31a67d63-1fa8-4644-bf70-a3d07a161d99
DTSTART:20260507T170000
DTEND:20260507T180000
DESCRIPTION:
LOCATION:Washington Twp Public Library\, 37 E Springtown Rd\, Long Valley\,
  NJ 07853\, USA
SUMMARY:Multilingual Bingo Night
END:VEVENT
BEGIN:VEVENT
DTSTAMP:20260421T094109Z
UID:c9780c6e-4028-408f-9b99-d44dd2243a99
DTSTART;VALUE=DATE:20260508
DTEND;VALUE=DATE:20260509
DESCRIPTION:
LOCATION:
SUMMARY:NJSLA Adaptive Math Gr. 3-8 (Session 2)
END:VEVENT
BEGIN:VEVENT
DTSTAMP:20260421T094109Z
UID:116822a3-378b-4e15-9e5c-8ee290ebb22f
DTSTART;VALUE=DATE:20260512
DTEND;VALUE=DATE:20260513
DESCRIPTION:
LOCATION:
SUMMARY:NJSLA - Adaptive Science Gr. 5 & 8 (Session 1 & 2)
END:VEVENT
BEGIN:VEVENT
DTSTAMP:20260421T094109Z
UID:4d6c0734-18ad-4521-a829-0183a25225cc
DTSTART:20260512T190000
DTEND:20260512T203000
DESCRIPTION:
LOCATION:
SUMMARY:Board of Education Meeting
END:VEVENT
BEGIN:VEVENT
DTSTAMP:20260421T094109Z
UID:3e139563-133f-485f-8fee-921af4ddf669
DTSTART;VALUE=DATE:20260513
DTEND;VALUE=DATE:20260514
DESCRIPTION:
LOCATION:
SUMMARY:NJSLA - Adaptive Science Gr. 5 & 8 (Session 3 & 4)
END:VEVENT
BEGIN:VEVENT
DTSTAMP:20260421T094109Z
UID:3771d5bb-327d-419f-90b4-32ecc3a35e40
DTSTART:20260520T183000
DTEND:20260520T193000
DESCRIPTION:
LOCATION:Benedict A Cucinella School\, 470 Naughright Rd\, Long Valley\, NJ
  07853\, USA
SUMMARY:G&T 3rd & 4th Grade Showcase Night
END:VEVENT
BEGIN:VEVENT
DTSTAMP:20260421T094109Z
UID:a976c12a-6036-45f8-a2a6-1af710c0a13d
DTSTART;VALUE=DATE:20260525
DTEND;VALUE=DATE:20260526
DESCRIPTION:
LOCATION:
SUMMARY:SCHOOLS CLOSED - Memorial Day
END:VEVENT
BEGIN:VEVENT
DTSTAMP:20260421T094109Z
UID:6f5ae71a-4bb5-4089-a685-20b47eefdc77
DTSTART:20260527T183000
DTEND:20260527T193000
DESCRIPTION:
LOCATION:Benedict A Cucinella School\, 470 Naughright Rd\, Long Valley\, NJ
  07853\, USA
SUMMARY:G&T 5th Grade Night of the Notables
END:VEVENT
BEGIN:VEVENT
DTSTAMP:20260421T094109Z
UID:863f0712-1be6-4822-ae21-20c428fab9a4
DTSTART:20260601T080000
DTEND:20260601T093000
DESCRIPTION:
LOCATION:
SUMMARY:BAC 5th Grade Accelerated Math Assessment
END:VEVENT
BEGIN:VEVENT
DTSTAMP:20260421T094109Z
UID:82a9677a-6025-4f2b-846d-7739ff1de1c3
DTSTART:20260602T080000
DTEND:20260602T093000
DESCRIPTION:
LOCATION:
SUMMARY:FRS 5th Grade Accelerated Math Assessment
END:VEVENT
BEGIN:VEVENT
DTSTAMP:20260421T094109Z
UID:3f9e9f25-37e1-44a1-bb3c-67b84dbdbb9b
DTSTART:20260602T190000
DTEND:20260602T203000
DESCRIPTION:
LOCATION:Long Valley Middle School Library
SUMMARY:SEPAG Meeting
END:VEVENT
BEGIN:VEVENT
DTSTAMP:20260421T094109Z
UID:c0d9caaf-d769-4f1f-85a2-c7187f2fbbe7
DTSTART:20260603T091500
DTEND:20260603T104500
DESCRIPTION:
LOCATION:
SUMMARY:OFRS 5th Grade Accelerated Math Assessment
END:VEVENT
BEGIN:VEVENT
DTSTAMP:20260421T094109Z
UID:eb38580f-6149-4a3e-9b41-ce80086ee9da
DTSTART:20260609T190000
DTEND:20260609T203000
DESCRIPTION:
LOCATION:
SUMMARY:Board of Education Meeting
END:VEVENT
BEGIN:VEVENT
DTSTAMP:20260421T094109Z
UID:a1e3c70c-97a1-4c53-a594-fa11a6d26953
DTSTART;VALUE=DATE:20260618
DTEND;VALUE=DATE:20260619
DESCRIPTION:
LOCATION:
SUMMARY:Early Dismissal Day
END:VEVENT
BEGIN:VEVENT
DTSTAMP:20260421T094109Z
UID:d5ad1b45-41d7-48af-a5ef-03cf54213257
DTSTART;VALUE=DATE:20260619
DTEND;VALUE=DATE:20260620
DESCRIPTION:
LOCATION:
SUMMARY:End of Elem. Trimester #3
END:VEVENT
BEGIN:VEVENT
DTSTAMP:20260421T094109Z
UID:b9f96396-75c6-4623-80ab-6ef05c804d9f
DTSTART;VALUE=DATE:20260619
DTEND;VALUE=DATE:20260620
DESCRIPTION:
LOCATION:
SUMMARY:LAST DAY OF SCHOOL - Early Dismissal Day
END:VEVENT
BEGIN:VEVENT
DTSTAMP:20260421T094109Z
UID:859af144-37a5-47a2-9aec-923489885880
DTSTART;VALUE=DATE:20260619
DTEND;VALUE=DATE:20260620
DESCRIPTION:
LOCATION:
SUMMARY:LVMS - End of 4th Marking Period
END:VEVENT
BEGIN:VEVENT
DTSTAMP:20260421T094109Z
UID:4676eda6-d64f-443a-b38b-04c9b9055034
DTSTART:20260721T190000
DTEND:20260721T203000
DESCRIPTION:
LOCATION:
SUMMARY:Board of Education Meeting
END:VEVENT
BEGIN:VEVENT
DTSTAMP:20260421T094109Z
UID:92753f6a-7404-414e-b3b3-35ff62d1722d
DTSTART:20260811T190000
DTEND:20260811T203000
DESCRIPTION:
LOCATION:
SUMMARY:Board of Education Meeting
END:VEVENT
BEGIN:VEVENT
DTSTAMP:20260421T094109Z
UID:607a1f7c-5cfa-4ff1-868e-a5a1091e30de
DTSTART:20260819T083000
DTEND:20260819T143000
DESCRIPTION:
LOCATION:
SUMMARY:New Faculty Institute
END:VEVENT
BEGIN:VEVENT
DTSTAMP:20260421T094109Z
UID:6e3569ef-697a-4152-9293-c7d1a735dfe1
DTSTART:20260820T083000
DTEND:20260820T143000
DESCRIPTION:
LOCATION:
SUMMARY:New Faculty Institute
END:VEVENT
BEGIN:VEVENT
DTSTAMP:20260421T094109Z
UID:db8544bc-0597-4e10-aa7c-abf1ac25f8f2
DTSTART:20260824T083000
DTEND:20260824T143000
DESCRIPTION:
LOCATION:
SUMMARY:New & Non-Tenured Faculty Professional Development
END:VEVENT
BEGIN:VEVENT
DTSTAMP:20260421T094109Z
UID:60bcfea9-8e11-49fc-9f46-5f21fe866932
DTSTART;VALUE=DATE:20260825
DTEND;VALUE=DATE:20260826
DESCRIPTION:
LOCATION:
SUMMARY:Teachers First Day of School
END:VEVENT
BEGIN:VEVENT
DTSTAMP:20260421T094109Z
UID:9b3df895-696f-44be-88e8-f8b770911034
DTSTART;VALUE=DATE:20260825
DTEND;VALUE=DATE:20260826
DESCRIPTION:
LOCATION:
SUMMARY:Teachers Professional Day / Preparation Day
END:VEVENT
BEGIN:VEVENT
DTSTAMP:20260421T094109Z
UID:8b1fa52d-0245-4050-9ddc-52d86d66d5c2
DTSTART;VALUE=DATE:20260826
DTEND;VALUE=DATE:20260827
DESCRIPTION:
LOCATION:
SUMMARY:Teachers Professional Day / Preparation Day
END:VEVENT
BEGIN:VEVENT
DTSTAMP:20260421T094109Z
UID:11005767-13e7-4fd7-86ef-b21584daa8ba
DTSTART;VALUE=DATE:20260827
DTEND;VALUE=DATE:20260828
DESCRIPTION:
LOCATION:
SUMMARY:Teachers Professional Day / Preparation Day
END:VEVENT
BEGIN:VEVENT
DTSTAMP:20260421T094109Z
UID:b854ba4e-bc46-495c-9080-ad0389962a87
DTSTART;VALUE=DATE:20260901
DTEND;VALUE=DATE:20260902
DESCRIPTION:
LOCATION:
SUMMARY:First Day of School - Students Report
END:VEVENT
BEGIN:VEVENT
DTSTAMP:20260421T094109Z
UID:93f2f37a-45e0-4738-a6a5-baa570db9cff
DTSTART;VALUE=DATE:20260907
DTEND;VALUE=DATE:20260908
DESCRIPTION:
LOCATION:
SUMMARY:SCHOOLS CLOSED- Labor Day
END:VEVENT
BEGIN:VEVENT
DTSTAMP:20260421T094109Z
UID:bcb53c20-b88b-4c90-a3f6-3d4f23002f3e
DTSTART:20260908T190000
DTEND:20260908T203000
DESCRIPTION:
LOCATION:
SUMMARY:Board of Education Meeting
END:VEVENT
BEGIN:VEVENT
DTSTAMP:20260421T094109Z
UID:a3cc8e72-a8bc-4afb-8d25-4601a74a2e79
DTSTART;VALUE=DATE:20260921
DTEND;VALUE=DATE:20260922
DESCRIPTION:
LOCATION:
SUMMARY:SCHOOLS CLOSED - Yom Kippur
END:VEVENT
BEGIN:VEVENT
DTSTAMP:20260421T094109Z
UID:143e1441-75a2-435c-b4b1-f3e53831de1a
DTSTART:20261006T190000
DTEND:20261006T203000
DESCRIPTION:
LOCATION:
SUMMARY:Board of Education Meeting
END:VEVENT
BEGIN:VEVENT
DTSTAMP:20260421T094109Z
UID:8de3ac99-3a33-4ccd-a3ba-2b9620197119
DTSTART;VALUE=DATE:20261012
DTEND;VALUE=DATE:20261013
DESCRIPTION:
LOCATION:
SUMMARY:SCHOOLS CLOSED - Columbus Day
END:VEVENT
BEGIN:VEVENT
DTSTAMP:20260421T094109Z
UID:df613c06-dcc6-41d9-8b1c-3025f7dcfc0e
DTSTART;VALUE=DATE:20261012
DTEND;VALUE=DATE:20261013
DESCRIPTION:
LOCATION:
SUMMARY:Teacher Professional Development
END:VEVENT
BEGIN:VEVENT
DTSTAMP:20260421T094109Z
UID:9c376720-8648-4b0f-8c04-fc7af32d48fe
DTSTART;VALUE=DATE:20261102
DTEND;VALUE=DATE:20261103
DESCRIPTION:
LOCATION:
SUMMARY:Early Dismissal Day - Parent Conferences
END:VEVENT
BEGIN:VEVENT
DTSTAMP:20260421T094109Z
UID:7ce1507f-c107-4428-8356-765b25fdd4b4
DTSTART;VALUE=DATE:20261103
DTEND;VALUE=DATE:20261104
DESCRIPTION:
LOCATION:
SUMMARY:Early Dismissal Day - Parent Conferences
END:VEVENT
BEGIN:VEVENT
DTSTAMP:20260421T094109Z
UID:40ea6cbd-db0d-4079-9646-bcccb6cd079b
DTSTART:20261103T190000
DTEND:20261103T203000
DESCRIPTION:
LOCATION:
SUMMARY:Board of Education Meeting
END:VEVENT
BEGIN:VEVENT
DTSTAMP:20260421T094109Z
UID:308a508d-fd43-4f7d-be3f-68bfd2009f77
DTSTART;VALUE=DATE:20261104
DTEND;VALUE=DATE:20261105
DESCRIPTION:
LOCATION:
SUMMARY:Early Dismissal Day - Parent Conferences
END:VEVENT
BEGIN:VEVENT
DTSTAMP:20260421T094109Z
UID:0fdd4670-ca10-4767-9f49-bae4061651ba
DTSTART;VALUE=DATE:20261105
DTEND;VALUE=DATE:20261107
DESCRIPTION:
LOCATION:
SUMMARY:SCHOOLS CLOSED - NJEA Convention
END:VEVENT
BEGIN:VEVENT
DTSTAMP:20260421T094109Z
UID:006af85d-ce8f-43c6-b268-7142965fef7b
DTSTART;VALUE=DATE:20261125
DTEND;VALUE=DATE:20261126
DESCRIPTION:
LOCATION:
SUMMARY:Early Dismissal Day - Thanksgiving Break
END:VEVENT
BEGIN:VEVENT
DTSTAMP:20260421T094109Z
UID:6a06523f-95f6-4da4-bca3-78363aab2220
DTSTART;VALUE=DATE:20261126
DTEND;VALUE=DATE:20261128
DESCRIPTION:
LOCATION:
SUMMARY:SCHOOLS CLOSED - Thanksgiving Weekend
END:VEVENT
BEGIN:VEVENT
DTSTAMP:20260421T094109Z
UID:7f409d2c-3f6f-465f-9948-d3c2523cd6ec
DTSTART:20261208T190000
DTEND:20261208T203000
DESCRIPTION:
LOCATION:
SUMMARY:Board of Education Meeting
END:VEVENT
BEGIN:VEVENT
DTSTAMP:20260421T094109Z
UID:02d6eca9-40d2-4969-9eb7-04a26b89d49d
DTSTART;VALUE=DATE:20261223
DTEND;VALUE=DATE:20261224
DESCRIPTION:
LOCATION:
SUMMARY:Early Dismissal Day - Winter Break
END:VEVENT
BEGIN:VEVENT
DTSTAMP:20260421T094109Z
UID:02837de9-b70f-46d6-a97e-8914abfaee65
DTSTART;VALUE=DATE:20261224
DTEND;VALUE=DATE:20261226
DESCRIPTION:
LOCATION:
SUMMARY:SCHOOLS CLOSED - Winter Break
END:VEVENT
BEGIN:VEVENT
DTSTAMP:20260421T094109Z
UID:efea3c2a-87c2-4525-9233-cf8c463e27de
DTSTART;VALUE=DATE:20261228
DTEND;VALUE=DATE:20270102
DESCRIPTION:
LOCATION:
SUMMARY:SCHOOLS CLOSED - Winter Break
END:VEVENT
BEGIN:VEVENT
DTSTAMP:20260421T094109Z
UID:9a370bc9-d4eb-4174-b269-45e2d448ad4a
DTSTART:20270105T190000
DTEND:20270105T203000
DESCRIPTION:
LOCATION:Long Valley Middle School\, 51 W Mill Rd\, Long Valley\, NJ 07853\
 , USA
SUMMARY:Board of Education Meeting/Reorganization
END:VEVENT
BEGIN:VEVENT
DTSTAMP:20260421T094109Z
UID:73688f36-b990-4732-b6ef-16b544643ab2
DTSTART;VALUE=DATE:20270118
DTEND;VALUE=DATE:20270119
DESCRIPTION:
LOCATION:
SUMMARY:SCHOOLS CLOSED- Martin Luther King\, Jr. Day
END:VEVENT
BEGIN:VEVENT
DTSTAMP:20260421T094109Z
UID:794fa761-4a1d-45fd-963e-2fb9013e7388
DTSTART;VALUE=DATE:20270118
DTEND;VALUE=DATE:20270119
DESCRIPTION:
LOCATION:
SUMMARY:Schools Closed -Teacher Professional Development
END:VEVENT
BEGIN:VEVENT
DTSTAMP:20260421T094109Z
UID:b4cb7e9b-c0b7-4592-a1f1-fa6cfece2653
DTSTART;VALUE=DATE:20270215
DTEND;VALUE=DATE:20270216
DESCRIPTION:
LOCATION:
SUMMARY:SCHOOLS CLOSED - Presidents Day
END:VEVENT
BEGIN:VEVENT
DTSTAMP:20260421T094109Z
UID:3393e090-d11d-4806-afa0-4a30f63a7ee9
DTSTART;VALUE=DATE:20270326
DTEND;VALUE=DATE:20270327
DESCRIPTION:
LOCATION:
SUMMARY:SCHOOLS CLOSED - Spring Break
END:VEVENT
BEGIN:VEVENT
DTSTAMP:20260421T094109Z
UID:644377fd-78eb-4b11-afd8-bac2ceb95647
DTSTART;VALUE=DATE:20270329
DTEND;VALUE=DATE:20270403
DESCRIPTION:
LOCATION:
SUMMARY:SCHOOLS CLOSED - Spring Break
END:VEVENT
BEGIN:VEVENT
DTSTAMP:20260421T094109Z
UID:f48476e6-5202-4e69-a584-e4b771cd480c
DTSTART;VALUE=DATE:20270504
DTEND;VALUE=DATE:20270505
DESCRIPTION:
LOCATION:
SUMMARY:Teacher Appreciation Day
END:VEVENT
BEGIN:VEVENT
DTSTAMP:20260421T094109Z
UID:f9e91bff-06e3-4fb9-9716-0be5c804fe17
DTSTART;VALUE=DATE:20270531
DTEND;VALUE=DATE:20270601
DESCRIPTION:
LOCATION:
SUMMARY:SCHOOLS CLOSED - Memorial Day
END:VEVENT
BEGIN:VEVENT
DTSTAMP:20260421T094109Z
UID:b3c94adb-b5a2-448b-ad4a-3eccec4d5f37
DTSTART;VALUE=DATE:20270615
DTEND;VALUE=DATE:20270616
DESCRIPTION:
LOCATION:
SUMMARY:Early Dismissal Day
END:VEVENT
BEGIN:VEVENT
DTSTAMP:20260421T094109Z
UID:6743bfb4-ffa1-4ca5-8a1f-e3da2d4642e7
DTSTART;VALUE=DATE:20270616
DTEND;VALUE=DATE:20270617
DESCRIPTION:
LOCATION:
SUMMARY:End of Elem. Trimester #3
END:VEVENT
BEGIN:VEVENT
DTSTAMP:20260421T094109Z
UID:a2e4096d-ddc6-4568-876e-adf959c38b6d
DTSTART;VALUE=DATE:20270616
DTEND;VALUE=DATE:20270617
DESCRIPTION:
LOCATION:
SUMMARY:LAST DAY OF SCHOOL - Early Dismissal Day
END:VEVENT
BEGIN:VEVENT
DTSTAMP:20260421T094109Z
UID:db790343-fde1-495a-b82a-2e9ecf8c721c
DTSTART;VALUE=DATE:20270616
DTEND;VALUE=DATE:20270617
DESCRIPTION:
LOCATION:
SUMMARY:LVMS - End of 4th Marking Period
END:VEVENT
BEGIN:VEVENT
DTSTAMP:20260421T094109Z
UID:3c14e006-2dfc-4258-9acc-0dfbfce7c765
DTSTART;VALUE=DATE:20280503
DTEND;VALUE=DATE:20280504
DESCRIPTION:
LOCATION:
SUMMARY:Teacher Appreciation Day
END:VEVENT
BEGIN:VEVENT
DTSTAMP:20260421T094109Z
UID:aa0082e8-628c-4103-b769-84b50f928bb3
DTSTART;VALUE=DATE:20290503
DTEND;VALUE=DATE:20290504
DESCRIPTION:
LOCATION:
SUMMARY:Teacher Appreciation Day
END:VEVENT
BEGIN:VEVENT
DTSTAMP:20260421T094109Z
UID:213dce7c-6759-41b2-83b9-092349ea49e7
DTSTART;VALUE=DATE:20300503
DTEND;VALUE=DATE:20300504
DESCRIPTION:
LOCATION:
SUMMARY:Teacher Appreciation Day
END:VEVENT
BEGIN:VEVENT
DTSTAMP:20260421T094109Z
UID:971052a7-7ca3-4906-ac12-89f7e5b34f10
DTSTART;VALUE=DATE:20310503
DTEND;VALUE=DATE:20310504
DESCRIPTION:
LOCATION:
SUMMARY:Teacher Appreciation Day
END:VEVENT
BEGIN:VEVENT
DTSTAMP:20260421T094109Z
UID:ab27db1b-fdcb-4241-b184-bd6832dd69a8
DTSTART;VALUE=DATE:20320503
DTEND;VALUE=DATE:20320504
DESCRIPTION:
LOCATION:
SUMMARY:Teacher Appreciation Day
END:VEVENT
BEGIN:VEVENT
DTSTAMP:20260421T094109Z
UID:e70d2793-3f37-4926-93a4-b9245fea8501
DTSTART;VALUE=DATE:20330503
DTEND;VALUE=DATE:20330504
DESCRIPTION:
LOCATION:
SUMMARY:Teacher Appreciation Day
END:VEVENT
BEGIN:VEVENT
DTSTAMP:20260421T094109Z
UID:e1de881e-5f5c-4a44-8549-fc5fef38e1bd
DTSTART;VALUE=DATE:20340503
DTEND;VALUE=DATE:20340504
DESCRIPTION:
LOCATION:
SUMMARY:Teacher Appreciation Day
END:VEVENT
BEGIN:VEVENT
DTSTAMP:20260421T094109Z
UID:d12dfecc-4461-45d0-b12b-94664a00468d
DTSTART;VALUE=DATE:20350503
DTEND;VALUE=DATE:20350504
DESCRIPTION:
LOCATION:
SUMMARY:Teacher Appreciation Day
END:VEVENT
BEGIN:VEVENT
DTSTAMP:20260421T094109Z
UID:f5769064-7437-4198-b282-b384e3a4508c
DTSTART;VALUE=DATE:20360503
DTEND;VALUE=DATE:20360504
DESCRIPTION:
LOCATION:
SUMMARY:Teacher Appreciation Day
END:VEVENT
BEGIN:VEVENT
DTSTAMP:20260421T094109Z
UID:3bf8d071-f879-4282-aa4e-fa5f01c32136
DTSTART;VALUE=DATE:20370503
DTEND;VALUE=DATE:20370504
DESCRIPTION:
LOCATION:
SUMMARY:Teacher Appreciation Day
END:VEVENT
BEGIN:VEVENT
DTSTAMP:20260421T094109Z
UID:1799e423-1035-4a4b-bdfd-d28f5a633be3
DTSTART;VALUE=DATE:20380503
DTEND;VALUE=DATE:20380504
DESCRIPTION:
LOCATION:
SUMMARY:Teacher Appreciation Day
END:VEVENT
BEGIN:VEVENT
DTSTAMP:20260421T094109Z
UID:5331fa49-9a49-4b65-ad5c-1a038699bc1d
DTSTART;VALUE=DATE:20390503
DTEND;VALUE=DATE:20390504
DESCRIPTION:
LOCATION:
SUMMARY:Teacher Appreciation Day
END:VEVENT
BEGIN:VEVENT
DTSTAMP:20260421T094109Z
UID:3dcc24ec-f6d6-406d-bea5-7ca61d82061b
DTSTART;VALUE=DATE:20400503
DTEND;VALUE=DATE:20400504
DESCRIPTION:
LOCATION:
SUMMARY:Teacher Appreciation Day
END:VEVENT
BEGIN:VEVENT
DTSTAMP:20260421T094109Z
UID:83fb7194-1612-44d1-bdd6-271b7f914ac8
DTSTART;VALUE=DATE:20410503
DTEND;VALUE=DATE:20410504
DESCRIPTION:
LOCATION:
SUMMARY:Teacher Appreciation Day
END:VEVENT
BEGIN:VEVENT
DTSTAMP:20260421T094109Z
UID:b9d46b5e-8b02-4d69-b802-e7d54a1cd1e5
DTSTART;VALUE=DATE:20420503
DTEND;VALUE=DATE:20420504
DESCRIPTION:
LOCATION:
SUMMARY:Teacher Appreciation Day
END:VEVENT
BEGIN:VEVENT
DTSTAMP:20260421T094109Z
UID:7370e2c8-8d59-48ef-a2ae-250a6d543c8f
DTSTART;VALUE=DATE:20430503
DTEND;VALUE=DATE:20430504
DESCRIPTION:
LOCATION:
SUMMARY:Teacher Appreciation Day
END:VEVENT
BEGIN:VEVENT
DTSTAMP:20260421T094109Z
UID:1d20b873-0275-4772-a8c0-845e0db46c84
DTSTART;VALUE=DATE:20440503
DTEND;VALUE=DATE:20440504
DESCRIPTION:
LOCATION:
SUMMARY:Teacher Appreciation Day
END:VEVENT
BEGIN:VEVENT
DTSTAMP:20260421T094109Z
UID:5516e017-d2ca-400a-a754-8df312d14a0e
DTSTART;VALUE=DATE:20450503
DTEND;VALUE=DATE:20450504
DESCRIPTION:
LOCATION:
SUMMARY:Teacher Appreciation Day
END:VEVENT
BEGIN:VEVENT
DTSTAMP:20260421T094109Z
UID:2d38b120-20b7-45aa-bace-bb51c1db5cd4
DTSTART;VALUE=DATE:20460503
DTEND;VALUE=DATE:20460504
DESCRIPTION:
LOCATION:
SUMMARY:Teacher Appreciation Day
END:VEVENT
BEGIN:VEVENT
DTSTAMP:20260421T094109Z
UID:f308580d-6ae6-4604-89dc-a0e406e8abbb
DTSTART;VALUE=DATE:20470503
DTEND;VALUE=DATE:20470504
DESCRIPTION:
LOCATION:
SUMMARY:Teacher Appreciation Day
END:VEVENT
BEGIN:VEVENT
DTSTAMP:20260421T094109Z
UID:51d72283-648d-4b43-a883-ed5c00a96d0f
DTSTART;VALUE=DATE:20480503
DTEND;VALUE=DATE:20480504
DESCRIPTION:
LOCATION:
SUMMARY:Teacher Appreciation Day
END:VEVENT
BEGIN:VEVENT
DTSTAMP:20260421T094109Z
UID:06fc973e-b3a6-404f-8377-c3eb2b5cb644
DTSTART;VALUE=DATE:20490503
DTEND;VALUE=DATE:20490504
DESCRIPTION:
LOCATION:
SUMMARY:Teacher Appreciation Day
END:VEVENT
BEGIN:VEVENT
DTSTAMP:20260421T094109Z
UID:aa758479-a987-4a23-9a94-d5b26a76b4b5
DTSTART;VALUE=DATE:20500503
DTEND;VALUE=DATE:20500504
DESCRIPTION:
LOCATION:
SUMMARY:Teacher Appreciation Day
END:VEVENT
BEGIN:VEVENT
DTSTAMP:20260421T094109Z
UID:80323244-bedf-4b6e-9bcc-9fcdefa26341
DTSTART;VALUE=DATE:20510503
DTEND;VALUE=DATE:20510504
DESCRIPTION:
LOCATION:
SUMMARY:Teacher Appreciation Day
END:VEVENT
BEGIN:VEVENT
DTSTAMP:20260421T094109Z
UID:9e58684a-13b0-4b80-94fc-e0dcc30d80ee
DTSTART;VALUE=DATE:20520503
DTEND;VALUE=DATE:20520504
DESCRIPTION:
LOCATION:
SUMMARY:Teacher Appreciation Day
END:VEVENT
BEGIN:VEVENT
DTSTAMP:20260421T094109Z
UID:a25f77d9-3a28-4329-a7d3-8a6329a64773
DTSTART;VALUE=DATE:20530503
DTEND;VALUE=DATE:20530504
DESCRIPTION:
LOCATION:
SUMMARY:Teacher Appreciation Day
END:VEVENT
BEGIN:VEVENT
DTSTAMP:20260421T094109Z
UID:12415fd6-1763-4b08-9015-e85fbb4066cb
DTSTART;VALUE=DATE:20540503
DTEND;VALUE=DATE:20540504
DESCRIPTION:
LOCATION:
SUMMARY:Teacher Appreciation Day
END:VEVENT
BEGIN:VEVENT
DTSTAMP:20260421T094109Z
UID:319a4f5d-f9cb-4f67-8b47-6cbedc5616b4
DTSTART;VALUE=DATE:20550503
DTEND;VALUE=DATE:20550504
DESCRIPTION:
LOCATION:
SUMMARY:Teacher Appreciation Day
END:VEVENT
BEGIN:VEVENT
DTSTAMP:20260421T094109Z
UID:2806574e-0a80-417f-8348-25b1da442a41
DTSTART;VALUE=DATE:20560503
DTEND;VALUE=DATE:20560504
DESCRIPTION:
LOCATION:
SUMMARY:Teacher Appreciation Day
END:VEVENT
BEGIN:VEVENT
DTSTAMP:20260421T094109Z
UID:b504c71e-f463-4fd9-a23c-0201638beb9c
DTSTART;VALUE=DATE:20570503
DTEND;VALUE=DATE:20570504
DESCRIPTION:
LOCATION:
SUMMARY:Teacher Appreciation Day
END:VEVENT
BEGIN:VEVENT
DTSTAMP:20260421T094109Z
UID:aef43ceb-da1e-4148-bfba-743ff2180ffb
DTSTART;VALUE=DATE:20580503
DTEND;VALUE=DATE:20580504
DESCRIPTION:
LOCATION:
SUMMARY:Teacher Appreciation Day
END:VEVENT
BEGIN:VEVENT
DTSTAMP:20260421T094109Z
UID:0a8203f3-b1b5-46dd-8d8f-f2ad25df5eaf
DTSTART;VALUE=DATE:20590503
DTEND;VALUE=DATE:20590504
DESCRIPTION:
LOCATION:
SUMMARY:Teacher Appreciation Day
END:VEVENT
BEGIN:VEVENT
DTSTAMP:20260421T094109Z
UID:1efb8f52-d72e-423e-b4f0-0e1cb802c755
DTSTART;VALUE=DATE:20600503
DTEND;VALUE=DATE:20600504
DESCRIPTION:
LOCATION:
SUMMARY:Teacher Appreciation Day
END:VEVENT
BEGIN:VEVENT
DTSTAMP:20260421T094109Z
UID:22434d31-63b9-4647-8e83-d45da73fbe06
DTSTART;VALUE=DATE:20610503
DTEND;VALUE=DATE:20610504
DESCRIPTION:
LOCATION:
SUMMARY:Teacher Appreciation Day
END:VEVENT
BEGIN:VEVENT
DTSTAMP:20260421T094109Z
UID:989fea6e-c9c1-44fd-b0d8-36961e075a40
DTSTART;VALUE=DATE:20620503
DTEND;VALUE=DATE:20620504
DESCRIPTION:
LOCATION:
SUMMARY:Teacher Appreciation Day
END:VEVENT
BEGIN:VEVENT
DTSTAMP:20260421T094109Z
UID:763a498c-792e-48e2-af9c-0debdc36cdec
DTSTART;VALUE=DATE:20630503
DTEND;VALUE=DATE:20630504
DESCRIPTION:
LOCATION:
SUMMARY:Teacher Appreciation Day
END:VEVENT
BEGIN:VEVENT
DTSTAMP:20260421T094109Z
UID:8df50565-9811-4901-a49c-d87af136ea5a
DTSTART;VALUE=DATE:20640503
DTEND;VALUE=DATE:20640504
DESCRIPTION:
LOCATION:
SUMMARY:Teacher Appreciation Day
END:VEVENT
BEGIN:VEVENT
DTSTAMP:20260421T094109Z
UID:a933d121-7da9-4343-9b96-89870e8e00b4
DTSTART;VALUE=DATE:20650503
DTEND;VALUE=DATE:20650504
DESCRIPTION:
LOCATION:
SUMMARY:Teacher Appreciation Day
END:VEVENT
BEGIN:VEVENT
DTSTAMP:20260421T094109Z
UID:d903d898-9e1d-41a4-96e9-7bb357f5d6f3
DTSTART;VALUE=DATE:20660503
DTEND;VALUE=DATE:20660504
DESCRIPTION:
LOCATION:
SUMMARY:Teacher Appreciation Day
END:VEVENT
BEGIN:VEVENT
DTSTAMP:20260421T094109Z
UID:9ebc6bd1-7cf5-480d-8ab0-fff8f7930ea9
DTSTART;VALUE=DATE:20670503
DTEND;VALUE=DATE:20670504
DESCRIPTION:
LOCATION:
SUMMARY:Teacher Appreciation Day
END:VEVENT
BEGIN:VEVENT
DTSTAMP:20260421T094109Z
UID:bbed6735-4cb5-4981-92c4-2bcaa61f13c9
DTSTART;VALUE=DATE:20680503
DTEND;VALUE=DATE:20680504
DESCRIPTION:
LOCATION:
SUMMARY:Teacher Appreciation Day
END:VEVENT
BEGIN:VEVENT
DTSTAMP:20260421T094109Z
UID:7d203297-c734-419d-b3e3-ef73777fe6ae
DTSTART;VALUE=DATE:20690503
DTEND;VALUE=DATE:20690504
DESCRIPTION:
LOCATION:
SUMMARY:Teacher Appreciation Day
END:VEVENT
BEGIN:VEVENT
DTSTAMP:20260421T094109Z
UID:e4ae41bf-01e7-4700-a296-261a27830529
DTSTART;VALUE=DATE:20700503
DTEND;VALUE=DATE:20700504
DESCRIPTION:
LOCATION:
SUMMARY:Teacher Appreciation Day
END:VEVENT
BEGIN:VEVENT
DTSTAMP:20260421T094109Z
UID:2fb33ddd-ff89-4f6a-960e-3d71bb8a4872
DTSTART;VALUE=DATE:20710503
DTEND;VALUE=DATE:20710504
DESCRIPTION:
LOCATION:
SUMMARY:Teacher Appreciation Day
END:VEVENT
BEGIN:VEVENT
DTSTAMP:20260421T094109Z
UID:c0009399-9269-4459-a00f-83d739cc8436
DTSTART;VALUE=DATE:20720503
DTEND;VALUE=DATE:20720504
DESCRIPTION:
LOCATION:
SUMMARY:Teacher Appreciation Day
END:VEVENT
BEGIN:VEVENT
DTSTAMP:20260421T094109Z
UID:afb61f19-aef8-4dd5-a8eb-79ee80b8453a
DTSTART;VALUE=DATE:20730503
DTEND;VALUE=DATE:20730504
DESCRIPTION:
LOCATION:
SUMMARY:Teacher Appreciation Day
END:VEVENT
BEGIN:VEVENT
DTSTAMP:20260421T094109Z
UID:90f4d1e0-ee05-4e09-816f-1d7e46d2bd96
DTSTART;VALUE=DATE:20740503
DTEND;VALUE=DATE:20740504
DESCRIPTION:
LOCATION:
SUMMARY:Teacher Appreciation Day
END:VEVENT
BEGIN:VEVENT
DTSTAMP:20260421T094109Z
UID:8b1a916e-7ad6-4806-9147-26536734e798
DTSTART;VALUE=DATE:20750503
DTEND;VALUE=DATE:20750504
DESCRIPTION:
LOCATION:
SUMMARY:Teacher Appreciation Day
END:VEVENT
BEGIN:VEVENT
DTSTAMP:20260421T094109Z
UID:c947a8b5-2de6-4a30-8dc5-139d98b0cb40
DTSTART;VALUE=DATE:20760503
DTEND;VALUE=DATE:20760504
DESCRIPTION:
LOCATION:
SUMMARY:Teacher Appreciation Day
END:VEVENT
BEGIN:VEVENT
DTSTAMP:20260421T094109Z
UID:e196fd2b-d75d-4394-b3b5-de35837b7b5d
DTSTART;VALUE=DATE:20770503
DTEND;VALUE=DATE:20770504
DESCRIPTION:
LOCATION:
SUMMARY:Teacher Appreciation Day
END:VEVENT
BEGIN:VEVENT
DTSTAMP:20260421T094109Z
UID:abd366ee-40c2-4556-9a9d-dc2644cb8637
DTSTART;VALUE=DATE:20780503
DTEND;VALUE=DATE:20780504
DESCRIPTION:
LOCATION:
SUMMARY:Teacher Appreciation Day
END:VEVENT
BEGIN:VEVENT
DTSTAMP:20260421T094109Z
UID:b387a71e-bb54-49b4-a8e1-c6a501f487f5
DTSTART;VALUE=DATE:20790503
DTEND;VALUE=DATE:20790504
DESCRIPTION:
LOCATION:
SUMMARY:Teacher Appreciation Day
END:VEVENT
BEGIN:VEVENT
DTSTAMP:20260421T094109Z
UID:dcf388f1-12a9-4ee6-a58b-8d6e608cad41
DTSTART;VALUE=DATE:20800503
DTEND;VALUE=DATE:20800504
DESCRIPTION:
LOCATION:
SUMMARY:Teacher Appreciation Day
END:VEVENT
BEGIN:VEVENT
DTSTAMP:20260421T094109Z
UID:8d6a1c6a-4988-4c2d-9658-8b36c6adadf4
DTSTART;VALUE=DATE:20810503
DTEND;VALUE=DATE:20810504
DESCRIPTION:
LOCATION:
SUMMARY:Teacher Appreciation Day
END:VEVENT
BEGIN:VEVENT
DTSTAMP:20260421T094109Z
UID:c429d0b2-a8e1-4943-a0bf-749430fdef73
DTSTART;VALUE=DATE:20820503
DTEND;VALUE=DATE:20820504
DESCRIPTION:
LOCATION:
SUMMARY:Teacher Appreciation Day
END:VEVENT
BEGIN:VEVENT
DTSTAMP:20260421T094109Z
UID:f73276f2-f860-4041-bdf1-e28657258683
DTSTART;VALUE=DATE:20830503
DTEND;VALUE=DATE:20830504
DESCRIPTION:
LOCATION:
SUMMARY:Teacher Appreciation Day
END:VEVENT
BEGIN:VEVENT
DTSTAMP:20260421T094109Z
UID:33a103e1-d887-4c65-ad4e-9ac1ab78e4d6
DTSTART;VALUE=DATE:20840503
DTEND;VALUE=DATE:20840504
DESCRIPTION:
LOCATION:
SUMMARY:Teacher Appreciation Day
END:VEVENT
BEGIN:VEVENT
DTSTAMP:20260421T094109Z
UID:778b5b7b-7487-4427-b2fa-35ec5ef57467
DTSTART;VALUE=DATE:20850503
DTEND;VALUE=DATE:20850504
DESCRIPTION:
LOCATION:
SUMMARY:Teacher Appreciation Day
END:VEVENT
BEGIN:VEVENT
DTSTAMP:20260421T094109Z
UID:985f459c-41b3-4d7a-ab54-21feb8856cb7
DTSTART;VALUE=DATE:20860503
DTEND;VALUE=DATE:20860504
DESCRIPTION:
LOCATION:
SUMMARY:Teacher Appreciation Day
END:VEVENT
BEGIN:VEVENT
DTSTAMP:20260421T094109Z
UID:fd617601-43b7-4f7d-85d0-8a20d89fc807
DTSTART;VALUE=DATE:20870503
DTEND;VALUE=DATE:20870504
DESCRIPTION:
LOCATION:
SUMMARY:Teacher Appreciation Day
END:VEVENT
BEGIN:VEVENT
DTSTAMP:20260421T094109Z
UID:48dcd7c2-da22-4fe6-9f4d-f8e0a32dc018
DTSTART;VALUE=DATE:20880503
DTEND;VALUE=DATE:20880504
DESCRIPTION:
LOCATION:
SUMMARY:Teacher Appreciation Day
END:VEVENT
BEGIN:VEVENT
DTSTAMP:20260421T094109Z
UID:d5479b09-515e-480b-8f74-1614cec8b03c
DTSTART;VALUE=DATE:20890503
DTEND;VALUE=DATE:20890504
DESCRIPTION:
LOCATION:
SUMMARY:Teacher Appreciation Day
END:VEVENT
BEGIN:VEVENT
DTSTAMP:20260421T094109Z
UID:e8ad02d3-eeb4-4006-aadd-8b70812f64da
DTSTART;VALUE=DATE:20900503
DTEND;VALUE=DATE:20900504
DESCRIPTION:
LOCATION:
SUMMARY:Teacher Appreciation Day
END:VEVENT
BEGIN:VEVENT
DTSTAMP:20260421T094109Z
UID:637394ee-0885-41ce-9a7c-bfdc0517e4f3
DTSTART;VALUE=DATE:20910503
DTEND;VALUE=DATE:20910504
DESCRIPTION:
LOCATION:
SUMMARY:Teacher Appreciation Day
END:VEVENT
BEGIN:VEVENT
DTSTAMP:20260421T094109Z
UID:235c4e03-ee62-4cc9-bcc6-5c775965f772
DTSTART;VALUE=DATE:20920503
DTEND;VALUE=DATE:20920504
DESCRIPTION:
LOCATION:
SUMMARY:Teacher Appreciation Day
END:VEVENT
BEGIN:VEVENT
DTSTAMP:20260421T094109Z
UID:49dee161-39a0-4674-86f5-c1e1e7de0740
DTSTART;VALUE=DATE:20930503
DTEND;VALUE=DATE:20930504
DESCRIPTION:
LOCATION:
SUMMARY:Teacher Appreciation Day
END:VEVENT
BEGIN:VEVENT
DTSTAMP:20260421T094109Z
UID:2dd39d20-7280-4417-8415-8f9b033ee1b5
DTSTART;VALUE=DATE:20940503
DTEND;VALUE=DATE:20940504
DESCRIPTION:
LOCATION:
SUMMARY:Teacher Appreciation Day
END:VEVENT
BEGIN:VEVENT
DTSTAMP:20260421T094109Z
UID:182b7dec-f730-42f1-a831-f51445b21cbe
DTSTART;VALUE=DATE:20950503
DTEND;VALUE=DATE:20950504
DESCRIPTION:
LOCATION:
SUMMARY:Teacher Appreciation Day
END:VEVENT
BEGIN:VEVENT
DTSTAMP:20260421T094109Z
UID:425ad9b8-8703-4bb8-b091-1eb92dce55d0
DTSTART;VALUE=DATE:20960503
DTEND;VALUE=DATE:20960504
DESCRIPTION:
LOCATION:
SUMMARY:Teacher Appreciation Day
END:VEVENT
BEGIN:VEVENT
DTSTAMP:20260421T094109Z
UID:3ed0702c-3d8f-45b9-a3f9-ecf72fabe90e
DTSTART;VALUE=DATE:20970503
DTEND;VALUE=DATE:20970504
DESCRIPTION:
LOCATION:
SUMMARY:Teacher Appreciation Day
END:VEVENT
BEGIN:VEVENT
DTSTAMP:20260421T094109Z
UID:7b4aeac6-89e0-4c92-83ee-d3137cdabaf4
DTSTART;VALUE=DATE:20980503
DTEND;VALUE=DATE:20980504
DESCRIPTION:
LOCATION:
SUMMARY:Teacher Appreciation Day
END:VEVENT
BEGIN:VEVENT
DTSTAMP:20260421T094109Z
UID:cac9075a-07e8-4dbd-b430-1b3a72a27ea3
DTSTART;VALUE=DATE:20990503
DTEND;VALUE=DATE:20990504
DESCRIPTION:
LOCATION:
SUMMARY:Teacher Appreciation Day
END:VEVENT
END:VCALENDAR
