BEGIN:VCALENDAR
VERSION:2.0
PRODID:icalendar-ruby
CALSCALE:GREGORIAN
BEGIN:VTIMEZONE
TZID:America/New_York
BEGIN:DAYLIGHT
DTSTART:20260308T030000
TZOFFSETFROM:-0500
TZOFFSETTO:-0400
RRULE:FREQ=YEARLY;BYDAY=2SU;BYMONTH=3
TZNAME:EDT
END:DAYLIGHT
BEGIN:STANDARD
DTSTART:20261101T010000
TZOFFSETFROM:-0400
TZOFFSETTO:-0500
RRULE:FREQ=YEARLY;BYDAY=1SU;BYMONTH=11
TZNAME:EST
END:STANDARD
END:VTIMEZONE
BEGIN:VEVENT
DTSTAMP:20260421T195007Z
UID:ac86a4af-15b5-4826-90d5-7b07147f23ac
DTSTART;VALUE=DATE:20260512
DTEND;VALUE=DATE:20260513
DESCRIPTION:
LOCATION:
SUMMARY:Election Day – Schools Closed
END:VEVENT
BEGIN:VEVENT
DTSTAMP:20260421T195007Z
UID:c057e3f8-fbd5-4e28-8871-a064cef6a779
DTSTART;VALUE=DATE:20260525
DTEND;VALUE=DATE:20260526
DESCRIPTION:
LOCATION:
SUMMARY:Memorial Day – Schools Closed
END:VEVENT
BEGIN:VEVENT
DTSTAMP:20260421T195007Z
UID:d4c6d58f-2196-4f26-861f-97444d250fdb
DTSTART;VALUE=DATE:20260604
DTEND;VALUE=DATE:20260605
DESCRIPTION:
LOCATION:
SUMMARY:Last Day Instructional Term 
END:VEVENT
BEGIN:VEVENT
DTSTAMP:20260421T195007Z
UID:f13cf525-e319-4efd-8935-5ba3b177f713
DTSTART;VALUE=DATE:20260605
DTEND;VALUE=DATE:20260606
DESCRIPTION:<p>*Days may be converted to instructional days due to school c
 ancellations (i.e.\, inclement weather).</p>
LOCATION:
SUMMARY:OSE Days – Schools Closed*
END:VEVENT
BEGIN:VEVENT
DTSTAMP:20260421T195007Z
UID:c5dd3d48-6c2d-469f-b445-4fbd12a003f5
DTSTART;VALUE=DATE:20260608
DTEND;VALUE=DATE:20260613
DESCRIPTION:<p>*Days may be converted to instructional days due to school c
 ancellations (i.e.\, inclement weather).</p>
LOCATION:
SUMMARY:OSE Days – Schools Closed*
END:VEVENT
BEGIN:VEVENT
DTSTAMP:20260421T195007Z
UID:0d27d4df-4c37-48de-a932-8a438bda44b2
DTSTART;VALUE=DATE:20260615
DTEND;VALUE=DATE:20260616
DESCRIPTION:<p>*Days may be converted to instructional days due to school c
 ancellations (i.e.\, inclement weather).</p>
LOCATION:
SUMMARY:OSE Days – Schools Closed*
END:VEVENT
BEGIN:VEVENT
DTSTAMP:20260421T195007Z
UID:2ae65345-9d3b-4686-ba84-5c3b659a6876
DTSTART;VALUE=DATE:20260615
DTEND;VALUE=DATE:20260616
DESCRIPTION:<p>*Days may be converted to instructional days due to school c
 ancellations (i.e.\, inclement weather).</p>
LOCATION:
SUMMARY:Prep for Closing Day\; Faculty Senate Day*
END:VEVENT
END:VCALENDAR
