BEGIN:VCALENDAR
VERSION:2.0
PRODID:icalendar-ruby
CALSCALE:GREGORIAN
BEGIN:VTIMEZONE
TZID:America/New_York
BEGIN:DAYLIGHT
DTSTART:20260308T030000
TZOFFSETFROM:-0500
TZOFFSETTO:-0400
RRULE:FREQ=YEARLY;BYDAY=2SU;BYMONTH=3
TZNAME:EDT
END:DAYLIGHT
BEGIN:STANDARD
DTSTART:20261101T010000
TZOFFSETFROM:-0400
TZOFFSETTO:-0500
RRULE:FREQ=YEARLY;BYDAY=1SU;BYMONTH=11
TZNAME:EST
END:STANDARD
END:VTIMEZONE
BEGIN:VEVENT
DTSTAMP:20260421T163714Z
UID:a6fae293-3742-4a80-abe0-4247ce0b0bb3
DTSTART;VALUE=DATE:20260420
DTEND;VALUE=DATE:20260423
DESCRIPTION:
LOCATION:
SUMMARY:Scholastic Book Fair 
END:VEVENT
BEGIN:VEVENT
DTSTAMP:20260421T163714Z
UID:dc223901-ef58-46e9-a22d-3ce8222143a7
DTSTART;VALUE=DATE:20260421
DTEND;VALUE=DATE:20260422
DESCRIPTION:
LOCATION:
SUMMARY:Kindergarten Field Trip
END:VEVENT
BEGIN:VEVENT
DTSTAMP:20260421T163714Z
UID:f77fe7a5-596e-4c72-b8af-e583ce16758e
DTSTART;VALUE=DATE:20260422
DTEND;VALUE=DATE:20260423
DESCRIPTION:<p>Parent Pick-up dismissal at 12:20 </p><p>Buses 122:30-12:35<
 /p>
LOCATION:
SUMMARY:3 hour Early Out for  Students 
END:VEVENT
BEGIN:VEVENT
DTSTAMP:20260421T163714Z
UID:5b8de924-00f4-40dc-853a-dde5a8c2673a
DTSTART;VALUE=DATE:20260422
DTEND;VALUE=DATE:20260423
DESCRIPTION:<p>Thank you Terri and Kelley for all you do!</p>
LOCATION:
SUMMARY:Administrative Professional's Day
END:VEVENT
BEGIN:VEVENT
DTSTAMP:20260421T163714Z
UID:78f9bbee-d7bc-4c13-a5fc-2391064c408c
DTSTART:20260423T170000
DTEND:20260423T180000
DESCRIPTION:
LOCATION:
SUMMARY:SSES Talent Show 
END:VEVENT
BEGIN:VEVENT
DTSTAMP:20260421T163714Z
UID:6f3d2631-a123-465a-879d-4d2bec4a1508
DTSTART;VALUE=DATE:20260428
DTEND;VALUE=DATE:20260429
DESCRIPTION:<p>Thank you to ALL of our FABULOUS BUS DRIVERS! </p>
LOCATION:
SUMMARY:Bus Driver Appreciation Day
END:VEVENT
BEGIN:VEVENT
DTSTAMP:20260421T163714Z
UID:0d9aa8ad-9bdf-4b2d-bd74-8f71a412b742
DTSTART:20260501T080000
DTEND:20260501T090000
DESCRIPTION:
LOCATION:
SUMMARY:Midterms 4th 9 Weeks 
END:VEVENT
BEGIN:VEVENT
DTSTAMP:20260421T163714Z
UID:8eb08423-4c67-477d-90f0-a79de079d3e4
DTSTART;VALUE=DATE:20260512
DTEND;VALUE=DATE:20260513
DESCRIPTION:
LOCATION:
SUMMARY:Election Day-No School 
END:VEVENT
BEGIN:VEVENT
DTSTAMP:20260421T163714Z
UID:bd76ea7b-d3db-4263-b13a-a7bca5bc8c91
DTSTART;VALUE=DATE:20260525
DTEND;VALUE=DATE:20260526
DESCRIPTION:
LOCATION:
SUMMARY:Holiday-No School 
END:VEVENT
BEGIN:VEVENT
DTSTAMP:20260421T163714Z
UID:bb6ea321-2124-4052-bda4-147b52bb3ed0
DTSTART;VALUE=DATE:20260604
DTEND;VALUE=DATE:20260605
DESCRIPTION:
LOCATION:
SUMMARY:Last Day for Students (Subject to Change)
END:VEVENT
BEGIN:VEVENT
DTSTAMP:20260421T163714Z
UID:df28dac4-8a08-49af-88a2-41e7eb396647
DTSTART;VALUE=DATE:20260604
DTEND;VALUE=DATE:20260605
DESCRIPTION:
LOCATION:
SUMMARY:Last Day Instructional Term 
END:VEVENT
BEGIN:VEVENT
DTSTAMP:20260421T163714Z
UID:de0746e2-593e-4eac-8eee-bccfb0f28504
DTSTART;VALUE=DATE:20260605
DTEND;VALUE=DATE:20260606
DESCRIPTION:<p>*Days may be converted to instructional days due to school c
 ancellations (i.e.\, inclement weather).</p>
LOCATION:
SUMMARY:OSE Days – Schools Closed*
END:VEVENT
BEGIN:VEVENT
DTSTAMP:20260421T163714Z
UID:e991270d-9d73-40a7-a803-3d87410c2cdf
DTSTART;VALUE=DATE:20260608
DTEND;VALUE=DATE:20260613
DESCRIPTION:<p>*Days may be converted to instructional days due to school c
 ancellations (i.e.\, inclement weather).</p>
LOCATION:
SUMMARY:OSE Days – Schools Closed*
END:VEVENT
BEGIN:VEVENT
DTSTAMP:20260421T163714Z
UID:88a29974-7cb7-46f5-bbca-c1d1bc96c4b4
DTSTART;VALUE=DATE:20260615
DTEND;VALUE=DATE:20260616
DESCRIPTION:<p>*Days may be converted to instructional days due to school c
 ancellations (i.e.\, inclement weather).</p>
LOCATION:
SUMMARY:OSE Days – Schools Closed*
END:VEVENT
BEGIN:VEVENT
DTSTAMP:20260421T163714Z
UID:f1eccae8-c49a-459c-8d3c-6c313f15f6bd
DTSTART;VALUE=DATE:20260615
DTEND;VALUE=DATE:20260616
DESCRIPTION:<p>*Days may be converted to instructional days due to school c
 ancellations (i.e.\, inclement weather).</p>
LOCATION:
SUMMARY:Prep for Closing Day\; Faculty Senate Day*
END:VEVENT
END:VCALENDAR
