BEGIN:VCALENDAR
VERSION:2.0
PRODID:icalendar-ruby
CALSCALE:GREGORIAN
BEGIN:VTIMEZONE
TZID:America/Chicago
BEGIN:DAYLIGHT
DTSTART:20260308T030000
TZOFFSETFROM:-0600
TZOFFSETTO:-0500
RRULE:FREQ=YEARLY;BYDAY=2SU;BYMONTH=3
TZNAME:CDT
END:DAYLIGHT
BEGIN:STANDARD
DTSTART:20261101T010000
TZOFFSETFROM:-0500
TZOFFSETTO:-0600
RRULE:FREQ=YEARLY;BYDAY=1SU;BYMONTH=11
TZNAME:CST
END:STANDARD
END:VTIMEZONE
BEGIN:VEVENT
DTSTAMP:20260420T040147Z
UID:55aa1a7e-bc12-43f6-8762-b82e3ab0a859
DTSTART:20260420T144500
DTEND:20260420T163000
DESCRIPTION:https://raypec.gofmx.com/scheduling/requests/3185751/occurrence
 s/7696470
LOCATION:20501 South School Road Peculiar\, Mo 64078
SUMMARY:Green House Club Group B Meeting
END:VEVENT
BEGIN:VEVENT
DTSTAMP:20260420T040147Z
UID:d0b32b2d-660e-4df1-8fd8-84e35bb931fb
DTSTART:20260420T144500
DTEND:20260420T163000
DESCRIPTION:https://raypec.gofmx.com/scheduling/requests/3235296/occurrence
 s/7793174
LOCATION:20501 South School Road Peculiar\, Mo 64078
SUMMARY:SMS Track Practice
END:VEVENT
BEGIN:VEVENT
DTSTAMP:20260420T040147Z
UID:b1c43e50-ef78-4525-b610-b31a349f57e2
DTSTART:20260420T150000
DTEND:20260420T163000
DESCRIPTION:https://raypec.gofmx.com/scheduling/requests/3194201/occurrence
 s/7728897
LOCATION:20501 South School Road Peculiar\, Mo 64078
SUMMARY:Magic the Gathering Club
END:VEVENT
BEGIN:VEVENT
DTSTAMP:20260420T040147Z
UID:854df372-b0c2-4c5c-9837-825b55693326
DTSTART:20260421T143000
DTEND:20260421T163000
DESCRIPTION:https://raypec.gofmx.com/scheduling/requests/3257001/occurrence
 s/7880215
LOCATION:20501 South School Road Peculiar\, Mo 64078
SUMMARY:SMS VB Open Gym
END:VEVENT
BEGIN:VEVENT
DTSTAMP:20260420T040147Z
UID:99e8f85b-6d2d-4417-b974-9773ef0d8e60
DTSTART:20260421T144500
DTEND:20260421T163000
DESCRIPTION:https://raypec.gofmx.com/scheduling/requests/3235296/occurrence
 s/7793175
LOCATION:20501 South School Road Peculiar\, Mo 64078
SUMMARY:SMS Track Practice
END:VEVENT
BEGIN:VEVENT
DTSTAMP:20260420T040147Z
UID:cda5e60d-67ae-4810-8568-93ffcad6df0d
DTSTART:20260421T160000
DTEND:20260421T190000
DESCRIPTION:https://raypec.gofmx.com/scheduling/requests/3129151/occurrence
 s/7474438
LOCATION:20501 South School Road Peculiar\, Mo 64078
SUMMARY:Track: Boys MS SOUTH Campbell Middle\,Grain Valley Middle\,Pembroke
  Hill
END:VEVENT
BEGIN:VEVENT
DTSTAMP:20260420T040147Z
UID:45418492-1fa6-49a8-a1aa-5bb02f26204e
DTSTART:20260421T160000
DTEND:20260421T190000
DESCRIPTION:https://raypec.gofmx.com/scheduling/requests/3129188/occurrence
 s/7474505
LOCATION:20501 South School Road Peculiar\, Mo 64078
SUMMARY:Track: Girls MS SOUTH Campbell Middle\,Grain Valley Middle\,Pembrok
 e Hill
END:VEVENT
BEGIN:VEVENT
DTSTAMP:20260420T040147Z
UID:8ee36c98-0409-4d2f-b711-f0dc8bc43dde
DTSTART:20260422T144500
DTEND:20260422T163000
DESCRIPTION:https://raypec.gofmx.com/scheduling/requests/3235296/occurrence
 s/7793176
LOCATION:20501 South School Road Peculiar\, Mo 64078
SUMMARY:SMS Track Practice
END:VEVENT
BEGIN:VEVENT
DTSTAMP:20260420T040147Z
UID:0c3f8099-1ff2-40b1-be24-4625838048fb
DTSTART:20260423T143000
DTEND:20260423T163000
DESCRIPTION:https://raypec.gofmx.com/scheduling/requests/3252407/occurrence
 s/7863918
LOCATION:20501 South School Road Peculiar\, Mo 64078
SUMMARY:SMS Volleyball Open Gym
END:VEVENT
BEGIN:VEVENT
DTSTAMP:20260420T040147Z
UID:a29624e8-6b90-4386-b3f2-d47790725481
DTSTART:20260423T144500
DTEND:20260423T163000
DESCRIPTION:https://raypec.gofmx.com/scheduling/requests/3235296/occurrence
 s/7793177
LOCATION:20501 South School Road Peculiar\, Mo 64078
SUMMARY:SMS Track Practice
END:VEVENT
BEGIN:VEVENT
DTSTAMP:20260420T040147Z
UID:73e14323-4da4-4410-9743-cc6fc624f954
DTSTART:20260423T160000
DTEND:20260423T190000
DESCRIPTION:https://raypec.gofmx.com/scheduling/requests/3129152/occurrence
 s/7474439
LOCATION:20501 South School Road Peculiar\, Mo 64078
SUMMARY:Track: Boys MS SOUTH Nowlin Middle\,Raymore Peculiar South Middle S
 chool
END:VEVENT
BEGIN:VEVENT
DTSTAMP:20260420T040147Z
UID:2188a188-7f37-45bc-93e0-306f6e68a16b
DTSTART:20260423T160000
DTEND:20260423T190000
DESCRIPTION:https://raypec.gofmx.com/scheduling/requests/3129189/occurrence
 s/7474506
LOCATION:20501 South School Road Peculiar\, Mo 64078
SUMMARY:Track: Girls MS SOUTH Nowlin Middle\,Raymore Peculiar South Middle 
 School
END:VEVENT
BEGIN:VEVENT
DTSTAMP:20260420T040147Z
UID:068cbdda-d30b-49e5-a4bc-4c77cc4ecf94
DTSTART;VALUE=DATE:20260424
DTEND;VALUE=DATE:20260425
DESCRIPTION:https://raypec.gofmx.com/scheduling/requests/3081691/occurrence
 s/7286979
LOCATION:Academy\, Administrative Services Center (ASC)\, Bridle Ridge Elem
 entary\, Creekmoor Elementary\, Eagle Glen Elementary\, East Middle School
 \, High School\, LEAD Center\, Peculiar Elementary\, Raymore Elementary\, 
 Ray-Pec East (NGC)\, Shull Early Learning Center\, South Middle School\, S
 tonegate Elementary\, and Timber Creek Elementary
SUMMARY:Early Release (time's communicated by building) - Staff Collaborati
 on
END:VEVENT
BEGIN:VEVENT
DTSTAMP:20260420T040147Z
UID:a2a330af-5e4b-45fe-968d-99056a0b7771
DTSTART:20260424T065000
DTEND:20260424T070500
DESCRIPTION:https://raypec.gofmx.com/scheduling/requests/3140339/occurrence
 s/7531740
LOCATION:20501 South School Road Peculiar\, Mo 64078
SUMMARY:NJHS meeting
END:VEVENT
BEGIN:VEVENT
DTSTAMP:20260420T040147Z
UID:38938203-a981-4332-ab44-8ebdbcbb8c80
DTSTART:20260424T144500
DTEND:20260424T163000
DESCRIPTION:https://raypec.gofmx.com/scheduling/requests/3235296/occurrence
 s/7793178
LOCATION:20501 South School Road Peculiar\, Mo 64078
SUMMARY:SMS Track Practice
END:VEVENT
BEGIN:VEVENT
DTSTAMP:20260420T040147Z
UID:1e3eab1a-1901-4451-be1e-1fe9bb79b2d5
DTSTART:20260424T150000
DTEND:20260424T220000
DESCRIPTION:https://raypec.gofmx.com/scheduling/requests/3244559/occurrence
 s/7831665
LOCATION:20501 South School Road Peculiar\, Mo 64078
SUMMARY:SMS 8th Grade Formal
END:VEVENT
BEGIN:VEVENT
DTSTAMP:20260420T040147Z
UID:bae259d0-2a6f-4437-add3-e6d9b51e8a80
DTSTART:20260427T143000
DTEND:20260427T163000
DESCRIPTION:https://raypec.gofmx.com/scheduling/requests/3252407/occurrence
 s/7863919
LOCATION:20501 South School Road Peculiar\, Mo 64078
SUMMARY:SMS Volleyball Open Gym
END:VEVENT
BEGIN:VEVENT
DTSTAMP:20260420T040147Z
UID:030dedc6-a54a-41dd-b9cb-a11660ad1350
DTSTART:20260427T144500
DTEND:20260427T163000
DESCRIPTION:https://raypec.gofmx.com/scheduling/requests/3185752/occurrence
 s/7696479
LOCATION:20501 South School Road Peculiar\, Mo 64078
SUMMARY:Green House Club Group A Meeting
END:VEVENT
BEGIN:VEVENT
DTSTAMP:20260420T040147Z
UID:ad430857-f681-4748-b3b4-130886250516
DTSTART:20260427T144500
DTEND:20260427T163000
DESCRIPTION:https://raypec.gofmx.com/scheduling/requests/3235296/occurrence
 s/7793179
LOCATION:20501 South School Road Peculiar\, Mo 64078
SUMMARY:SMS Track Practice
END:VEVENT
BEGIN:VEVENT
DTSTAMP:20260420T040147Z
UID:49fd5634-9d41-4063-ac4a-3ac87622e652
DTSTART:20260427T150000
DTEND:20260427T163000
DESCRIPTION:https://raypec.gofmx.com/scheduling/requests/3194201/occurrence
 s/7728898
LOCATION:20501 South School Road Peculiar\, Mo 64078
SUMMARY:Magic the Gathering Club
END:VEVENT
BEGIN:VEVENT
DTSTAMP:20260420T040147Z
UID:02070790-5a97-4517-95b7-adbdc8389380
DTSTART:20260427T160000
DTEND:20260427T190000
DESCRIPTION:https://raypec.gofmx.com/scheduling/requests/3129153/occurrence
 s/7474440
LOCATION:20501 South School Road Peculiar\, Mo 64078
SUMMARY:Track: Boys MS SOUTH Adrian\,Clinton Middle\,Grain Valley Middle\,K
 earney Middle School\,Pleasant Hill Middle School\,Raymore Peculiar South 
 Middle School
END:VEVENT
BEGIN:VEVENT
DTSTAMP:20260420T040147Z
UID:8883982b-ded6-4e01-8e39-41e57e6ddb5c
DTSTART:20260427T160000
DTEND:20260427T190000
DESCRIPTION:https://raypec.gofmx.com/scheduling/requests/3129190/occurrence
 s/7474507
LOCATION:20501 South School Road Peculiar\, Mo 64078
SUMMARY:Track: Girls MS SOUTH Adrian\,Clinton Middle\,Grain Valley Middle\,
 Kearney Middle School\,Pleasant Hill Middle School\,Raymore Peculiar South
  Middle School
END:VEVENT
BEGIN:VEVENT
DTSTAMP:20260420T040147Z
UID:85b1e2be-2641-4d99-baaf-95449ab170a5
DTSTART:20260428T144500
DTEND:20260428T163000
DESCRIPTION:https://raypec.gofmx.com/scheduling/requests/3235296/occurrence
 s/7793180
LOCATION:20501 South School Road Peculiar\, Mo 64078
SUMMARY:SMS Track Practice
END:VEVENT
BEGIN:VEVENT
DTSTAMP:20260420T040147Z
UID:44b6a59b-fd59-446f-aa09-b56c40616d3f
DTSTART:20260428T150000
DTEND:20260428T160000
DESCRIPTION:https://raypec.gofmx.com/scheduling/requests/3256514/occurrence
 s/7878741
LOCATION:20501 South School Road Peculiar\, Mo 64078
SUMMARY:SMS Delta Team Reception
END:VEVENT
BEGIN:VEVENT
DTSTAMP:20260420T040147Z
UID:631a03b5-d1c0-4f91-a632-c9e9cb49b8fb
DTSTART:20260429T144500
DTEND:20260429T163000
DESCRIPTION:https://raypec.gofmx.com/scheduling/requests/3235296/occurrence
 s/7793181
LOCATION:20501 South School Road Peculiar\, Mo 64078
SUMMARY:SMS Track Practice
END:VEVENT
BEGIN:VEVENT
DTSTAMP:20260420T040147Z
UID:0f2521d6-6701-450e-a6df-76ddb8e95bd4
DTSTART:20260430T144500
DTEND:20260430T163000
DESCRIPTION:https://raypec.gofmx.com/scheduling/requests/3235296/occurrence
 s/7793182
LOCATION:20501 South School Road Peculiar\, Mo 64078
SUMMARY:SMS Track Practice
END:VEVENT
BEGIN:VEVENT
DTSTAMP:20260420T040147Z
UID:964705e2-6207-447b-9b49-d0fef14e733b
DTSTART:20260430T160000
DTEND:20260430T190000
DESCRIPTION:https://raypec.gofmx.com/scheduling/requests/3129154/occurrence
 s/7474441
LOCATION:High School and South Middle School
SUMMARY:Track: Boys MS SOUTH Center Middle School\,East Trails Middle\,Gran
 dview Middle School\,Hickman Mills Middle School\,Pleasant Lea Middle\,Ray
 more Peculiar South Middle School\,Raymore-Peculiar East Middle …
END:VEVENT
BEGIN:VEVENT
DTSTAMP:20260420T040147Z
UID:74280485-14ad-42f7-9b6b-83d76e24d66d
DTSTART:20260430T160000
DTEND:20260430T190000
DESCRIPTION:https://raypec.gofmx.com/scheduling/requests/3129191/occurrence
 s/7474508
LOCATION:High School and South Middle School
SUMMARY:Track: Girls MS SOUTH Center Middle School\,East Trails Middle\,Gra
 ndview Middle School\,Hickman Mills Middle School\,Pleasant Lea Middle\,Ra
 ymore Peculiar South Middle School\,Raymore-Peculiar East Middle…
END:VEVENT
BEGIN:VEVENT
DTSTAMP:20260420T040147Z
UID:09db6706-d1f3-4cc0-8886-277f185ad54e
DTSTART:20260501T144500
DTEND:20260501T163000
DESCRIPTION:https://raypec.gofmx.com/scheduling/requests/3235296/occurrence
 s/7793183
LOCATION:20501 South School Road Peculiar\, Mo 64078
SUMMARY:SMS Track Practice
END:VEVENT
BEGIN:VEVENT
DTSTAMP:20260420T040147Z
UID:280305c2-2c17-499a-9001-138a23efba56
DTSTART:20260504T144500
DTEND:20260504T163000
DESCRIPTION:https://raypec.gofmx.com/scheduling/requests/3185751/occurrence
 s/7696471
LOCATION:20501 South School Road Peculiar\, Mo 64078
SUMMARY:Green House Club Group B Meeting
END:VEVENT
BEGIN:VEVENT
DTSTAMP:20260420T040147Z
UID:ea6a6c07-0736-4aed-a506-ae7f831feb4f
DTSTART:20260504T144500
DTEND:20260504T163000
DESCRIPTION:https://raypec.gofmx.com/scheduling/requests/3235296/occurrence
 s/7793184
LOCATION:20501 South School Road Peculiar\, Mo 64078
SUMMARY:SMS Track Practice
END:VEVENT
BEGIN:VEVENT
DTSTAMP:20260420T040147Z
UID:5fa31537-563a-4128-a41e-a7348a2d1638
DTSTART:20260504T150000
DTEND:20260504T163000
DESCRIPTION:https://raypec.gofmx.com/scheduling/requests/3194201/occurrence
 s/7728899
LOCATION:20501 South School Road Peculiar\, Mo 64078
SUMMARY:Magic the Gathering Club
END:VEVENT
BEGIN:VEVENT
DTSTAMP:20260420T040147Z
UID:031c831a-eb22-4d87-a55f-31a84106add2
DTSTART:20260504T160000
DTEND:20260504T190000
DESCRIPTION:https://raypec.gofmx.com/scheduling/requests/3129155/occurrence
 s/7474442
LOCATION:20501 South School Road Peculiar\, Mo 64078
SUMMARY:Track: Boys MS SOUTH Raymore Peculiar South Middle School
END:VEVENT
BEGIN:VEVENT
DTSTAMP:20260420T040147Z
UID:7e55569e-54bf-4bc4-8f98-5b2c967eb2ee
DTSTART:20260505T144500
DTEND:20260505T163000
DESCRIPTION:https://raypec.gofmx.com/scheduling/requests/3235296/occurrence
 s/7793185
LOCATION:20501 South School Road Peculiar\, Mo 64078
SUMMARY:SMS Track Practice
END:VEVENT
BEGIN:VEVENT
DTSTAMP:20260420T040147Z
UID:4caa177a-3867-4e3f-a225-2ff12141aeeb
DTSTART:20260505T160000
DTEND:20260505T190000
DESCRIPTION:https://raypec.gofmx.com/scheduling/requests/3129156/occurrence
 s/7474443
LOCATION:20501 South School Road Peculiar\, Mo 64078
SUMMARY:Track: Boys MS SOUTH Excelsior Springs Middle School\,Platte County
  Middle School\,Platte Purchase Middle School\,Raymore Peculiar South Midd
 le School\,Raytown Middle School\,Warrensburg Middle School
END:VEVENT
BEGIN:VEVENT
DTSTAMP:20260420T040147Z
UID:e91545da-7f90-496a-815f-ffb7c7ca9225
DTSTART:20260505T160000
DTEND:20260505T190000
DESCRIPTION:https://raypec.gofmx.com/scheduling/requests/3129193/occurrence
 s/7474510
LOCATION:20501 South School Road Peculiar\, Mo 64078
SUMMARY:Track: Girls MS SOUTH Excelsior Springs Middle School\,Platte City 
 Middle School\,Platte Purchase Middle School\,Raymore Peculiar South Middl
 e School\,Raytown Middle School\,Warrensburg Middle School
END:VEVENT
BEGIN:VEVENT
DTSTAMP:20260420T040147Z
UID:6e52451e-c417-4aae-b874-8d157edc2240
DTSTART:20260506T144500
DTEND:20260506T163000
DESCRIPTION:https://raypec.gofmx.com/scheduling/requests/3235296/occurrence
 s/7793186
LOCATION:20501 South School Road Peculiar\, Mo 64078
SUMMARY:SMS Track Practice
END:VEVENT
BEGIN:VEVENT
DTSTAMP:20260420T040147Z
UID:dfd6d9ce-cec9-464c-87fd-26f26f03e3b8
DTSTART;VALUE=DATE:20260507
DTEND;VALUE=DATE:20260508
DESCRIPTION:https://raypec.gofmx.com/scheduling/requests/3129194/occurrence
 s/7474511
LOCATION:20501 South School Road Peculiar\, Mo 64078
SUMMARY:Track: Girls MS SOUTH Raymore Peculiar South Middle School
END:VEVENT
BEGIN:VEVENT
DTSTAMP:20260420T040147Z
UID:5c734bc2-ca11-4737-809b-1e92c9a60c05
DTSTART:20260507T144500
DTEND:20260507T163000
DESCRIPTION:https://raypec.gofmx.com/scheduling/requests/3235296/occurrence
 s/7793187
LOCATION:20501 South School Road Peculiar\, Mo 64078
SUMMARY:SMS Track Practice
END:VEVENT
BEGIN:VEVENT
DTSTAMP:20260420T040147Z
UID:fe981065-b01b-466f-b6b3-196c739ad137
DTSTART:20260507T160000
DTEND:20260507T190000
DESCRIPTION:https://raypec.gofmx.com/scheduling/requests/3129157/occurrence
 s/7474444
LOCATION:20501 South School Road Peculiar\, Mo 64078
SUMMARY:Track: Boys MS SOUTH Raymore Peculiar South Middle School
END:VEVENT
BEGIN:VEVENT
DTSTAMP:20260420T040147Z
UID:89892f76-6bf4-4a9c-8a93-2e09ee54a6ba
DTSTART:20260508T144500
DTEND:20260508T163000
DESCRIPTION:https://raypec.gofmx.com/scheduling/requests/3235296/occurrence
 s/7793188
LOCATION:20501 South School Road Peculiar\, Mo 64078
SUMMARY:SMS Track Practice
END:VEVENT
BEGIN:VEVENT
DTSTAMP:20260420T040147Z
UID:bb05afcd-b7af-4da4-a06b-64475679e882
DTSTART:20260511T144500
DTEND:20260511T163000
DESCRIPTION:https://raypec.gofmx.com/scheduling/requests/3185754/occurrence
 s/7696481
LOCATION:20501 South School Road Peculiar\, Mo 64078
SUMMARY:Green House Club End of Season Celebration - Group A & B
END:VEVENT
BEGIN:VEVENT
DTSTAMP:20260420T040147Z
UID:2f2ab261-d456-4edb-9bd7-dee438beabd4
DTSTART:20260511T150000
DTEND:20260511T163000
DESCRIPTION:https://raypec.gofmx.com/scheduling/requests/3194201/occurrence
 s/7728900
LOCATION:20501 South School Road Peculiar\, Mo 64078
SUMMARY:Magic the Gathering Club
END:VEVENT
BEGIN:VEVENT
DTSTAMP:20260420T040147Z
UID:5b4fa0f4-9eba-4568-9a45-53e7e1937050
DTSTART:20260512T174500
DTEND:20260512T210000
DESCRIPTION:https://raypec.gofmx.com/scheduling/requests/3195267/occurrence
 s/7732089
LOCATION:20501 South School Road Peculiar\, Mo 64078
SUMMARY:SMS NJHS Induction
END:VEVENT
BEGIN:VEVENT
DTSTAMP:20260420T040147Z
UID:8b9e398c-4d87-44b8-af61-09fd31e0e911
DTSTART;VALUE=DATE:20260521
DTEND;VALUE=DATE:20260522
DESCRIPTION:https://raypec.gofmx.com/scheduling/requests/3081759/occurrence
 s/7287162
LOCATION:Academy\, Administrative Services Center (ASC)\, Bridle Ridge Elem
 entary\, Creekmoor Elementary\, Eagle Glen Elementary\, East Middle School
 \, High School\, LEAD Center\, Peculiar Elementary\, Raymore Elementary\, 
 Ray-Pec East (NGC)\, Shull Early Learning Center\, South Middle School\, S
 tonegate Elementary\, and Timber Creek Elementary
SUMMARY:Early Release (time's communicated by building)
END:VEVENT
BEGIN:VEVENT
DTSTAMP:20260420T040147Z
UID:e0a6d761-a0b4-4caf-b778-a37bd57d483f
DTSTART;VALUE=DATE:20260525
DTEND;VALUE=DATE:20260526
DESCRIPTION:https://raypec.gofmx.com/scheduling/requests/3081796/occurrence
 s/7287222
LOCATION:Academy\, Administrative Services Center (ASC)\, Bridle Ridge Elem
 entary\, Creekmoor Elementary\, Eagle Glen Elementary\, East Middle School
 \, High School\, LEAD Center\, Peculiar Elementary\, Raymore Elementary\, 
 Ray-Pec East (NGC)\, Shull Early Learning Center\, South Middle School\, S
 tonegate Elementary\, and Timber Creek Elementary
SUMMARY:Holiday - Offices & Facilities Closed
END:VEVENT
BEGIN:VEVENT
DTSTAMP:20260420T040147Z
UID:cf6e4780-c696-47db-aa00-02a93f617e82
DTSTART;VALUE=DATE:20260619
DTEND;VALUE=DATE:20260620
DESCRIPTION:https://raypec.gofmx.com/scheduling/requests/3081796/occurrence
 s/7287223
LOCATION:Academy\, Administrative Services Center (ASC)\, Bridle Ridge Elem
 entary\, Creekmoor Elementary\, Eagle Glen Elementary\, East Middle School
 \, High School\, LEAD Center\, Peculiar Elementary\, Raymore Elementary\, 
 Ray-Pec East (NGC)\, Shull Early Learning Center\, South Middle School\, S
 tonegate Elementary\, and Timber Creek Elementary
SUMMARY:Holiday - Offices & Facilities Closed
END:VEVENT
BEGIN:VEVENT
DTSTAMP:20260420T040147Z
UID:7e07511d-45a5-47a5-a387-416a6e365b21
DTSTART;VALUE=DATE:20260703
DTEND;VALUE=DATE:20260704
DESCRIPTION:https://raypec.gofmx.com/scheduling/requests/3081796/occurrence
 s/7287224
LOCATION:Academy\, Administrative Services Center (ASC)\, Bridle Ridge Elem
 entary\, Creekmoor Elementary\, Eagle Glen Elementary\, East Middle School
 \, High School\, LEAD Center\, Peculiar Elementary\, Raymore Elementary\, 
 Ray-Pec East (NGC)\, Shull Early Learning Center\, South Middle School\, S
 tonegate Elementary\, and Timber Creek Elementary
SUMMARY:Holiday - Offices & Facilities Closed
END:VEVENT
END:VCALENDAR
