BEGIN:VCALENDAR
VERSION:2.0
PRODID:icalendar-ruby
CALSCALE:GREGORIAN
BEGIN:VTIMEZONE
TZID:America/New_York
BEGIN:DAYLIGHT
DTSTART:20260308T030000
TZOFFSETFROM:-0500
TZOFFSETTO:-0400
RRULE:FREQ=YEARLY;BYDAY=2SU;BYMONTH=3
TZNAME:EDT
END:DAYLIGHT
BEGIN:STANDARD
DTSTART:20261101T010000
TZOFFSETFROM:-0400
TZOFFSETTO:-0500
RRULE:FREQ=YEARLY;BYDAY=1SU;BYMONTH=11
TZNAME:EST
END:STANDARD
END:VTIMEZONE
BEGIN:VEVENT
DTSTAMP:20260422T235823Z
UID:87cf43d9-996c-4ff6-bbb6-6f55e61c5dbd
DTSTART:20260428T093000
DTEND:20260428T103000
DESCRIPTION:<div class="elementToProof" data-ogsc="rgb(0\, 0\, 0)" style="-
 webkit-tap-highlight-color: rgba(26\, 26\, 26\, 0.3)\; font-size: 12pt\; -
 webkit-text-size-adjust: 117.599998%\; line-height: normal\; margin: 0px\;
  font-family: Aptos\, Aptos_EmbeddedFont\, Aptos_MSFontService\, Calibri\,
  Helvetica\, sans-serif\;">Free Sports Physicals Tuesday April 28 from 9-1
 0:30am.</div><div class="elementToProof" data-ogsc="rgb(0\, 0\, 0)" style=
 "-webkit-tap-highlight-color: rgba(26\, 26\, 26\, 0.3)\; font-size: 12pt\;
  -webkit-text-size-adjust: 117.599998%\; line-height: normal\; margin: 0px
 \; font-family: Aptos\, Aptos_EmbeddedFont\, Aptos_MSFontService\, Calibri
 \, Helvetica\, sans-serif\;"><br></div><div class="elementToProof" data-og
 sc="rgb(0\, 0\, 0)" style="-webkit-tap-highlight-color: rgba(26\, 26\, 26\
 , 0.3)\; font-size: 12pt\; -webkit-text-size-adjust: 117.599998%\; line-he
 ight: normal\; margin: 0px\; font-family: Aptos\, Aptos_EmbeddedFont\, Apt
 os_MSFontService\, Calibri\, Helvetica\, sans-serif\;">Free sports physica
 ls are available for student athletes ages 13 to 19.</div><div class="elem
 entToProof" data-ogsc="rgb(0\, 0\, 0)" style="-webkit-tap-highlight-color:
  rgba(26\, 26\, 26\, 0.3)\; font-size: 12pt\; -webkit-text-size-adjust: 11
 7.599998%\; line-height: normal\; margin: 0px\; font-family: Aptos\, Aptos
 _EmbeddedFont\, Aptos_MSFontService\, Calibri\, Helvetica\, sans-serif\;">
 Parent/guardian does not have to be present\, but must complete forms in i
 nk with signature.</div><div class="elementToProof" data-ogsc="rgb(0\, 0\,
  0)" style="-webkit-tap-highlight-color: rgba(26\, 26\, 26\, 0.3)\; font-s
 ize: 12pt\; -webkit-text-size-adjust: 117.599998%\; line-height: normal\; 
 margin: 0px\; font-family: Aptos\, Aptos_EmbeddedFont\, Aptos_MSFontServic
 e\, Calibri\, Helvetica\, sans-serif\;">No appointment necessary.</div><di
 v class="elementToProof" data-ogsc="rgb(0\, 0\, 0)" style="-webkit-tap-hig
 hlight-color: rgba(26\, 26\, 26\, 0.3)\; font-size: 12pt\; -webkit-text-si
 ze-adjust: 117.599998%\; line-height: normal\; margin: 0px\; font-family: 
 Aptos\, Aptos_EmbeddedFont\, Aptos_MSFontService\, Calibri\, Helvetica\, s
 ans-serif\;">Physicals are performed by athletic trainers and orthopedic s
 taff.</div><div class="elementToProof" data-ogsc="rgb(0\, 0\, 0)" style="-
 webkit-tap-highlight-color: rgba(26\, 26\, 26\, 0.3)\; font-size: 12pt\; -
 webkit-text-size-adjust: 117.599998%\; font-family: Aptos\, Aptos_Embedded
 Font\, Aptos_MSFontService\, Calibri\, Helvetica\, sans-serif\;">&nbsp\;</
 div>
LOCATION:Sandy Hook\, KY 41171\, USA
SUMMARY:‼️FREE SPORTS PHYSICAL 2026‼️
END:VEVENT
BEGIN:VEVENT
DTSTAMP:20260422T235823Z
UID:d202c239-2cab-4489-9c59-dc1636dde18c
DTSTART:20260509T190000
DTEND:20260509T220000
DESCRIPTION:<p dir="ltr" style="-webkit-tap-highlight-color: rgba(26\, 26\,
  26\, 0.3)\; font-family: Aptos\, Aptos_MSFontService\, -apple-system\, Ro
 boto\, Arial\, Helvetica\, sans-serif\; font-size: 18.816px\; -webkit-text
 -size-adjust: 117.599998%\; line-height: normal\; margin-bottom: 12px\;"><
 span data-ogsc="rgb(0\, 0\, 0)" style="font-size: 12pt\;">🎭 Moonlight M
 asquerade 2026 🎭✨</span></p><p style="-webkit-tap-highlight-color: rg
 ba(26\, 26\, 26\, 0.3)\; font-family: Aptos\, Aptos_MSFontService\, -apple
 -system\, Roboto\, Arial\, Helvetica\, sans-serif\; font-size: 18.816px\; 
 -webkit-text-size-adjust: 117.599998%\; line-height: normal\; margin-botto
 m: 12px\; min-height: 13.8px\;"><span data-ogsc="rgb(0\, 0\, 0)" style="fo
 nt-size: 7.6pt\;"><br></span></p><p style="-webkit-tap-highlight-color: rg
 ba(26\, 26\, 26\, 0.3)\; font-family: Aptos\, Aptos_MSFontService\, -apple
 -system\, Roboto\, Arial\, Helvetica\, sans-serif\; font-size: 18.816px\; 
 -webkit-text-size-adjust: 117.599998%\; line-height: normal\; margin-botto
 m: 12px\;"><span data-ogsc="rgb(0\, 0\, 0)" style="font-size: 12pt\;">Elli
 ott County High School is getting ready for a magical night you won’t wa
 nt to miss! 🌙✨</span></p><p style="-webkit-tap-highlight-color: rgba(
 26\, 26\, 26\, 0.3)\; font-family: Aptos\, Aptos_MSFontService\, -apple-sy
 stem\, Roboto\, Arial\, Helvetica\, sans-serif\; font-size: 18.816px\; -we
 bkit-text-size-adjust: 117.599998%\; line-height: normal\; margin-bottom: 
 12px\; min-height: 13.8px\;"><span data-ogsc="rgb(0\, 0\, 0)" style="font-
 size: 7.6pt\;"><br></span></p><p style="-webkit-tap-highlight-color: rgba(
 26\, 26\, 26\, 0.3)\; font-family: Aptos\, Aptos_MSFontService\, -apple-sy
 stem\, Roboto\, Arial\, Helvetica\, sans-serif\; font-size: 18.816px\; -we
 bkit-text-size-adjust: 117.599998%\; line-height: normal\; margin-bottom: 
 12px\;"><span data-ogsc="rgb(0\, 0\, 0)" style="font-size: 12pt\;">📍 Th
 e Old Gym</span></p><p style="-webkit-tap-highlight-color: rgba(26\, 26\, 
 26\, 0.3)\; font-family: Aptos\, Aptos_MSFontService\, -apple-system\, Rob
 oto\, Arial\, Helvetica\, sans-serif\; font-size: 18.816px\; -webkit-text-
 size-adjust: 117.599998%\; line-height: normal\; margin-bottom: 12px\;"><s
 pan data-ogsc="rgb(0\, 0\, 0)" style="font-size: 12pt\;">🗓&nbsp\;<span 
 dir="ltr" style="-webkit-touch-callout: none\; font-size: inherit !importa
 nt\;">May 9th\, 2026</span></span></p><p style="-webkit-tap-highlight-colo
 r: rgba(26\, 26\, 26\, 0.3)\; font-family: Aptos\, Aptos_MSFontService\, -
 apple-system\, Roboto\, Arial\, Helvetica\, sans-serif\; font-size: 18.816
 px\; -webkit-text-size-adjust: 117.599998%\; line-height: normal\; margin-
 bottom: 12px\;"><span data-ogsc="rgb(0\, 0\, 0)" style="font-size: 12pt\;"
 >⏰&nbsp\;<span dir="ltr" style="-webkit-touch-callout: none\; font-size:
  inherit !important\;">7:00 – 10:00 PM</span></span></p><p style="-webki
 t-tap-highlight-color: rgba(26\, 26\, 26\, 0.3)\; font-family: Aptos\, Apt
 os_MSFontService\, -apple-system\, Roboto\, Arial\, Helvetica\, sans-serif
 \; font-size: 18.816px\; -webkit-text-size-adjust: 117.599998%\; line-heig
 ht: normal\; margin-bottom: 12px\; min-height: 13.8px\;"><span data-ogsc="
 rgb(0\, 0\, 0)" style="font-size: 7.6pt\;"><br></span></p><p style="-webki
 t-tap-highlight-color: rgba(26\, 26\, 26\, 0.3)\; font-family: Aptos\, Apt
 os_MSFontService\, -apple-system\, Roboto\, Arial\, Helvetica\, sans-serif
 \; font-size: 18.816px\; -webkit-text-size-adjust: 117.599998%\; line-heig
 ht: normal\; margin-bottom: 12px\;"><span data-ogsc="rgb(0\, 0\, 0)" style
 ="font-size: 12pt\;">💫 This event is for Juniors &amp\; Seniors and the
 ir guests 💫</span></p><p style="-webkit-tap-highlight-color: rgba(26\, 
 26\, 26\, 0.3)\; font-family: Aptos\, Aptos_MSFontService\, -apple-system\
 , Roboto\, Arial\, Helvetica\, sans-serif\; font-size: 18.816px\; -webkit-
 text-size-adjust: 117.599998%\; line-height: normal\; margin-bottom: 12px\
 ; min-height: 13.8px\;"><span data-ogsc="rgb(0\, 0\, 0)" style="font-size:
  7.6pt\;"><br></span></p><p style="-webkit-tap-highlight-color: rgba(26\, 
 26\, 26\, 0.3)\; font-family: Aptos\, Aptos_MSFontService\, -apple-system\
 , Roboto\, Arial\, Helvetica\, sans-serif\; font-size: 18.816px\; -webkit-
 text-size-adjust: 117.599998%\; line-height: normal\; margin-bottom: 12px\
 ;"><span data-ogsc="rgb(0\, 0\, 0)" style="font-size: 12pt\;">Get ready fo
 r an evening full of memories\, music\, and a little mystery under the moo
 nlight… 🖤✨</span></p><p style="-webkit-tap-highlight-color: rgba(26
 \, 26\, 26\, 0.3)\; font-family: Aptos\, Aptos_MSFontService\, -apple-syst
 em\, Roboto\, Arial\, Helvetica\, sans-serif\; font-size: 18.816px\; -webk
 it-text-size-adjust: 117.599998%\; line-height: normal\; margin-bottom: 12
 px\; min-height: 13.8px\;"><span data-ogsc="rgb(0\, 0\, 0)" style="font-si
 ze: 7.6pt\;"><br></span></p><p style="-webkit-tap-highlight-color: rgba(26
 \, 26\, 26\, 0.3)\; font-family: Aptos\, Aptos_MSFontService\, -apple-syst
 em\, Roboto\, Arial\, Helvetica\, sans-serif\; font-size: 18.816px\; -webk
 it-text-size-adjust: 117.599998%\; line-height: normal\; margin-bottom: 12
 px\;"><span data-ogsc="rgb(0\, 0\, 0)" style="font-size: 12pt\;">Tag your 
 friends\, start planning your looks\, and let the countdown begin! 🎶
 🕺💃</span></p><p style="-webkit-tap-highlight-color: rgba(26\, 26\, 2
 6\, 0.3)\; font-family: Aptos\, Aptos_MSFontService\, -apple-system\, Robo
 to\, Arial\, Helvetica\, sans-serif\; font-size: 18.816px\; -webkit-text-s
 ize-adjust: 117.599998%\; line-height: normal\; margin-bottom: 12px\; min-
 height: 13.8px\;"><span data-ogsc="rgb(0\, 0\, 0)" style="font-size: 7.6pt
 \;"><br></span></p><p style="-webkit-tap-highlight-color: rgba(26\, 26\, 2
 6\, 0.3)\; font-family: Aptos\, Aptos_MSFontService\, -apple-system\, Robo
 to\, Arial\, Helvetica\, sans-serif\; font-size: 18.816px\; -webkit-text-s
 ize-adjust: 117.599998%\; line-height: normal\; margin-bottom: 12px\;"><sp
 an data-ogsc="rgb(0\, 0\, 0)" style="font-size: 12pt\;">#ElliottCountyScho
 ols #MoonlightMasquerade #Prom2026 #GoLions 🦁✨</span></p><br class="A
 pple-interchange-newline" style="-webkit-tap-highlight-color: rgba(26\, 26
 \, 26\, 0.3)\; -webkit-text-size-adjust: auto\;">
LOCATION:Sandy Hook\, KY 41171\, USA
SUMMARY:✨🌘🪭Moonlight Masquerade Prom✨🌘🪭
END:VEVENT
BEGIN:VEVENT
DTSTAMP:20260422T235823Z
UID:a673cc66-8a42-4513-abdb-5daeb4f64d5d
DTSTART:20260520T180000
DTEND:20260520T190000
DESCRIPTION:<p style="margin-bottom: 12px\; font-style: normal\; font-varia
 nt-caps: normal\; font-width: normal\; font-size: 19px\; line-height: norm
 al\; font-family: &quot\;Times New Roman&quot\;\; font-size-adjust: none\;
  font-kerning: auto\; font-variant-alternates: normal\; font-variant-ligat
 ures: normal\; font-variant-numeric: normal\; font-variant-east-asian: nor
 mal\; font-variant-position: normal\; font-variant-emoji: normal\; font-fe
 ature-settings: normal\; font-optical-sizing: auto\; font-variation-settin
 gs: normal\; -webkit-text-stroke-width: 0px\; -webkit-text-stroke-color: r
 gb(0\, 0\, 0)\;"><span style="font-kerning: none\;">🦁💛 Our little Li
 ons aren’t so little anymore… 💛🦁🎓</span></p>\n<p style="margi
 n-bottom: 12px\; font-style: normal\; font-variant-caps: normal\; font-wid
 th: normal\; font-size: 12px\; line-height: normal\; font-family: &quot\;T
 imes New Roman&quot\;\; font-size-adjust: none\; font-kerning: auto\; font
 -variant-alternates: normal\; font-variant-ligatures: normal\; font-varian
 t-numeric: normal\; font-variant-east-asian: normal\; font-variant-positio
 n: normal\; font-variant-emoji: normal\; font-feature-settings: normal\; f
 ont-optical-sizing: auto\; font-variation-settings: normal\; -webkit-text-
 stroke-width: 0px\; -webkit-text-stroke-color: rgb(0\, 0\, 0)\; min-height
 : 13.8px\;"><span style="font-kerning: none\;"></span><br></p>\n<p style="
 margin-bottom: 12px\; font-style: normal\; font-variant-caps: normal\; fon
 t-width: normal\; font-size: 19px\; line-height: normal\; font-family: &qu
 ot\;Times New Roman&quot\;\; font-size-adjust: none\; font-kerning: auto\;
  font-variant-alternates: normal\; font-variant-ligatures: normal\; font-v
 ariant-numeric: normal\; font-variant-east-asian: normal\; font-variant-po
 sition: normal\; font-variant-emoji: normal\; font-feature-settings: norma
 l\; font-optical-sizing: auto\; font-variation-settings: normal\; -webkit-
 text-stroke-width: 0px\; -webkit-text-stroke-color: rgb(0\, 0\, 0)\;"><spa
 n style="font-kerning: none\;">It’s time to celebrate a BIG milestone as
  our Kindergarten students take their next step forward! 🌟</span></p>\n
 <p style="margin-bottom: 12px\; font-style: normal\; font-variant-caps: no
 rmal\; font-width: normal\; font-size: 12px\; line-height: normal\; font-f
 amily: &quot\;Times New Roman&quot\;\; font-size-adjust: none\; font-kerni
 ng: auto\; font-variant-alternates: normal\; font-variant-ligatures: norma
 l\; font-variant-numeric: normal\; font-variant-east-asian: normal\; font-
 variant-position: normal\; font-variant-emoji: normal\; font-feature-setti
 ngs: normal\; font-optical-sizing: auto\; font-variation-settings: normal\
 ; -webkit-text-stroke-width: 0px\; -webkit-text-stroke-color: rgb(0\, 0\, 
 0)\; min-height: 13.8px\;"><span style="font-kerning: none\;"></span><br><
 /p>\n<p style="margin-bottom: 12px\; font-style: normal\; font-variant-cap
 s: normal\; font-width: normal\; font-size: 19px\; line-height: normal\; f
 ont-family: &quot\;Times New Roman&quot\;\; font-size-adjust: none\; font-
 kerning: auto\; font-variant-alternates: normal\; font-variant-ligatures: 
 normal\; font-variant-numeric: normal\; font-variant-east-asian: normal\; 
 font-variant-position: normal\; font-variant-emoji: normal\; font-feature-
 settings: normal\; font-optical-sizing: auto\; font-variation-settings: no
 rmal\; -webkit-text-stroke-width: 0px\; -webkit-text-stroke-color: rgb(0\,
  0\, 0)\;"><span style="font-kerning: none\;">📅 Wednesday\, May 20\, 20
 26</span></p>\n<p style="margin-bottom: 12px\; font-style: normal\; font-v
 ariant-caps: normal\; font-width: normal\; font-size: 19px\; line-height: 
 normal\; font-family: &quot\;Times New Roman&quot\;\; font-size-adjust: no
 ne\; font-kerning: auto\; font-variant-alternates: normal\; font-variant-l
 igatures: normal\; font-variant-numeric: normal\; font-variant-east-asian:
  normal\; font-variant-position: normal\; font-variant-emoji: normal\; fon
 t-feature-settings: normal\; font-optical-sizing: auto\; font-variation-se
 ttings: normal\; -webkit-text-stroke-width: 0px\; -webkit-text-stroke-colo
 r: rgb(0\, 0\, 0)\;"><span style="font-kerning: none\;">⏰ 6:00 PM</span>
 </p>\n<p style="margin-bottom: 12px\; font-style: normal\; font-variant-ca
 ps: normal\; font-width: normal\; font-size: 19px\; line-height: normal\; 
 font-family: &quot\;Times New Roman&quot\;\; font-size-adjust: none\; font
 -kerning: auto\; font-variant-alternates: normal\; font-variant-ligatures:
  normal\; font-variant-numeric: normal\; font-variant-east-asian: normal\;
  font-variant-position: normal\; font-variant-emoji: normal\; font-feature
 -settings: normal\; font-optical-sizing: auto\; font-variation-settings: n
 ormal\; -webkit-text-stroke-width: 0px\; -webkit-text-stroke-color: rgb(0\
 , 0\, 0)\;"><span style="font-kerning: none\;">📍 ECHS Performing Arts C
 enter</span></p>\n<p style="margin-bottom: 12px\; font-style: normal\; fon
 t-variant-caps: normal\; font-width: normal\; font-size: 12px\; line-heigh
 t: normal\; font-family: &quot\;Times New Roman&quot\;\; font-size-adjust:
  none\; font-kerning: auto\; font-variant-alternates: normal\; font-varian
 t-ligatures: normal\; font-variant-numeric: normal\; font-variant-east-asi
 an: normal\; font-variant-position: normal\; font-variant-emoji: normal\; 
 font-feature-settings: normal\; font-optical-sizing: auto\; font-variation
 -settings: normal\; -webkit-text-stroke-width: 0px\; -webkit-text-stroke-c
 olor: rgb(0\, 0\, 0)\; min-height: 13.8px\;"><span style="font-kerning: no
 ne\;"></span><br></p>\n<p style="margin-bottom: 12px\; font-style: normal\
 ; font-variant-caps: normal\; font-width: normal\; font-size: 19px\; line-
 height: normal\; font-family: &quot\;Times New Roman&quot\;\; font-size-ad
 just: none\; font-kerning: auto\; font-variant-alternates: normal\; font-v
 ariant-ligatures: normal\; font-variant-numeric: normal\; font-variant-eas
 t-asian: normal\; font-variant-position: normal\; font-variant-emoji: norm
 al\; font-feature-settings: normal\; font-optical-sizing: auto\; font-vari
 ation-settings: normal\; -webkit-text-stroke-width: 0px\; -webkit-text-str
 oke-color: rgb(0\, 0\, 0)\;"><span style="font-kerning: none\;">From their
  very first day to this special moment…</span></p>\n<p style="margin-bot
 tom: 12px\; font-style: normal\; font-variant-caps: normal\; font-width: n
 ormal\; font-size: 19px\; line-height: normal\; font-family: &quot\;Times 
 New Roman&quot\;\; font-size-adjust: none\; font-kerning: auto\; font-vari
 ant-alternates: normal\; font-variant-ligatures: normal\; font-variant-num
 eric: normal\; font-variant-east-asian: normal\; font-variant-position: no
 rmal\; font-variant-emoji: normal\; font-feature-settings: normal\; font-o
 ptical-sizing: auto\; font-variation-settings: normal\; -webkit-text-strok
 e-width: 0px\; -webkit-text-stroke-color: rgb(0\, 0\, 0)\;"><span style="f
 ont-kerning: none\;">we are SO proud of how much they’ve grown! 🥹✨<
 /span></p>\n<p style="margin-bottom: 12px\; font-style: normal\; font-vari
 ant-caps: normal\; font-width: normal\; font-size: 12px\; line-height: nor
 mal\; font-family: &quot\;Times New Roman&quot\;\; font-size-adjust: none\
 ; font-kerning: auto\; font-variant-alternates: normal\; font-variant-liga
 tures: normal\; font-variant-numeric: normal\; font-variant-east-asian: no
 rmal\; font-variant-position: normal\; font-variant-emoji: normal\; font-f
 eature-settings: normal\; font-optical-sizing: auto\; font-variation-setti
 ngs: normal\; -webkit-text-stroke-width: 0px\; -webkit-text-stroke-color: 
 rgb(0\, 0\, 0)\; min-height: 13.8px\;"><span style="font-kerning: none\;">
 </span><br></p>\n<p style="margin-bottom: 12px\; font-style: normal\; font
 -variant-caps: normal\; font-width: normal\; font-size: 19px\; line-height
 : normal\; font-family: &quot\;Times New Roman&quot\;\; font-size-adjust: 
 none\; font-kerning: auto\; font-variant-alternates: normal\; font-variant
 -ligatures: normal\; font-variant-numeric: normal\; font-variant-east-asia
 n: normal\; font-variant-position: normal\; font-variant-emoji: normal\; f
 ont-feature-settings: normal\; font-optical-sizing: auto\; font-variation-
 settings: normal\; -webkit-text-stroke-width: 0px\; -webkit-text-stroke-co
 lor: rgb(0\, 0\, 0)\;"><span style="font-kerning: none\;">👏 Families\, 
 come celebrate these sweet smiles\, big accomplishments\, and memories you
 ’ll never forget!</span></p><div><span style="font-kerning: none\;"><br>
 </span></div>
LOCATION:
SUMMARY:✨Kindergarten Promotion ✨
END:VEVENT
BEGIN:VEVENT
DTSTAMP:20260422T235823Z
UID:b8fb2267-c1d2-41c2-9f23-a59c5f919a10
DTSTART;VALUE=DATE:20260522
DTEND;VALUE=DATE:20260523
DESCRIPTION:
LOCATION:
SUMMARY:Last Day of School for Students
END:VEVENT
BEGIN:VEVENT
DTSTAMP:20260422T235823Z
UID:98fa74d3-d6d3-4083-8724-ecde9e094980
DTSTART:20260522T180000
DTEND:20260522T200000
DESCRIPTION:<p>Graduation is scheduled for 6:00pm at the Rick Mays Gymnasiu
 m</p><p>For more information\, call 606-738-8002</p>
LOCATION:
SUMMARY:Graduation
END:VEVENT
BEGIN:VEVENT
DTSTAMP:20260422T235823Z
UID:81c24f9a-3a0d-458f-8ac0-a0a59cc5bba9
DTSTART;VALUE=DATE:20260824
DTEND;VALUE=DATE:20260825
DESCRIPTION:
LOCATION:
SUMMARY:First Day of School for Students
END:VEVENT
END:VCALENDAR
