BEGIN:VCALENDAR
VERSION:2.0
PRODID:icalendar-ruby
CALSCALE:GREGORIAN
BEGIN:VTIMEZONE
TZID:America/Chicago
BEGIN:DAYLIGHT
DTSTART:20260308T030000
TZOFFSETFROM:-0600
TZOFFSETTO:-0500
RRULE:FREQ=YEARLY;BYDAY=2SU;BYMONTH=3
TZNAME:CDT
END:DAYLIGHT
BEGIN:STANDARD
DTSTART:20261101T010000
TZOFFSETFROM:-0500
TZOFFSETTO:-0600
RRULE:FREQ=YEARLY;BYDAY=1SU;BYMONTH=11
TZNAME:CST
END:STANDARD
END:VTIMEZONE
BEGIN:VEVENT
DTSTAMP:20260420T035844Z
UID:fcc710ff-ee87-4e26-ae1d-dd0aa0907fba
DTSTART;VALUE=DATE:20260424
DTEND;VALUE=DATE:20260425
DESCRIPTION:https://raypec.gofmx.com/scheduling/requests/3081691/occurrence
 s/7286979
LOCATION:Academy\, Administrative Services Center (ASC)\, Bridle Ridge Elem
 entary\, Creekmoor Elementary\, Eagle Glen Elementary\, East Middle School
 \, High School\, LEAD Center\, Peculiar Elementary\, Raymore Elementary\, 
 Ray-Pec East (NGC)\, Shull Early Learning Center\, South Middle School\, S
 tonegate Elementary\, and Timber Creek Elementary
SUMMARY:Early Release (time's communicated by building) - Staff Collaborati
 on
END:VEVENT
BEGIN:VEVENT
DTSTAMP:20260420T035844Z
UID:0baa0c33-989b-443c-b151-e34028491d11
DTSTART:20260429T091500
DTEND:20260429T133500
DESCRIPTION:https://raypec.gofmx.com/scheduling/requests/3196686/occurrence
 s/7736028
LOCATION:201 East 3rd Street Peculiar\, Mo 64078
SUMMARY:3rd Grade Field Trip - Mahaffie Stagecoach Stop and Farm
END:VEVENT
BEGIN:VEVENT
DTSTAMP:20260420T035844Z
UID:6fc76d1d-2fb6-4020-ab0b-6e1ed54103f0
DTSTART:20260508T091500
DTEND:20260508T131500
DESCRIPTION:https://raypec.gofmx.com/scheduling/requests/3196685/occurrence
 s/7736027
LOCATION:201 East 3rd Street Peculiar\, Mo 64078
SUMMARY:2nd Grade Field Trip - Missouri Town Living History Museum
END:VEVENT
BEGIN:VEVENT
DTSTAMP:20260420T035844Z
UID:311a5cba-7603-4ebc-a4f7-62c9656260aa
DTSTART:20260511T170000
DTEND:20260511T180000
DESCRIPTION:https://raypec.gofmx.com/scheduling/requests/3162318/occurrence
 s/7620909
LOCATION:201 East 3rd Street Peculiar\, Mo 64078
SUMMARY:Canceled: Closed PTA Board Mtg
END:VEVENT
BEGIN:VEVENT
DTSTAMP:20260420T035844Z
UID:2ba7a762-2d0a-42d6-8580-deb108f57201
DTSTART:20260512T173000
DTEND:20260512T183000
DESCRIPTION:https://raypec.gofmx.com/scheduling/requests/3255508/occurrence
 s/7874878
LOCATION:201 East 3rd Street Peculiar\, Mo 64078
SUMMARY:PTA Meeting
END:VEVENT
BEGIN:VEVENT
DTSTAMP:20260420T035844Z
UID:045eefea-c3d0-438f-b8b8-0bc728e918d3
DTSTART:20260513T083000
DTEND:20260513T103000
DESCRIPTION:https://raypec.gofmx.com/scheduling/requests/3169964/occurrence
 s/7646670
LOCATION:201 East 3rd Street Peculiar\, Mo 64078
SUMMARY:Kindergarten Celebration
END:VEVENT
BEGIN:VEVENT
DTSTAMP:20260420T035844Z
UID:775a0212-d87f-4065-837a-87c56b4e964d
DTSTART:20260519T070000
DTEND:20260519T160000
DESCRIPTION:https://raypec.gofmx.com/scheduling/requests/3237853/occurrence
 s/7798926
LOCATION:201 East 3rd Street Peculiar\, Mo 64078
SUMMARY:PE Field Day
END:VEVENT
BEGIN:VEVENT
DTSTAMP:20260420T035844Z
UID:56e024c2-c23a-47b4-8f97-6cedbbede215
DTSTART;VALUE=DATE:20260521
DTEND;VALUE=DATE:20260522
DESCRIPTION:https://raypec.gofmx.com/scheduling/requests/3081759/occurrence
 s/7287162
LOCATION:Academy\, Administrative Services Center (ASC)\, Bridle Ridge Elem
 entary\, Creekmoor Elementary\, Eagle Glen Elementary\, East Middle School
 \, High School\, LEAD Center\, Peculiar Elementary\, Raymore Elementary\, 
 Ray-Pec East (NGC)\, Shull Early Learning Center\, South Middle School\, S
 tonegate Elementary\, and Timber Creek Elementary
SUMMARY:Early Release (time's communicated by building)
END:VEVENT
BEGIN:VEVENT
DTSTAMP:20260420T035844Z
UID:09df708f-8c91-4bb9-90e3-3d1a43a2ddce
DTSTART;VALUE=DATE:20260525
DTEND;VALUE=DATE:20260526
DESCRIPTION:https://raypec.gofmx.com/scheduling/requests/3081796/occurrence
 s/7287222
LOCATION:Academy\, Administrative Services Center (ASC)\, Bridle Ridge Elem
 entary\, Creekmoor Elementary\, Eagle Glen Elementary\, East Middle School
 \, High School\, LEAD Center\, Peculiar Elementary\, Raymore Elementary\, 
 Ray-Pec East (NGC)\, Shull Early Learning Center\, South Middle School\, S
 tonegate Elementary\, and Timber Creek Elementary
SUMMARY:Holiday - Offices & Facilities Closed
END:VEVENT
BEGIN:VEVENT
DTSTAMP:20260420T035844Z
UID:3bbee727-1175-44ee-a4a7-48969516d26a
DTSTART;VALUE=DATE:20260619
DTEND;VALUE=DATE:20260620
DESCRIPTION:https://raypec.gofmx.com/scheduling/requests/3081796/occurrence
 s/7287223
LOCATION:Academy\, Administrative Services Center (ASC)\, Bridle Ridge Elem
 entary\, Creekmoor Elementary\, Eagle Glen Elementary\, East Middle School
 \, High School\, LEAD Center\, Peculiar Elementary\, Raymore Elementary\, 
 Ray-Pec East (NGC)\, Shull Early Learning Center\, South Middle School\, S
 tonegate Elementary\, and Timber Creek Elementary
SUMMARY:Holiday - Offices & Facilities Closed
END:VEVENT
BEGIN:VEVENT
DTSTAMP:20260420T035844Z
UID:fe65885e-2860-4764-af42-4c76ed9074d8
DTSTART;VALUE=DATE:20260703
DTEND;VALUE=DATE:20260704
DESCRIPTION:https://raypec.gofmx.com/scheduling/requests/3081796/occurrence
 s/7287224
LOCATION:Academy\, Administrative Services Center (ASC)\, Bridle Ridge Elem
 entary\, Creekmoor Elementary\, Eagle Glen Elementary\, East Middle School
 \, High School\, LEAD Center\, Peculiar Elementary\, Raymore Elementary\, 
 Ray-Pec East (NGC)\, Shull Early Learning Center\, South Middle School\, S
 tonegate Elementary\, and Timber Creek Elementary
SUMMARY:Holiday - Offices & Facilities Closed
END:VEVENT
END:VCALENDAR
