BEGIN:VCALENDAR
VERSION:2.0
PRODID:icalendar-ruby
CALSCALE:GREGORIAN
BEGIN:VTIMEZONE
TZID:America/Los_Angeles
BEGIN:DAYLIGHT
DTSTART:20260308T030000
TZOFFSETFROM:-0800
TZOFFSETTO:-0700
RRULE:FREQ=YEARLY;BYDAY=2SU;BYMONTH=3
TZNAME:PDT
END:DAYLIGHT
BEGIN:STANDARD
DTSTART:20261101T010000
TZOFFSETFROM:-0700
TZOFFSETTO:-0800
RRULE:FREQ=YEARLY;BYDAY=1SU;BYMONTH=11
TZNAME:PST
END:STANDARD
END:VTIMEZONE
BEGIN:VEVENT
DTSTAMP:20260419T173404Z
UID:bae0aa95-3e3f-4384-9b60-f9bc17cadc7f
DTSTART:20260419T130000
DTEND:20260419T160000
DESCRIPTION:
LOCATION:
SUMMARY:CTC Soccer - Modoc Field
END:VEVENT
BEGIN:VEVENT
DTSTAMP:20260419T173404Z
UID:1d6b8c3d-408f-433e-9bef-40af83fbf5c0
DTSTART:20260420T100000
DTEND:20260420T160000
DESCRIPTION:
LOCATION:
SUMMARY:KU ATHLETICS | Golf @ Running Y
END:VEVENT
BEGIN:VEVENT
DTSTAMP:20260419T173404Z
UID:d2144bf0-512f-4065-ad02-50c5f846cb98
DTSTART:20260420T183000
DTEND:20260420T203000
DESCRIPTION:
LOCATION:
SUMMARY:KU Cheer Tryouts - Pel Court
END:VEVENT
BEGIN:VEVENT
DTSTAMP:20260419T173404Z
UID:a58896d4-7e78-4cad-9993-d3466ee4cf4e
DTSTART;VALUE=DATE:20260421
DTEND;VALUE=DATE:20260422
DESCRIPTION:
LOCATION:
SUMMARY:KU SOML Math Team @ SOU
END:VEVENT
BEGIN:VEVENT
DTSTAMP:20260419T173404Z
UID:a87590fa-e060-40c5-8889-d05920c7dbf7
DTSTART:20260421T160000
DTEND:20260421T190000
DESCRIPTION:
LOCATION:
SUMMARY:KU ATHLETICS | JV Track @ Pelican-Pirate Rumble - Phoenix
END:VEVENT
BEGIN:VEVENT
DTSTAMP:20260419T173404Z
UID:13e5df91-2aac-4d39-8102-b754b2fe090f
DTSTART:20260421T170000
DTEND:20260421T190000
DESCRIPTION:
LOCATION:
SUMMARY:KU ATHLETICS | Baseball/Softball vs Hidden Valley
END:VEVENT
BEGIN:VEVENT
DTSTAMP:20260419T173404Z
UID:728cd85e-12b5-4200-bddb-781cc1a0f735
DTSTART:20260421T183000
DTEND:20260421T203000
DESCRIPTION:
LOCATION:
SUMMARY:KU Cheer Tryouts - Pel Court
END:VEVENT
BEGIN:VEVENT
DTSTAMP:20260419T173404Z
UID:0362add0-ff2a-48af-9a7f-ba3809582452
DTSTART:20260422T100000
DTEND:20260422T160000
DESCRIPTION:
LOCATION:
SUMMARY:KU ATHLETICS | Golf @ Centennial - Medford
END:VEVENT
BEGIN:VEVENT
DTSTAMP:20260419T173404Z
UID:848818c6-91cf-4762-88c4-63ed1b028d03
DTSTART:20260422T104500
DTEND:20260422T111500
DESCRIPTION:
LOCATION:
SUMMARY:Senior Group Photo - Modoc Field
END:VEVENT
BEGIN:VEVENT
DTSTAMP:20260419T173404Z
UID:85dc0993-73b1-4b1b-bef2-aa814fb5b3a9
DTSTART:20260422T153000
DTEND:20260422T183000
DESCRIPTION:
LOCATION:
SUMMARY:KU ATHLETICS | Track @ Henley
END:VEVENT
BEGIN:VEVENT
DTSTAMP:20260419T173404Z
UID:3e2db87b-02ee-4f5c-9719-8a447fcda37c
DTSTART:20260422T183000
DTEND:20260422T203000
DESCRIPTION:
LOCATION:
SUMMARY:KU Cheer Tryouts - Pel Court
END:VEVENT
BEGIN:VEVENT
DTSTAMP:20260419T173404Z
UID:55bb7b25-35ff-4a3d-8d1d-c59211661840
DTSTART:20260422T190000
DTEND:20260422T200000
DESCRIPTION:
LOCATION:
SUMMARY:NHS induction Ceremony - Theater
END:VEVENT
BEGIN:VEVENT
DTSTAMP:20260419T173404Z
UID:19fe1253-7d7f-4524-acf8-838e09272b28
DTSTART;VALUE=DATE:20260423
DTEND;VALUE=DATE:20260427
DESCRIPTION:
LOCATION:
SUMMARY:KUHS Orchestra Seattle Tour
END:VEVENT
BEGIN:VEVENT
DTSTAMP:20260419T173404Z
UID:8367deff-195e-4837-ae11-e0d3c70148da
DTSTART:20260423T160000
DTEND:20260423T190000
DESCRIPTION:
LOCATION:
SUMMARY:KU ATHLETICS | Tennis @ St. Mary's - Fichner Park (Medford)
END:VEVENT
BEGIN:VEVENT
DTSTAMP:20260419T173404Z
UID:bb7f4ce3-aea8-4dfa-8dad-aee4c35c83fa
DTSTART:20260423T183000
DTEND:20260423T203000
DESCRIPTION:
LOCATION:
SUMMARY:KU Cheer Tryouts - Pel Court
END:VEVENT
BEGIN:VEVENT
DTSTAMP:20260419T173404Z
UID:2571f4d3-e2f8-4f95-8936-39de763143e0
DTSTART;VALUE=DATE:20260424
DTEND;VALUE=DATE:20260501
DESCRIPTION:
LOCATION:
SUMMARY:DECA @ Georgia
END:VEVENT
BEGIN:VEVENT
DTSTAMP:20260419T173404Z
UID:21b16c53-8d38-4e06-a595-12a2638626cc
DTSTART:20260424T140000
DTEND:20260424T190000
DESCRIPTION:
LOCATION:
SUMMARY:KU ATHLETICS | Varsity Track @ Nike Jesuit Twilight Relays
END:VEVENT
BEGIN:VEVENT
DTSTAMP:20260419T173404Z
UID:4bd8a141-763f-4ffc-ae49-1b991e82909e
DTSTART:20260424T150000
DTEND:20260424T190000
DESCRIPTION:
LOCATION:
SUMMARY:KU ATHLETICS | Baseball/Softball @ Hidden Valley (DH)
END:VEVENT
BEGIN:VEVENT
DTSTAMP:20260419T173404Z
UID:62611b99-6b1f-4fe5-9843-c96d9199715e
DTSTART:20260425T080000
DTEND:20260425T140000
DESCRIPTION:
LOCATION:
SUMMARY:YMCA Flag Football - Modoc Field
END:VEVENT
BEGIN:VEVENT
DTSTAMP:20260419T173404Z
UID:bcccfe5d-4066-46c1-a639-50d87fdc9176
DTSTART:20260425T100000
DTEND:20260425T140000
DESCRIPTION:
LOCATION:
SUMMARY:KU ATHLETICS | Tennis vs North Bend
END:VEVENT
BEGIN:VEVENT
DTSTAMP:20260419T173404Z
UID:e6edca05-1796-4f7d-b4c3-2d8142f71f7f
DTSTART:20260425T103000
DTEND:20260425T160000
DESCRIPTION:
LOCATION:
SUMMARY:KU ATHLETICS | Track @ Coldwell Banker Invite - Mazama
END:VEVENT
BEGIN:VEVENT
DTSTAMP:20260419T173404Z
UID:b9bf20df-57a3-4a19-adb9-7b23f139fd34
DTSTART:20260425T160000
DTEND:20260425T220000
DESCRIPTION:
LOCATION:
SUMMARY:KCC Alumni Soccer - Modoc Field
END:VEVENT
BEGIN:VEVENT
DTSTAMP:20260419T173404Z
UID:c00a520e-05f5-4b50-bcd2-d1b6f8bb3d3d
DTSTART:20260430T190000
DTEND:20260430T200000
DESCRIPTION:
LOCATION:
SUMMARY:KU Cheer Parent Meeting - Theater
END:VEVENT
BEGIN:VEVENT
DTSTAMP:20260419T173404Z
UID:6f78e57c-c652-459a-a712-82863f26697d
DTSTART:20260502T090000
DTEND:20260502T150000
DESCRIPTION:
LOCATION:
SUMMARY:YMCA Flag Football - Modoc Field
END:VEVENT
BEGIN:VEVENT
DTSTAMP:20260419T173404Z
UID:c697bf33-6d1f-4133-a4fb-930a3d0497f4
DTSTART;VALUE=DATE:20260503
DTEND;VALUE=DATE:20260504
DESCRIPTION:
LOCATION:
SUMMARY:KU Band Car Show Fundraiser - Cafeteria
END:VEVENT
BEGIN:VEVENT
DTSTAMP:20260419T173404Z
UID:f6a25d6b-ce5c-492b-946f-c3b10ad6363e
DTSTART;VALUE=DATE:20260504
DTEND;VALUE=DATE:20260505
DESCRIPTION:
LOCATION:
SUMMARY:All City Band
END:VEVENT
BEGIN:VEVENT
DTSTAMP:20260419T173404Z
UID:26f9d90c-4e69-4a3d-95f4-a0570272597f
DTSTART:20260506T070000
DTEND:20260506T113000
DESCRIPTION:
LOCATION:
SUMMARY:Lit and Comp AP Test - Aux Gym
END:VEVENT
BEGIN:VEVENT
DTSTAMP:20260419T173404Z
UID:45b4afca-aa75-4f7f-a0a2-0b9172769f45
DTSTART;VALUE=DATE:20260508
DTEND;VALUE=DATE:20260509
DESCRIPTION:
LOCATION:
SUMMARY:State Choir
END:VEVENT
BEGIN:VEVENT
DTSTAMP:20260419T173404Z
UID:27ce85d4-5b5f-4736-9d93-c65ee465df2e
DTSTART:20260509T090000
DTEND:20260509T150000
DESCRIPTION:
LOCATION:
SUMMARY:YMCA Flag Football - Modoc Field
END:VEVENT
BEGIN:VEVENT
DTSTAMP:20260419T173404Z
UID:4fabafb5-c654-425c-9b76-81510504b1ae
DTSTART:20260509T190000
DTEND:20260509T220000
DESCRIPTION:
LOCATION:
SUMMARY:2026 KU Prom - Running Y
END:VEVENT
BEGIN:VEVENT
DTSTAMP:20260419T173404Z
UID:73cbf434-67ca-488c-9142-a82820a517c2
DTSTART:20260511T180000
DTEND:20260511T200000
DESCRIPTION:
LOCATION:
SUMMARY:School Board Meeting - District Office
END:VEVENT
BEGIN:VEVENT
DTSTAMP:20260419T173404Z
UID:8ffb339e-6b45-4b5b-918d-c347dcec4269
DTSTART;VALUE=DATE:20260513
DTEND;VALUE=DATE:20260514
DESCRIPTION:
LOCATION:
SUMMARY:State Orchestra
END:VEVENT
BEGIN:VEVENT
DTSTAMP:20260419T173404Z
UID:1eafa6b5-5e50-4571-a7c0-0e9699dee6cc
DTSTART;VALUE=DATE:20260514
DTEND;VALUE=DATE:20260515
DESCRIPTION:
LOCATION:
SUMMARY:State Band
END:VEVENT
BEGIN:VEVENT
DTSTAMP:20260419T173404Z
UID:4598d851-c788-4ad3-8d46-46195fbce82c
DTSTART;VALUE=DATE:20260515
DTEND;VALUE=DATE:20260516
DESCRIPTION:
LOCATION:
SUMMARY:Assembly-Spring wrap up
END:VEVENT
BEGIN:VEVENT
DTSTAMP:20260419T173404Z
UID:e1884d76-f8e3-40dc-91d8-3a155df6a385
DTSTART;VALUE=DATE:20260515
DTEND;VALUE=DATE:20260516
DESCRIPTION:
LOCATION:
SUMMARY:Pondo 8th Grader Visit
END:VEVENT
BEGIN:VEVENT
DTSTAMP:20260419T173404Z
UID:a84dd330-6b6f-4853-84e7-7046c001d0d8
DTSTART:20260516T100000
DTEND:20260516T140000
DESCRIPTION:
LOCATION:
SUMMARY:Speed Clinic Fundraiser w/ NW Athletic Performance - Modoc Field
END:VEVENT
BEGIN:VEVENT
DTSTAMP:20260419T173404Z
UID:b131ff1b-2741-4786-a62b-297bca37f657
DTSTART:20260521T190000
DTEND:20260521T203000
DESCRIPTION:
LOCATION:
SUMMARY:KU Digital Media Awards Night - Theater
END:VEVENT
BEGIN:VEVENT
DTSTAMP:20260419T173404Z
UID:09024b7a-b7a9-4d7d-ad73-86932a4271fb
DTSTART;VALUE=DATE:20260525
DTEND;VALUE=DATE:20260526
DESCRIPTION:
LOCATION:
SUMMARY:LAST DAY - OSAA Association Year
END:VEVENT
BEGIN:VEVENT
DTSTAMP:20260419T173404Z
UID:2fb5019b-645f-4b5f-b27a-e7f3dc540c12
DTSTART:20260527T083000
DTEND:20260527T103000
DESCRIPTION:
LOCATION:
SUMMARY:Grad Walk @ KFCS Elementary Schools - Meet at KU
END:VEVENT
BEGIN:VEVENT
DTSTAMP:20260419T173404Z
UID:d35b0d3d-60d2-4110-92b9-27cfe465adf1
DTSTART:20260527T120000
DTEND:20260527T140000
DESCRIPTION:
LOCATION:
SUMMARY:Graduation Sensation Parade - Main St.
END:VEVENT
BEGIN:VEVENT
DTSTAMP:20260419T173404Z
UID:eb379ed4-db07-4670-8c65-b72759a13640
DTSTART:20260529T190000
DTEND:20260529T200000
DESCRIPTION:
LOCATION:
SUMMARY:End of Year KU Band Concert
END:VEVENT
BEGIN:VEVENT
DTSTAMP:20260419T173404Z
UID:93d52fdd-196d-41cb-bcac-e8d0315894f0
DTSTART;VALUE=DATE:20260530
DTEND;VALUE=DATE:20260531
DESCRIPTION:
LOCATION:
SUMMARY:Ponderosa Slip n' Slide Celebration - Modoc Field
END:VEVENT
BEGIN:VEVENT
DTSTAMP:20260419T173404Z
UID:107cb44b-da85-499b-b0c9-bc9a73199f98
DTSTART:20260601T190000
DTEND:20260601T200000
DESCRIPTION:
LOCATION:
SUMMARY:KU Choir Pops Concert
END:VEVENT
BEGIN:VEVENT
DTSTAMP:20260419T173404Z
UID:87a17666-3c47-4bc6-bb62-b99fa8737a67
DTSTART:20260602T190000
DTEND:20260602T220000
DESCRIPTION:
LOCATION:
SUMMARY:KU Senior Awards Night
END:VEVENT
BEGIN:VEVENT
DTSTAMP:20260419T173404Z
UID:2e2d332c-9d33-4513-a3c3-6b8943218531
DTSTART;VALUE=DATE:20260603
DTEND;VALUE=DATE:20260604
DESCRIPTION:
LOCATION:
SUMMARY:KU Baccalaureate - Sacred Heart
END:VEVENT
BEGIN:VEVENT
DTSTAMP:20260419T173404Z
UID:cf0131ac-699b-4edf-8560-49028da0fc0b
DTSTART;VALUE=DATE:20260604
DTEND;VALUE=DATE:20260605
DESCRIPTION:
LOCATION:
SUMMARY:SENIORS LAST DAY: Paint The K
END:VEVENT
BEGIN:VEVENT
DTSTAMP:20260419T173404Z
UID:be84606b-04a0-407a-ad2a-286ec8e1f900
DTSTART:20260604T164500
DTEND:20260604T193000
DESCRIPTION:
LOCATION:6350 S 6th St\, Klamath Falls\, OR 97603\, USA
SUMMARY:KFEA Meeting
END:VEVENT
BEGIN:VEVENT
DTSTAMP:20260419T173404Z
UID:a8b2c423-e947-4dad-b920-aac7496f29cd
DTSTART;VALUE=DATE:20260605
DTEND;VALUE=DATE:20260606
DESCRIPTION:
LOCATION:
SUMMARY:Yearbook Signing & BBQ
END:VEVENT
BEGIN:VEVENT
DTSTAMP:20260419T173404Z
UID:f0627756-643d-420f-8a9f-466f0c4f1911
DTSTART:20260605T090000
DTEND:20260605T120000
DESCRIPTION:
LOCATION:
SUMMARY:Graduation Rehearsal - Modoc Field
END:VEVENT
BEGIN:VEVENT
DTSTAMP:20260419T173404Z
UID:a3dcf34f-4285-4f98-8cbf-01e0b4cafbfe
DTSTART:20260607T120000
DTEND:20260607T140000
DESCRIPTION:
LOCATION:
SUMMARY:KU Graduation - Modoc Field
END:VEVENT
BEGIN:VEVENT
DTSTAMP:20260419T173404Z
UID:5cbe6458-e611-4f91-973d-fa0f31b6481f
DTSTART:20260607T200000
DTEND:20260608T000000
DESCRIPTION:
LOCATION:
SUMMARY:Senior All Night Party - Location TBD
END:VEVENT
BEGIN:VEVENT
DTSTAMP:20260419T173404Z
UID:45757356-ccb0-44ba-88f8-de786e93b02a
DTSTART;VALUE=DATE:20260609
DTEND;VALUE=DATE:20260612
DESCRIPTION:
LOCATION:
SUMMARY:Semester 2 Finals
END:VEVENT
BEGIN:VEVENT
DTSTAMP:20260419T173404Z
UID:a851b587-9882-4b62-b696-ba3bb0ea2647
DTSTART;VALUE=DATE:20260611
DTEND;VALUE=DATE:20260612
DESCRIPTION:
LOCATION:
SUMMARY:Students Last Day
END:VEVENT
BEGIN:VEVENT
DTSTAMP:20260419T173404Z
UID:1cacdcc9-e895-406c-b31c-a19c70b91979
DTSTART;VALUE=DATE:20260612
DTEND;VALUE=DATE:20260613
DESCRIPTION:
LOCATION:
SUMMARY:Teachers Last Day
END:VEVENT
BEGIN:VEVENT
DTSTAMP:20260419T173404Z
UID:c4eb72fa-f430-4369-8f90-84b62c31395b
DTSTART;VALUE=DATE:20260618
DTEND;VALUE=DATE:20260623
DESCRIPTION:
LOCATION:
SUMMARY:KU Choir on San Francisco Cruise
END:VEVENT
BEGIN:VEVENT
DTSTAMP:20260419T173404Z
UID:07f055e0-b1dc-4bf4-85f9-61fc4a219d38
DTSTART;VALUE=DATE:20260629
DTEND;VALUE=DATE:20260706
DESCRIPTION:
LOCATION:
SUMMARY:KU ATHLETICS | Moratorium Week
END:VEVENT
BEGIN:VEVENT
DTSTAMP:20260419T173404Z
UID:b6f9f845-0d78-4213-94ce-c401bb353e5b
DTSTART;VALUE=DATE:20261005
DTEND;VALUE=DATE:20261011
DESCRIPTION:
LOCATION:
SUMMARY:Homecoming Week
END:VEVENT
BEGIN:VEVENT
DTSTAMP:20260419T173404Z
UID:9b147026-bd7a-44cb-9ca2-9b5622913903
DTSTART:20261009T190000
DTEND:20261009T220000
DESCRIPTION:
LOCATION:
SUMMARY:KU ATHLETICS | Football - HOMECOMING vs Elmira - Modoc Field
END:VEVENT
BEGIN:VEVENT
DTSTAMP:20260419T173404Z
UID:ac86a500-2d64-4a4c-9047-61632fe896bf
DTSTART:20261205T154500
DTEND:20261205T180500
DESCRIPTION:
LOCATION:
SUMMARY:Band @ Bonanza Parade/Bus
END:VEVENT
END:VCALENDAR
