BEGIN:VCALENDAR
VERSION:2.0
PRODID:icalendar-ruby
CALSCALE:GREGORIAN
BEGIN:VTIMEZONE
TZID:America/Los_Angeles
BEGIN:DAYLIGHT
DTSTART:20260308T030000
TZOFFSETFROM:-0800
TZOFFSETTO:-0700
RRULE:FREQ=YEARLY;BYDAY=2SU;BYMONTH=3
TZNAME:PDT
END:DAYLIGHT
BEGIN:STANDARD
DTSTART:20261101T010000
TZOFFSETFROM:-0700
TZOFFSETTO:-0800
RRULE:FREQ=YEARLY;BYDAY=1SU;BYMONTH=11
TZNAME:PST
END:STANDARD
END:VTIMEZONE
BEGIN:VEVENT
DTSTAMP:20260424T173029Z
UID:c2c5a79b-cbc2-467f-ad38-d69cfdc0b4ec
DTSTART:20260424T180000
DTEND:20260424T190000
DESCRIPTION:
LOCATION:
SUMMARY:Ponderosa Cheer Parent Meeting @ Ponderosa Cafeteria
END:VEVENT
BEGIN:VEVENT
DTSTAMP:20260424T173029Z
UID:044ad17e-8276-4b6c-9d2f-b1355b932138
DTSTART;VALUE=DATE:20260427
DTEND;VALUE=DATE:20260428
DESCRIPTION:<p>Monday Girls Prelims     4/27<u></u><u></u></p><p>Tuesday
  Boys Prelims     4/28  <u></u><u></u></p><p>Monday Finals      
              5/4<u></u><u></u></p><p><u></u> <u></u></p><p><u
 ></u> <u></u></p><p><u></u> <u></u></p><p><b>Ads when scheduling bussing
  please do not have your TEAMS ARRIVE Prior to 12:45 pm as school is in se
 ssion.<u></u><u></u></b></p><p><u></u> <u></u></p><p>1:30 p.m.   Scratc
 h meeting.  NO ADDITIONS.<u></u><u></u></p><p>1:45 p.m.   Field events<
 u></u><u></u></p><p>2:00 p.m.   Track Events              
  <u></u><u></u></p><p><u></u> <u></u></p><p>Running events will start at
  2:00pm  in the following order:   We will move through events as fast 
 as we can but will not move more than 15 minutes ahead of schedule.  Prel
 im schedule will run a little slower than the finals schedule below.<u></u
 ><u></u></p><p><u></u> <u></u></p><p><b>2:00 p.m.</b>   – 3000<u></u>
 <u></u></p><p><b>3:00 p.m.</b>   – 400 meter relay<u></u><u></u></p><p
 ><b>3:20 p.m.</b>   – 1500<u></u><u></u></p><p><b>3:50 p.m.</b>   
 – 100M hurdles<u></u><u></u></p><p><b>4:05 p.m.</b>   – 100 meters<u
 ></u><u></u></p><p><b>4:15 p.m.   </b>– Break<u></u><u></u></p><p><b>
 4:25 p.m.   </b>– 400 meters<u></u><u></u></p><p><b>4:40 p.m.</b>   
 – 800 meters<u></u><u></u></p><p><b>5:10 p.m.</b>   – 200 meters<u><
 /u><u></u></p><p><b>5:20 p.m.</b>   – 200M hurdles<u></u><u></u></p><p
 ><b>5:30 p.m.</b>   – 1600 meter relay<u></u><u></u></p><p><u></u> <u
 ></u></p><p>If your team would like to request a certain Job/Event to host
  please let me know and I will do the best I can at accommodating.<u></u><
 u></u></p><p><u></u> <u></u></p><p>This was last year-<u></u><u></u></p><
 p><u></u> <u></u></p><p></p>
LOCATION:North Medford High School\, 1900 N Keene Way Dr\, Medford\, OR 975
 04\, USA
SUMMARY:Ponderosa: Girl's Track Prelims - Hosted by Hedrick @ North Medford
  High School
END:VEVENT
BEGIN:VEVENT
DTSTAMP:20260424T173029Z
UID:1cdbb139-2135-4059-9dae-77e93541e49e
DTSTART;VALUE=DATE:20260428
DTEND;VALUE=DATE:20260429
DESCRIPTION:<p>Monday Girls Prelims     4/27<u></u><u></u></p><p>Tuesday
  Boys Prelims     4/28  <u></u><u></u></p><p>Monday Finals      
              5/4<u></u><u></u></p><p><u></u> <u></u></p><p><u
 ></u> <u></u></p><p><u></u> <u></u></p><p><b>Ads when scheduling bussing
  please do not have your TEAMS ARRIVE Prior to 12:45 pm as school is in se
 ssion.<u></u><u></u></b></p><p><u></u> <u></u></p><p>1:30 p.m.   Scratc
 h meeting.  NO ADDITIONS.<u></u><u></u></p><p>1:45 p.m.   Field events<
 u></u><u></u></p><p>2:00 p.m.   Track Events              
  <u></u><u></u></p><p><u></u> <u></u></p><p>Running events will start at
  2:00pm  in the following order:   We will move through events as fast 
 as we can but will not move more than 15 minutes ahead of schedule.  Prel
 im schedule will run a little slower than the finals schedule below.<u></u
 ><u></u></p><p><u></u> <u></u></p><p><b>2:00 p.m.</b>   – 3000<u></u>
 <u></u></p><p><b>3:00 p.m.</b>   – 400 meter relay<u></u><u></u></p><p
 ><b>3:20 p.m.</b>   – 1500<u></u><u></u></p><p><b>3:50 p.m.</b>   
 – 100M hurdles<u></u><u></u></p><p><b>4:05 p.m.</b>   – 100 meters<u
 ></u><u></u></p><p><b>4:15 p.m.   </b>– Break<u></u><u></u></p><p><b>
 4:25 p.m.   </b>– 400 meters<u></u><u></u></p><p><b>4:40 p.m.</b>   
 – 800 meters<u></u><u></u></p><p><b>5:10 p.m.</b>   – 200 meters<u><
 /u><u></u></p><p><b>5:20 p.m.</b>   – 200M hurdles<u></u><u></u></p><p
 ><b>5:30 p.m.</b>   – 1600 meter relay<u></u><u></u></p><p><u></u> <u
 ></u></p><p>If your team would like to request a certain Job/Event to host
  please let me know and I will do the best I can at accommodating.<u></u><
 u></u></p><p><u></u> <u></u></p><p>This was last year-<u></u><u></u></p><
 p><u></u> <u></u></p><p></p>
LOCATION:North Medford High School\, 1900 N Keene Way Dr\, Medford\, OR 975
 04\, USA
SUMMARY:Ponderosa :Boy's Track Prelims - Hosted by Hedrick @ North Medford 
 High School
END:VEVENT
BEGIN:VEVENT
DTSTAMP:20260424T173029Z
UID:baa96f05-7c67-4353-8292-13a9ad9af972
DTSTART:20260429T173000
DTEND:20260429T190000
DESCRIPTION:
LOCATION:
SUMMARY:Ponderosa Boys Baseball vs. Jr Falcons @ Kiger
END:VEVENT
BEGIN:VEVENT
DTSTAMP:20260424T173029Z
UID:ac56ae25-6001-4682-95a3-223d33e451e2
DTSTART;VALUE=DATE:20260430
DTEND;VALUE=DATE:20260501
DESCRIPTION:
LOCATION:Ashland Middle School\, 100 Walker Ave\, Ashland\, OR 97520\, USA
SUMMARY:6th Grade Districts Track
END:VEVENT
BEGIN:VEVENT
DTSTAMP:20260424T173029Z
UID:75c8b4f9-5e86-486e-a847-6b69ca64eb2c
DTSTART:20260501T173000
DTEND:20260501T190000
DESCRIPTION:
LOCATION:
SUMMARY:School Dance
END:VEVENT
BEGIN:VEVENT
DTSTAMP:20260424T173029Z
UID:df023ed0-8807-470d-adaa-294fbb0319bf
DTSTART;VALUE=DATE:20260504
DTEND;VALUE=DATE:20260505
DESCRIPTION:<p>Monday Girls Prelims     4/27<u></u><u></u></p><p>Tuesday
  Boys Prelims     4/28  <u></u><u></u></p><p>Monday Finals      
              5/4<u></u><u></u></p><p><u></u> <u></u></p><p><u
 ></u> <u></u></p><p><u></u> <u></u></p><p><b>Ads when scheduling bussing
  please do not have your TEAMS ARRIVE Prior to 12:45 pm as school is in se
 ssion.<u></u><u></u></b></p><p><u></u> <u></u></p><p>1:30 p.m.   Scratc
 h meeting.  NO ADDITIONS.<u></u><u></u></p><p>1:45 p.m.   Field events<
 u></u><u></u></p><p>2:00 p.m.   Track Events              
  <u></u><u></u></p><p><u></u> <u></u></p><p>Running events will start at
  2:00pm  in the following order:   We will move through events as fast 
 as we can but will not move more than 15 minutes ahead of schedule.  Prel
 im schedule will run a little slower than the finals schedule below.<u></u
 ><u></u></p><p><u></u> <u></u></p><p><b>2:00 p.m.</b>   – 3000<u></u>
 <u></u></p><p><b>3:00 p.m.</b>   – 400 meter relay<u></u><u></u></p><p
 ><b>3:20 p.m.</b>   – 1500<u></u><u></u></p><p><b>3:50 p.m.</b>   
 – 100M hurdles<u></u><u></u></p><p><b>4:05 p.m.</b>   – 100 meters<u
 ></u><u></u></p><p><b>4:15 p.m.   </b>– Break<u></u><u></u></p><p><b>
 4:25 p.m.   </b>– 400 meters<u></u><u></u></p><p><b>4:40 p.m.</b>   
 – 800 meters<u></u><u></u></p><p><b>5:10 p.m.</b>   – 200 meters<u><
 /u><u></u></p><p><b>5:20 p.m.</b>   – 200M hurdles<u></u><u></u></p><p
 ><b>5:30 p.m.</b>   – 1600 meter relay<u></u><u></u></p><p><u></u> <u
 ></u></p><p>If your team would like to request a certain Job/Event to host
  please let me know and I will do the best I can at accommodating.<u></u><
 u></u></p><p><u></u> <u></u></p><p>This was last year-<u></u><u></u></p><
 p><u></u> <u></u></p><p></p>
LOCATION:North Medford High School\, 1900 N Keene Way Dr\, Medford\, OR 975
 04\, USA
SUMMARY:Ponderosa :District Finals - Hosted by Hedrick @ North Medford High
  School
END:VEVENT
BEGIN:VEVENT
DTSTAMP:20260424T173029Z
UID:a9e7bad1-7195-42a9-a7e2-71f43fb9c8c9
DTSTART:20260506T173000
DTEND:20260506T190000
DESCRIPTION:
LOCATION:
SUMMARY:Ponderosa Boys Baseball vs. Crosspoint Christian @ KU-Wright Field
END:VEVENT
BEGIN:VEVENT
DTSTAMP:20260424T173029Z
UID:46e40047-0b02-4764-9cb0-d4a64fdf6bc0
DTSTART;VALUE=DATE:20260508
DTEND;VALUE=DATE:20260509
DESCRIPTION:
LOCATION:
SUMMARY:Student Progress Report 4
END:VEVENT
BEGIN:VEVENT
DTSTAMP:20260424T173029Z
UID:1db466f8-03f1-4771-bba3-6cfd47f876e5
DTSTART:20260512T173000
DTEND:20260512T190000
DESCRIPTION:
LOCATION:
SUMMARY:Ponderosa Boys Baseball vs Crosspoint Christian @ Crosspoint
END:VEVENT
BEGIN:VEVENT
DTSTAMP:20260424T173029Z
UID:dfcea9ff-ef7f-4bbb-9ef3-bd2175bf9f28
DTSTART:20260519T173000
DTEND:20260519T190000
DESCRIPTION:
LOCATION:
SUMMARY:Ponderosa Boys Baseball vs. Jr Falcons @ KU Wright Field
END:VEVENT
BEGIN:VEVENT
DTSTAMP:20260424T173029Z
UID:444005b1-0b55-4bae-b569-0258d2ccf15c
DTSTART:20260519T190000
DTEND:20260519T200000
DESCRIPTION:
LOCATION:
SUMMARY:PTO Meeting
END:VEVENT
BEGIN:VEVENT
DTSTAMP:20260424T173029Z
UID:8603d818-75fb-46e4-8431-34b86cd24612
DTSTART:20260521T173000
DTEND:20260521T190000
DESCRIPTION:
LOCATION:
SUMMARY:Ponderosa Boys Baseball vs. Crosspoint Christian @ Crosspoint
END:VEVENT
BEGIN:VEVENT
DTSTAMP:20260424T173029Z
UID:9393acfd-1137-4168-b7ea-b7372b399be5
DTSTART;VALUE=DATE:20260525
DTEND;VALUE=DATE:20260526
DESCRIPTION:
LOCATION:
SUMMARY:No School - Memorial Day
END:VEVENT
BEGIN:VEVENT
DTSTAMP:20260424T173029Z
UID:ca03752c-b47b-487b-8fa3-700946617a11
DTSTART:20260527T173000
DTEND:20260527T190000
DESCRIPTION:
LOCATION:
SUMMARY:Ponderosa Boys Baseball vs. Crosspoint Christian @ KU Wright Field
END:VEVENT
BEGIN:VEVENT
DTSTAMP:20260424T173029Z
UID:b9c3390a-fdb6-49fe-8380-47756f8798f2
DTSTART:20260528T180000
DTEND:20260528T190000
DESCRIPTION:
LOCATION:
SUMMARY:Ponderosa : Incoming 6th Grade Night
END:VEVENT
BEGIN:VEVENT
DTSTAMP:20260424T173029Z
UID:2890f1a1-e6ba-4a35-aa58-eb9c55e88a02
DTSTART:20260602T173000
DTEND:20260602T190000
DESCRIPTION:
LOCATION:
SUMMARY:Ponderosa Boys Baseball vs. Lakeview @ Lakeview HS
END:VEVENT
BEGIN:VEVENT
DTSTAMP:20260424T173029Z
UID:d615b4c8-103a-4c49-8862-15546061a023
DTSTART:20260602T190000
DTEND:20260602T203000
DESCRIPTION:Concert will be at Ponderosa in the Gym
LOCATION:
SUMMARY:Ponderosa: Choir Concert
END:VEVENT
BEGIN:VEVENT
DTSTAMP:20260424T173029Z
UID:dab4c072-3c84-4ca8-a3df-797bab19378b
DTSTART:20260604T190000
DTEND:20260604T203000
DESCRIPTION:Concert will be at Ponderosa in the Gym
LOCATION:
SUMMARY:Ponderosa: Band Concert
END:VEVENT
BEGIN:VEVENT
DTSTAMP:20260424T173029Z
UID:31300bdb-cf88-43cc-9a93-4aaa0e6e5546
DTSTART:20260605T173000
DTEND:20260605T190000
DESCRIPTION:
LOCATION:
SUMMARY:Ponderosa Boys Baseball vs. Lakeview @ KU Wright Field
END:VEVENT
BEGIN:VEVENT
DTSTAMP:20260424T173029Z
UID:30f31d6c-3934-4823-9e96-646601f3141e
DTSTART;VALUE=DATE:20260611
DTEND;VALUE=DATE:20260612
DESCRIPTION:
LOCATION:
SUMMARY:Last Day for Students
END:VEVENT
BEGIN:VEVENT
DTSTAMP:20260424T173029Z
UID:5f293c91-7539-48c4-9459-4731c4b8e865
DTSTART;VALUE=DATE:20260612
DTEND;VALUE=DATE:20260613
DESCRIPTION:
LOCATION:
SUMMARY:Last Day for Staff
END:VEVENT
BEGIN:VEVENT
DTSTAMP:20260424T173029Z
UID:540516d1-b8d6-4b15-a109-79f5ee42b5fd
DTSTART;VALUE=DATE:20260619
DTEND;VALUE=DATE:20260620
DESCRIPTION:
LOCATION:
SUMMARY:Juneteenth
END:VEVENT
BEGIN:VEVENT
DTSTAMP:20260424T173029Z
UID:60f8249a-8116-4b97-8ca9-46e3bcd4086b
DTSTART;VALUE=DATE:20260914
DTEND;VALUE=DATE:20260915
DESCRIPTION:
LOCATION:
SUMMARY:Ponderosa: Picture Day
END:VEVENT
BEGIN:VEVENT
DTSTAMP:20260424T173029Z
UID:e876520f-5a3e-400a-91db-df8a446f6492
DTSTART;VALUE=DATE:20260930
DTEND;VALUE=DATE:20261001
DESCRIPTION:
LOCATION:
SUMMARY:Ponderosa: School Picture Retake Day
END:VEVENT
END:VCALENDAR
