BEGIN:VCALENDAR
VERSION:2.0
PRODID:icalendar-ruby
CALSCALE:GREGORIAN
BEGIN:VTIMEZONE
TZID:America/New_York
BEGIN:DAYLIGHT
DTSTART:20260308T030000
TZOFFSETFROM:-0500
TZOFFSETTO:-0400
RRULE:FREQ=YEARLY;BYDAY=2SU;BYMONTH=3
TZNAME:EDT
END:DAYLIGHT
BEGIN:STANDARD
DTSTART:20261101T010000
TZOFFSETFROM:-0400
TZOFFSETTO:-0500
RRULE:FREQ=YEARLY;BYDAY=1SU;BYMONTH=11
TZNAME:EST
END:STANDARD
END:VTIMEZONE
BEGIN:VEVENT
DTSTAMP:20260425T024028Z
UID:7ebc8739-b868-47f0-9225-7e7d22e8403b
DTSTART:20260422T000000
DTEND:20260425T000000
DESCRIPTION:
LOCATION:
SUMMARY:8th Grade Washington DC Trip
END:VEVENT
BEGIN:VEVENT
DTSTAMP:20260425T024028Z
UID:c62ef61f-b1ce-4212-9f21-3dc6831c775f
DTSTART:20260424T080000
DTEND:20260424T140000
DESCRIPTION:
LOCATION:
SUMMARY:5th Grade State Park-TBD 2 classes in AM/2 classes in PM
END:VEVENT
BEGIN:VEVENT
DTSTAMP:20260425T024028Z
UID:0b4cbb22-6a10-4000-9c80-c73bc166e060
DTSTART:20260506T190000
DTEND:20260506T210000
DESCRIPTION:
LOCATION:Garber Ankey Auditorium
SUMMARY:Band Concert Grades 7 & 8
END:VEVENT
BEGIN:VEVENT
DTSTAMP:20260425T024028Z
UID:0df3fe59-b863-4ee6-9e3f-b93ebcee9287
DTSTART:20260514T180000
DTEND:20260514T200000
DESCRIPTION:
LOCATION:
SUMMARY:Spring Choir Concert-Senior Send Off-Grades 6-12 Garber Auditorium
END:VEVENT
BEGIN:VEVENT
DTSTAMP:20260425T024028Z
UID:c7492a63-9440-4a23-852d-1d0d4ac37e0c
DTSTART:20260518T000000
DTEND:20260518T000000
DESCRIPTION:
LOCATION:
SUMMARY:8th Grade Cedar Point Trip
END:VEVENT
BEGIN:VEVENT
DTSTAMP:20260425T024028Z
UID:49ab8c23-bfb8-4e25-8100-aa8dfb18f735
DTSTART:20260519T080000
DTEND:20260519T140000
DESCRIPTION:
LOCATION:
SUMMARY:6th Grade PE-Loon's Baseball Field Trip
END:VEVENT
BEGIN:VEVENT
DTSTAMP:20260425T024028Z
UID:deb5b04e-6cce-4a5c-a71d-b1573d0d06c8
DTSTART:20260519T190000
DTEND:20260519T210000
DESCRIPTION:
LOCATION:Garber Ankey Auditorium
SUMMARY:Band Concert Grade 6
END:VEVENT
BEGIN:VEVENT
DTSTAMP:20260425T024028Z
UID:5f811b9c-760a-4b69-8e63-59f8d2813e82
DTSTART:20260529T083000
DTEND:20260529T140000
DESCRIPTION:
LOCATION:
SUMMARY:5th Grade Crossroads Village 
END:VEVENT
BEGIN:VEVENT
DTSTAMP:20260425T024028Z
UID:63d0879b-4513-4786-b441-15db7cf0744a
DTSTART:20260603T082000
DTEND:20260603T092000
DESCRIPTION:
LOCATION:Garber Ankey Auditorium
SUMMARY:6th Grade Awards
END:VEVENT
BEGIN:VEVENT
DTSTAMP:20260425T024028Z
UID:a7e8a200-a7a8-4ace-99ab-c54401c368c4
DTSTART:20260603T093000
DTEND:20260603T103000
DESCRIPTION:
LOCATION:Garber Ankey Auditorium
SUMMARY:7th Grade Awards
END:VEVENT
BEGIN:VEVENT
DTSTAMP:20260425T024028Z
UID:0449ab76-1b4f-4697-a846-5fe8dde94567
DTSTART:20260603T115000
DTEND:20260603T125000
DESCRIPTION:
LOCATION:Garber Ankey Auditorium
SUMMARY:5th Grade Awards
END:VEVENT
BEGIN:VEVENT
DTSTAMP:20260425T024028Z
UID:ed329f0e-4266-4281-9592-e5e5a1a727a3
DTSTART:20260603T180000
DTEND:20260603T203000
DESCRIPTION:
LOCATION:Garber-Ankey Auditorium for Awards\, Cramer Cafeteria for dance
SUMMARY:8th Grade Awards-Dance to follow\, ending at 8:30
END:VEVENT
BEGIN:VEVENT
DTSTAMP:20260425T024028Z
UID:017b124a-dbb7-4db9-a6a4-65750ec0eddc
DTSTART:20260604T080000
DTEND:20260604T115000
DESCRIPTION:
LOCATION:
SUMMARY:Last Day of School-1/2 Day 11:50AM Dismissal
END:VEVENT
END:VCALENDAR
