BEGIN:VCALENDAR
VERSION:2.0
PRODID:icalendar-ruby
CALSCALE:GREGORIAN
BEGIN:VTIMEZONE
TZID:America/Chicago
BEGIN:DAYLIGHT
DTSTART:20260308T030000
TZOFFSETFROM:-0600
TZOFFSETTO:-0500
RRULE:FREQ=YEARLY;BYDAY=2SU;BYMONTH=3
TZNAME:CDT
END:DAYLIGHT
BEGIN:STANDARD
DTSTART:20261101T010000
TZOFFSETFROM:-0500
TZOFFSETTO:-0600
RRULE:FREQ=YEARLY;BYDAY=1SU;BYMONTH=11
TZNAME:CST
END:STANDARD
END:VTIMEZONE
BEGIN:VEVENT
DTSTAMP:20260425T182108Z
UID:5e14544f-0111-4300-93db-23bfbacf09a3
DTSTART:20260425T170000
DTEND:20260425T220000
DESCRIPTION:Whippet Booster Club Auction\nUWW- Hamilton Room (University Ce
 nter- 190 Hamilton Grn Way\, Room 164)\n\nDoors 5pm\nDinner 6pm\nLive Auct
 ion 7pm
LOCATION:
SUMMARY:Whippet Booster Club Auction
END:VEVENT
BEGIN:VEVENT
DTSTAMP:20260425T182108Z
UID:ef52f267-c06b-44ba-bfec-140024790fa3
DTSTART:20260425T200000
DTEND:20260425T230000
DESCRIPTION:held at The Venue in Janesville
LOCATION:
SUMMARY:Prom
END:VEVENT
BEGIN:VEVENT
DTSTAMP:20260425T182108Z
UID:ad66b5c4-03dd-49c6-993d-0d5fdb530b81
DTSTART:20260427T180000
DTEND:20260427T210000
DESCRIPTION:Topic: April 2026 Board Meeting\n\nJoin from PC\, Mac\, iPad\, 
 or Android:\n<a href="https://www.google.com/url?q=https://us02web.zoom.us
 /j/84343606226?pwd%3DSM4rTRus5a22ivrcbzI3b2TDyFnnY8.1&amp\;sa=D&amp\;sourc
 e=calendar&amp\;ust=1746979398752291&amp\;usg=AOvVaw0feuiY1pp9ysulVIaGuzIH
 " target="_blank">https://us02web.zoom.us/j/84343606226?pwd=SM4rTRus5a22iv
 rcbzI3b2TDyFnnY8.1</a>\nPasscode:349226\n\nPhone one-tap:\n+16469313860\,\
 ,84343606226#\,\,\,\,*349226# US\n+19292056099\,\,84343606226#\,\,\,\,*349
 226# US (New York)\n\nJoin via audio:\n+1 646 931 3860 US\n+1 929 205 6099
  US (New York)\n+1 301 715 8592 US (Washington DC)\n+1 305 224 1968 US\n+1
  309 205 3325 US\n+1 312 626 6799 US (Chicago)\n+1 253 205 0468 US\n+1 253
  215 8782 US (Tacoma)\n+1 346 248 7799 US (Houston)\n+1 360 209 5623 US\n+
 1 386 347 5053 US\n+1 507 473 4847 US\n+1 564 217 2000 US\n+1 669 444 9171
  US\n+1 669 900 6833 US (San Jose)\n+1 689 278 1000 US\n+1 719 359 4580 US
 \nWebinar ID: 843 4360 6226\nPasscode: 349226\nInternational numbers avail
 able: <a href="https://www.google.com/url?q=https://us02web.zoom.us/u/kdYB
 J1ayuO&amp\;sa=D&amp\;source=calendar&amp\;ust=1746979398752291&amp\;usg=A
 OvVaw38zF8oVUE_itmnZt26Zzfa" target="_blank">https://us02web.zoom.us/u/kdY
 BJ1ayuO</a>\n\n\n
LOCATION:https://us02web.zoom.us/j/84343606226?pwd=SM4rTRus5a22ivrcbzI3b2TD
 yFnnY8.1
SUMMARY:April 2026 Board Meeting
END:VEVENT
BEGIN:VEVENT
DTSTAMP:20260425T182108Z
UID:757040c9-6b15-43c5-9876-965d9ee22f16
DTSTART:20260430T183000
DTEND:20260430T203000
DESCRIPTION:
LOCATION:
SUMMARY:Spring Orchestra Festival
END:VEVENT
BEGIN:VEVENT
DTSTAMP:20260425T182108Z
UID:baa179fd-cf5e-4b3a-957a-3f1de16df67a
DTSTART:20260501T143000
DTEND:20260501T151500
DESCRIPTION:P8 Auditorium
LOCATION:
SUMMARY:MANDATORY Senior Meeting/Cap & Gown Distribution
END:VEVENT
BEGIN:VEVENT
DTSTAMP:20260425T182108Z
UID:16f8b52b-ca20-4a38-a6d8-d1cd1537c994
DTSTART:20260504T173000
DTEND:20260504T183000
DESCRIPTION:
LOCATION:
SUMMARY:Music Booster Meeting
END:VEVENT
BEGIN:VEVENT
DTSTAMP:20260425T182108Z
UID:cf466580-314f-48df-83ef-e709a8ea7ca8
DTSTART:20260505T190000
DTEND:20260505T210000
DESCRIPTION:
LOCATION:
SUMMARY:6th & 7th Grade Band Concert
END:VEVENT
BEGIN:VEVENT
DTSTAMP:20260425T182108Z
UID:26bc30a3-abe4-4fa9-bf1c-f3d90c6632cb
DTSTART:20260506T190000
DTEND:20260506T210000
DESCRIPTION:
LOCATION:
SUMMARY:HS Band Concert
END:VEVENT
BEGIN:VEVENT
DTSTAMP:20260425T182108Z
UID:b8ef3b53-8615-4548-8492-747d526cb05f
DTSTART:20260507T190000
DTEND:20260507T200000
DESCRIPTION:
LOCATION:
SUMMARY:5th & 8th Grade Band Concert
END:VEVENT
BEGIN:VEVENT
DTSTAMP:20260425T182108Z
UID:11744294-fb4f-45cf-8c09-a4bfc3a67aed
DTSTART:20260508T190000
DTEND:20260508T200000
DESCRIPTION:
LOCATION:
SUMMARY:Charlotte Hajewski Sr. Recital
END:VEVENT
BEGIN:VEVENT
DTSTAMP:20260425T182108Z
UID:6d58b8af-6ffe-4cd4-80b1-d59a1b456c60
DTSTART:20260509T100000
DTEND:20260509T140000
DESCRIPTION:
LOCATION:
SUMMARY:Robotics STEAM Faire
END:VEVENT
BEGIN:VEVENT
DTSTAMP:20260425T182108Z
UID:cc5b68b5-b291-49f7-bd99-f79fb2eacc6c
DTSTART:20260513T170000
DTEND:20260513T200000
DESCRIPTION:
LOCATION:
SUMMARY:Robotics Ice Cream Social & Awards
END:VEVENT
BEGIN:VEVENT
DTSTAMP:20260425T182108Z
UID:1740cbb9-f1ab-45b6-a922-276737e4c57b
DTSTART:20260513T190000
DTEND:20260513T200000
DESCRIPTION:
LOCATION:
SUMMARY:HS Choir Concert
END:VEVENT
BEGIN:VEVENT
DTSTAMP:20260425T182108Z
UID:3e28c97d-91a6-4518-9d8c-d2b8e0a2e660
DTSTART;VALUE=DATE:20260517
DTEND;VALUE=DATE:20260518
DESCRIPTION:Cravath Lake Venue
LOCATION:
SUMMARY:MS/HS Jazz in the Park
END:VEVENT
BEGIN:VEVENT
DTSTAMP:20260425T182108Z
UID:65315993-37d4-4fe1-8160-84c5de8c367a
DTSTART:20260518T160000
DTEND:20260518T193000
DESCRIPTION:
LOCATION:
SUMMARY:PORTFOLIO PRESENTATIONS
END:VEVENT
BEGIN:VEVENT
DTSTAMP:20260425T182108Z
UID:76399987-1d9c-4e46-95af-1291535d2f97
DTSTART:20260518T190000
DTEND:20260518T200000
DESCRIPTION:
LOCATION:
SUMMARY:MS Choir Concert
END:VEVENT
BEGIN:VEVENT
DTSTAMP:20260425T182108Z
UID:7cd2b391-5a5f-4920-86a6-625e64389068
DTSTART:20260519T073000
DTEND:20260519T084000
DESCRIPTION:
LOCATION:
SUMMARY:Senior Checkout Clinic
END:VEVENT
BEGIN:VEVENT
DTSTAMP:20260425T182108Z
UID:57910669-b576-497c-999a-2b4d8c3e6c91
DTSTART:20260519T190000
DTEND:20260519T210000
DESCRIPTION:
LOCATION:
SUMMARY:5th Grade Choir Concert
END:VEVENT
BEGIN:VEVENT
DTSTAMP:20260425T182108Z
UID:d1e9c408-77c5-411f-8b51-51388135e4ed
DTSTART:20260520T180000
DTEND:20260520T200000
DESCRIPTION:
LOCATION:
SUMMARY:Scholarship Night
END:VEVENT
BEGIN:VEVENT
DTSTAMP:20260425T182108Z
UID:739bec49-a47e-48ce-a966-8bd8b9752cd8
DTSTART:20260522T190000
DTEND:20260522T210000
DESCRIPTION:
LOCATION:
SUMMARY:HS Graduation
END:VEVENT
BEGIN:VEVENT
DTSTAMP:20260425T182108Z
UID:9049e36a-bfe2-46d8-84bf-e33fb1401820
DTSTART;VALUE=DATE:20260525
DTEND;VALUE=DATE:20260526
DESCRIPTION:
LOCATION:
SUMMARY:NO SCHOOL
END:VEVENT
BEGIN:VEVENT
DTSTAMP:20260425T182108Z
UID:378de7bf-7a50-4e0d-9c3a-431cfe44e21b
DTSTART:20260526T173000
DTEND:20260526T193000
DESCRIPTION:
LOCATION:
SUMMARY:Track & Field Banquet
END:VEVENT
BEGIN:VEVENT
DTSTAMP:20260425T182108Z
UID:3991f805-e494-4a80-9c50-a556a8a865cb
DTSTART:20260526T180000
DTEND:20260526T210000
DESCRIPTION:Topic: May 2026 Board Meeting\n\nJoin from PC\, Mac\, iPad\, or
  Android:\n<a href="https://www.google.com/url?q=https://us02web.zoom.us/j
 /83039116695?pwd%3DnGaWlsWf5Ube2585gESOQbR1KpxFxb.1&amp\;sa=D&amp\;source=
 calendar&amp\;ust=1746979516373485&amp\;usg=AOvVaw2MTSYdFM6CuLK_4vzlYkU7" 
 target="_blank">https://us02web.zoom.us/j/83039116695?pwd=nGaWlsWf5Ube2585
 gESOQbR1KpxFxb.1</a>\nPasscode:002157\n\nPhone one-tap:\n+13126266799\,\,8
 3039116695#\,\,\,\,*002157# US (Chicago)\n+16469313860\,\,83039116695#\,\,
 \,\,*002157# US\n\nJoin via audio:\n+1 312 626 6799 US (Chicago)\n+1 646 9
 31 3860 US\n+1 929 205 6099 US (New York)\n+1 301 715 8592 US (Washington 
 DC)\n+1 305 224 1968 US\n+1 309 205 3325 US\n+1 386 347 5053 US\n+1 507 47
 3 4847 US\n+1 564 217 2000 US\n+1 669 444 9171 US\n+1 669 900 6833 US (San
  Jose)\n+1 689 278 1000 US\n+1 719 359 4580 US\n+1 253 205 0468 US\n+1 253
  215 8782 US (Tacoma)\n+1 346 248 7799 US (Houston)\n+1 360 209 5623 US\nW
 ebinar ID: 830 3911 6695\nPasscode: 002157\nInternational numbers availabl
 e: <a href="https://www.google.com/url?q=https://us02web.zoom.us/u/kbiVxNv
 ZqU&amp\;sa=D&amp\;source=calendar&amp\;ust=1746979516373485&amp\;usg=AOvV
 aw3HbdEmiM63enDW3BTmpVBp" target="_blank">https://us02web.zoom.us/u/kbiVxN
 vZqU</a>\n\n\n
LOCATION:https://us02web.zoom.us/j/83039116695?pwd=nGaWlsWf5Ube2585gESOQbR1
 KpxFxb.1
SUMMARY:May 2026 Board Meeting
END:VEVENT
BEGIN:VEVENT
DTSTAMP:20260425T182108Z
UID:a4ce85e3-e5e6-4707-b390-b432bf017e6e
DTSTART;VALUE=DATE:20260605
DTEND;VALUE=DATE:20260606
DESCRIPTION:
LOCATION:
SUMMARY:Last Day of School- 1/2 DAY
END:VEVENT
BEGIN:VEVENT
DTSTAMP:20260425T182108Z
UID:94a291bf-2a32-4a70-97fa-9fc027e4b9cc
DTSTART;VALUE=DATE:20260608
DTEND;VALUE=DATE:20260609
DESCRIPTION:
LOCATION:
SUMMARY:Summer School Begins
END:VEVENT
BEGIN:VEVENT
DTSTAMP:20260425T182108Z
UID:88250418-c1ba-4670-9295-28073fe0600d
DTSTART:20260622T180000
DTEND:20260622T210000
DESCRIPTION:Topic: June 2026 Board Meeting\n\nJoin from PC\, Mac\, iPad\, o
 r Android:\n<a href="https://www.google.com/url?q=https://us02web.zoom.us/
 j/82384085694?pwd%3D7IjKJFCjiCFcrRC3wYcb6asyuCdhYG.1&amp\;sa=D&amp\;source
 =calendar&amp\;ust=1746979547980402&amp\;usg=AOvVaw0mUEEuhakz7ANNvngXCuDR"
  target="_blank">https://us02web.zoom.us/j/82384085694?pwd=7IjKJFCjiCFcrRC
 3wYcb6asyuCdhYG.1</a>\nPasscode:444545\n\nPhone one-tap:\n+13017158592\,\,
 82384085694#\,\,\,\,*444545# US (Washington DC)\n+13052241968\,\,823840856
 94#\,\,\,\,*444545# US\n\nJoin via audio:\n+1 301 715 8592 US (Washington 
 DC)\n+1 305 224 1968 US\n+1 309 205 3325 US\n+1 312 626 6799 US (Chicago)\
 n+1 646 931 3860 US\n+1 929 205 6099 US (New York)\n+1 346 248 7799 US (Ho
 uston)\n+1 360 209 5623 US\n+1 386 347 5053 US\n+1 507 473 4847 US\n+1 564
  217 2000 US\n+1 669 444 9171 US\n+1 669 900 6833 US (San Jose)\n+1 689 27
 8 1000 US\n+1 719 359 4580 US\n+1 253 205 0468 US\n+1 253 215 8782 US (Tac
 oma)\nWebinar ID: 823 8408 5694\nPasscode: 444545\nInternational numbers a
 vailable: <a href="https://www.google.com/url?q=https://us02web.zoom.us/u/
 kOiwNuqeX&amp\;sa=D&amp\;source=calendar&amp\;ust=1746979547980402&amp\;us
 g=AOvVaw1qVbbYi1MPaA1Dp9DSAhP3" target="_blank">https://us02web.zoom.us/u/
 kOiwNuqeX</a>\n\n\n
LOCATION:https://us02web.zoom.us/j/82384085694?pwd=7IjKJFCjiCFcrRC3wYcb6asy
 uCdhYG.1
SUMMARY:June 2026 Board Meeting
END:VEVENT
BEGIN:VEVENT
DTSTAMP:20260425T182108Z
UID:d1988f7c-5313-4e75-a5f2-7e911d380d95
DTSTART:20261007T193000
DTEND:20261007T210000
DESCRIPTION:
LOCATION:
SUMMARY:Lip Sync
END:VEVENT
BEGIN:VEVENT
DTSTAMP:20260425T182108Z
UID:baad9c6a-472a-4490-821b-33f1f7652c18
DTSTART:20261010T200000
DTEND:20261010T230000
DESCRIPTION:
LOCATION:
SUMMARY:Homecoming Dance
END:VEVENT
BEGIN:VEVENT
DTSTAMP:20260425T182108Z
UID:e89b4245-8ed4-48f7-b8d1-d01f65482773
DTSTART:20261014T190000
DTEND:20261014T200000
DESCRIPTION:Auditorium
LOCATION:
SUMMARY:HS Band Concert
END:VEVENT
BEGIN:VEVENT
DTSTAMP:20260425T182108Z
UID:cf81efda-c769-416a-b6cd-4f077ed33cb8
DTSTART:20261106T190000
DTEND:20261106T210000
DESCRIPTION:MPR
LOCATION:
SUMMARY:Evening of Jazz
END:VEVENT
BEGIN:VEVENT
DTSTAMP:20260425T182108Z
UID:c0d8ced9-9e74-416b-b0c1-51964041b744
DTSTART:20261107T150000
DTEND:20261107T170000
DESCRIPTION:Main  Gym
LOCATION:
SUMMARY:Whitewater Choral Festival
END:VEVENT
BEGIN:VEVENT
DTSTAMP:20260425T182108Z
UID:82825dbf-ea94-42be-87da-1a243471747d
DTSTART:20261119T190000
DTEND:20261119T210000
DESCRIPTION:
LOCATION:
SUMMARY:Fall Musical
END:VEVENT
BEGIN:VEVENT
DTSTAMP:20260425T182108Z
UID:30f2c695-4d76-4c02-bfa1-d05324a2d3b4
DTSTART:20261120T190000
DTEND:20261120T210000
DESCRIPTION:
LOCATION:
SUMMARY:Fall Musical
END:VEVENT
BEGIN:VEVENT
DTSTAMP:20260425T182108Z
UID:ba7a18eb-b44f-48e1-aac7-54cdab4c50ed
DTSTART:20261121T190000
DTEND:20261121T210000
DESCRIPTION:
LOCATION:
SUMMARY:Fall Musical
END:VEVENT
BEGIN:VEVENT
DTSTAMP:20260425T182108Z
UID:fafc0fcb-e462-41b8-bae7-95ab0e8a5c59
DTSTART:20261122T140000
DTEND:20261122T160000
DESCRIPTION:
LOCATION:
SUMMARY:Fall Musical
END:VEVENT
BEGIN:VEVENT
DTSTAMP:20260425T182108Z
UID:370333f6-94b9-4a1d-ba88-192f41dfed97
DTSTART:20261202T190000
DTEND:20261202T200000
DESCRIPTION:
LOCATION:
SUMMARY:NHS Induction Ceremony
END:VEVENT
BEGIN:VEVENT
DTSTAMP:20260425T182108Z
UID:76565782-c366-4f0a-8ee5-b7aea4009e29
DTSTART:20261203T183000
DTEND:20261203T193000
DESCRIPTION:
LOCATION:
SUMMARY:WUSD Orchestra Concert
END:VEVENT
BEGIN:VEVENT
DTSTAMP:20260425T182108Z
UID:dbb7260f-0bfc-49e8-a19c-36ea88bfc27f
DTSTART:20261209T190000
DTEND:20261209T200000
DESCRIPTION:
LOCATION:
SUMMARY:HS  Choir & Band Winter Gala
END:VEVENT
BEGIN:VEVENT
DTSTAMP:20260425T182108Z
UID:6bf7d735-88d7-4831-b5e9-76b0e83bfe3b
DTSTART:20261210T190000
DTEND:20261210T200000
DESCRIPTION:
LOCATION:
SUMMARY:WMS Band Concert
END:VEVENT
BEGIN:VEVENT
DTSTAMP:20260425T182108Z
UID:0d4f8e50-a144-4bba-933c-2bb07438df7d
DTSTART:20261214T190000
DTEND:20261214T200000
DESCRIPTION:
LOCATION:
SUMMARY:WMS Choir & Show Choir Concert
END:VEVENT
BEGIN:VEVENT
DTSTAMP:20260425T182108Z
UID:168c368a-ba8d-4b7a-a77c-fec828a5117c
DTSTART:20261215T190000
DTEND:20261215T200000
DESCRIPTION:
LOCATION:
SUMMARY:5th Grade Elementary Choir Concert
END:VEVENT
BEGIN:VEVENT
DTSTAMP:20260425T182108Z
UID:0e0cd797-981c-48c6-bf27-067199fe63f4
DTSTART:20261220T150000
DTEND:20261220T160000
DESCRIPTION:MPR
LOCATION:
SUMMARY:Music Masters Showcase
END:VEVENT
BEGIN:VEVENT
DTSTAMP:20260425T182108Z
UID:a6a5b706-bdd6-42f1-9be9-2e834cb2a337
DTSTART:20270112T180000
DTEND:20270112T190000
DESCRIPTION:
LOCATION:
SUMMARY:Pepapalooza
END:VEVENT
BEGIN:VEVENT
DTSTAMP:20260425T182108Z
UID:507baafa-9a2f-4c79-aa42-5d8f4077965e
DTSTART:20270203T190000
DTEND:20270203T200000
DESCRIPTION:
LOCATION:
SUMMARY:Bandorama
END:VEVENT
BEGIN:VEVENT
DTSTAMP:20260425T182108Z
UID:647331dd-a485-4439-a9d9-22e4c20f58a8
DTSTART:20270225T190000
DTEND:20270225T200000
DESCRIPTION:
LOCATION:
SUMMARY:Spring Play
END:VEVENT
BEGIN:VEVENT
DTSTAMP:20260425T182108Z
UID:e9b28a4f-12e8-4a82-bfa0-0e98e023780e
DTSTART:20270226T190000
DTEND:20270226T200000
DESCRIPTION:
LOCATION:
SUMMARY:Spring Play
END:VEVENT
BEGIN:VEVENT
DTSTAMP:20260425T182108Z
UID:461b1299-9c8c-4a4b-a399-2cf2ba758bfb
DTSTART:20270227T190000
DTEND:20270227T200000
DESCRIPTION:
LOCATION:
SUMMARY:Spring Play
END:VEVENT
BEGIN:VEVENT
DTSTAMP:20260425T182108Z
UID:d349e0aa-97b9-4c0b-a103-a3b3baef5108
DTSTART:20270228T140000
DTEND:20270228T150000
DESCRIPTION:
LOCATION:
SUMMARY:Spring Play
END:VEVENT
BEGIN:VEVENT
DTSTAMP:20260425T182108Z
UID:42924f0b-2e31-40e6-9323-8f19ef10f6cb
DTSTART;VALUE=DATE:20270313
DTEND;VALUE=DATE:20270314
DESCRIPTION:All day all buildings
LOCATION:
SUMMARY:District Solo & Ensemble
END:VEVENT
BEGIN:VEVENT
DTSTAMP:20260425T182108Z
UID:0c851318-604b-438a-b8bd-6fe3edd6bf7a
DTSTART;VALUE=DATE:20270408
DTEND;VALUE=DATE:20270409
DESCRIPTION:
LOCATION:
SUMMARY:MS Play
END:VEVENT
BEGIN:VEVENT
DTSTAMP:20260425T182108Z
UID:ba2588db-bb04-4ef8-9088-f8328746b47c
DTSTART:20270409T190000
DTEND:20270409T200000
DESCRIPTION:
LOCATION:
SUMMARY:MS Play
END:VEVENT
BEGIN:VEVENT
DTSTAMP:20260425T182108Z
UID:5a6ee080-58a5-4fc1-b032-9a2841a9dba7
DTSTART:20270410T190000
DTEND:20270410T200000
DESCRIPTION:
LOCATION:
SUMMARY:MS Play
END:VEVENT
BEGIN:VEVENT
DTSTAMP:20260425T182108Z
UID:e2bc3298-403d-4b12-a78c-cdb094af34c5
DTSTART:20270411T140000
DTEND:20270411T150000
DESCRIPTION:
LOCATION:
SUMMARY:MS Play
END:VEVENT
BEGIN:VEVENT
DTSTAMP:20260425T182108Z
UID:0d7c64df-e0ab-4d13-94de-8d095ee16214
DTSTART:20270429T183000
DTEND:20270429T193000
DESCRIPTION:
LOCATION:
SUMMARY:Spring Orchestra Festival
END:VEVENT
BEGIN:VEVENT
DTSTAMP:20260425T182108Z
UID:953d8038-c1da-4891-bf08-ae394e1a966c
DTSTART:20270504T190000
DTEND:20270504T200000
DESCRIPTION:
LOCATION:
SUMMARY:6th & 7th Grade Band Concert
END:VEVENT
BEGIN:VEVENT
DTSTAMP:20260425T182108Z
UID:749b19c3-1468-4321-8929-de59f46fe558
DTSTART:20270505T190000
DTEND:20270505T200000
DESCRIPTION:
LOCATION:
SUMMARY:HS Band Concert
END:VEVENT
BEGIN:VEVENT
DTSTAMP:20260425T182108Z
UID:87e78c27-16e9-477e-9bfc-90025112fb1a
DTSTART:20270508T100000
DTEND:20270508T143000
DESCRIPTION:MPR and gyms
LOCATION:
SUMMARY:Robotics STEAM Faire
END:VEVENT
BEGIN:VEVENT
DTSTAMP:20260425T182108Z
UID:a762601c-2dc0-431c-b41e-4ea374840901
DTSTART:20270510T190000
DTEND:20270510T200000
DESCRIPTION:
LOCATION:
SUMMARY:WMS Choir & Show Choir Concert
END:VEVENT
BEGIN:VEVENT
DTSTAMP:20260425T182108Z
UID:a51265c4-0e24-489f-861e-7e21ae01e987
DTSTART:20270511T190000
DTEND:20270511T200000
DESCRIPTION:
LOCATION:
SUMMARY:5th Grade Choir Concert
END:VEVENT
BEGIN:VEVENT
DTSTAMP:20260425T182108Z
UID:7846834a-724a-4e1b-93fc-b877484ba9aa
DTSTART:20270512T190000
DTEND:20270512T200000
DESCRIPTION:
LOCATION:
SUMMARY:HS Choir Concert
END:VEVENT
BEGIN:VEVENT
DTSTAMP:20260425T182108Z
UID:9b0458be-df16-4c7e-bf15-a2b807269296
DTSTART:20270524T160000
DTEND:20270524T193000
DESCRIPTION:
LOCATION:
SUMMARY:Portfolio Presentations
END:VEVENT
BEGIN:VEVENT
DTSTAMP:20260425T182108Z
UID:d558f59f-9478-43c6-aa31-c6c2e2624e2f
DTSTART:20270526T180000
DTEND:20270526T190000
DESCRIPTION:
LOCATION:
SUMMARY:Scholarship Night
END:VEVENT
BEGIN:VEVENT
DTSTAMP:20260425T182108Z
UID:268d8c59-e5db-48ff-bd47-60f1d114136b
DTSTART:20270528T190000
DTEND:20270528T200000
DESCRIPTION:
LOCATION:
SUMMARY:Graduation
END:VEVENT
END:VCALENDAR
