BEGIN:VCALENDAR
VERSION:2.0
PRODID:icalendar-ruby
CALSCALE:GREGORIAN
BEGIN:VTIMEZONE
TZID:America/New_York
BEGIN:DAYLIGHT
DTSTART:20260308T030000
TZOFFSETFROM:-0500
TZOFFSETTO:-0400
RRULE:FREQ=YEARLY;BYDAY=2SU;BYMONTH=3
TZNAME:EDT
END:DAYLIGHT
BEGIN:STANDARD
DTSTART:20261101T010000
TZOFFSETFROM:-0400
TZOFFSETTO:-0500
RRULE:FREQ=YEARLY;BYDAY=1SU;BYMONTH=11
TZNAME:EST
END:STANDARD
END:VTIMEZONE
BEGIN:VEVENT
DTSTAMP:20260420T153900Z
UID:a28e6637-e42b-4278-8cce-94e1b3fc4aa9
DTSTART:20260423T180000
DTEND:20260423T200000
DESCRIPTION:
LOCATION:490 Chapel St\, Stratford\, CT 06614\, USA
SUMMARY:Incoming 7th grade orientation
END:VEVENT
BEGIN:VEVENT
DTSTAMP:20260420T153900Z
UID:e588111c-7f7e-412d-932a-0a51c486183e
DTSTART:20260430T180000
DTEND:20260430T200000
DESCRIPTION:
LOCATION:
SUMMARY:Multicultural Night
END:VEVENT
BEGIN:VEVENT
DTSTAMP:20260420T153900Z
UID:af99b15c-cbfc-44ff-87b9-d0c8b83aca0f
DTSTART:20260514T180000
DTEND:20260514T200000
DESCRIPTION:
LOCATION:490 Chapel St\, Stratford\, CT 06614\, USA
SUMMARY:Spring Concert
END:VEVENT
BEGIN:VEVENT
DTSTAMP:20260420T153900Z
UID:e23bb84c-a26f-4268-ad6b-d1519f9ae274
DTSTART:20260519T180000
DTEND:20260519T200000
DESCRIPTION:
LOCATION:490 Chapel St\, Stratford\, CT 06614\, USA
SUMMARY:Spring Concert
END:VEVENT
BEGIN:VEVENT
DTSTAMP:20260420T153900Z
UID:abd10d53-f069-44cd-ad19-53a48e7cbf1c
DTSTART:20260604T180000
DTEND:20260604T200000
DESCRIPTION:
LOCATION:490 Chapel St\, Stratford\, CT 06614\, USA
SUMMARY:8th Grade Recognition Night  - By Invitation Only
END:VEVENT
BEGIN:VEVENT
DTSTAMP:20260420T153900Z
UID:9566e105-8f6a-4888-ac0b-e86ac6fc27ba
DTSTART:20260610T084500
DTEND:20260610T160000
DESCRIPTION:
LOCATION:
SUMMARY:Holiday Hill - 8th grade trip
END:VEVENT
BEGIN:VEVENT
DTSTAMP:20260420T153900Z
UID:1125fd1a-c55c-4b88-a44d-719f3e7e6fda
DTSTART:20260612T180000
DTEND:20260612T200000
DESCRIPTION:
LOCATION:490 Chapel St\, Stratford\, CT 06614\, USA
SUMMARY:8th Grade Dance
END:VEVENT
BEGIN:VEVENT
DTSTAMP:20260420T153900Z
UID:71a6561c-3567-4f64-9cae-86b2adf64743
DTSTART:20260623T083000
DTEND:20260623T100000
DESCRIPTION:
LOCATION:
SUMMARY:8th Grade Completion Cereomny
END:VEVENT
END:VCALENDAR
