BEGIN:VCALENDAR
VERSION:2.0
PRODID:icalendar-ruby
CALSCALE:GREGORIAN
BEGIN:VTIMEZONE
TZID:America/New_York
BEGIN:DAYLIGHT
DTSTART:20260308T030000
TZOFFSETFROM:-0500
TZOFFSETTO:-0400
RRULE:FREQ=YEARLY;BYDAY=2SU;BYMONTH=3
TZNAME:EDT
END:DAYLIGHT
BEGIN:STANDARD
DTSTART:20261101T010000
TZOFFSETFROM:-0400
TZOFFSETTO:-0500
RRULE:FREQ=YEARLY;BYDAY=1SU;BYMONTH=11
TZNAME:EST
END:STANDARD
END:VTIMEZONE
BEGIN:VEVENT
DTSTAMP:20260423T013820Z
UID:0838097a-9280-48f8-893e-af091c483b87
DTSTART:20260429T083000
DTEND:20260429T124500
DESCRIPTION:
LOCATION:
SUMMARY:Early Dismissal (Teacher's Data Collaboration)  
END:VEVENT
BEGIN:VEVENT
DTSTAMP:20260423T013820Z
UID:a8123bb6-8682-4a70-bb12-5a6c6a5bacb8
DTSTART:20260520T083000
DTEND:20260520T124500
DESCRIPTION:
LOCATION:
SUMMARY:Early Dismissal (Teacher's Dats Collaboration)
END:VEVENT
BEGIN:VEVENT
DTSTAMP:20260423T013820Z
UID:6f0a2578-540a-4899-86a4-f6ec53d95703
DTSTART:20260522T083000
DTEND:20260522T153000
DESCRIPTION:<p><strong>Donation of  $1.00</strong></p>
LOCATION:
SUMMARY:Patriotic / Spirit Day  (Boothe Memorial Park Veterans Museum0
END:VEVENT
BEGIN:VEVENT
DTSTAMP:20260423T013820Z
UID:8eb24617-a253-404f-8c78-1224f5ca5307
DTSTART:20260525T083000
DTEND:20260525T153000
DESCRIPTION:
LOCATION:
SUMMARY:No School (Memorial Day)
END:VEVENT
BEGIN:VEVENT
DTSTAMP:20260423T013820Z
UID:56fb6665-3692-4d48-abb1-28952682ed9f
DTSTART:20260605T083000
DTEND:20260605T153000
DESCRIPTION:<p><strong>Wear your craziest socks along with a $1.00 donation
 </strong></p>
LOCATION:
SUMMARY:Crazy Sock Day / Spirit Day (Vicki Soto Memorial Fund)
END:VEVENT
END:VCALENDAR
