BEGIN:VCALENDAR
VERSION:2.0
PRODID:icalendar-ruby
CALSCALE:GREGORIAN
BEGIN:VTIMEZONE
TZID:America/New_York
BEGIN:DAYLIGHT
DTSTART:20260308T030000
TZOFFSETFROM:-0500
TZOFFSETTO:-0400
RRULE:FREQ=YEARLY;BYDAY=2SU;BYMONTH=3
TZNAME:EDT
END:DAYLIGHT
BEGIN:STANDARD
DTSTART:20261101T010000
TZOFFSETFROM:-0400
TZOFFSETTO:-0500
RRULE:FREQ=YEARLY;BYDAY=1SU;BYMONTH=11
TZNAME:EST
END:STANDARD
END:VTIMEZONE
BEGIN:VEVENT
DTSTAMP:20260424T234343Z
UID:84a0492d-8f94-4977-9d6e-e664e1ae6264
DTSTART;VALUE=DATE:20260424
DTEND;VALUE=DATE:20260425
DESCRIPTION:
LOCATION:
SUMMARY:Library Lady Visits
END:VEVENT
BEGIN:VEVENT
DTSTAMP:20260424T234343Z
UID:b4104620-81a3-4e18-9e41-847da8d5aa1b
DTSTART;VALUE=DATE:20260508
DTEND;VALUE=DATE:20260509
DESCRIPTION:
LOCATION:
SUMMARY:Late Start Day
END:VEVENT
BEGIN:VEVENT
DTSTAMP:20260424T234343Z
UID:ce068717-88bc-4fab-b52a-d372e34a6aa8
DTSTART;VALUE=DATE:20260515
DTEND;VALUE=DATE:20260516
DESCRIPTION:
LOCATION:
SUMMARY:Library Lady Visits
END:VEVENT
BEGIN:VEVENT
DTSTAMP:20260424T234343Z
UID:2f406d3c-fc6c-47fd-8f96-9b434fb2d81b
DTSTART:20260519T180000
DTEND:20260519T190000
DESCRIPTION:
LOCATION:
SUMMARY:8th Grade Graduation 
END:VEVENT
BEGIN:VEVENT
DTSTAMP:20260424T234343Z
UID:7466403b-ff01-4a23-986d-a96b1938bf2c
DTSTART;VALUE=DATE:20260520
DTEND;VALUE=DATE:20260521
DESCRIPTION:
LOCATION:
SUMMARY:Last Day of School
END:VEVENT
BEGIN:VEVENT
DTSTAMP:20260424T234343Z
UID:70086ac0-0410-4589-8b1b-ef7fc2db7e47
DTSTART:20260814T083000
DTEND:20260814T093000
DESCRIPTION:
LOCATION:
SUMMARY:School Picture Day
END:VEVENT
BEGIN:VEVENT
DTSTAMP:20260424T234343Z
UID:a6013b22-60d0-449a-b973-96ae16ba4fe0
DTSTART;VALUE=DATE:20260911
DTEND;VALUE=DATE:20260912
DESCRIPTION:
LOCATION:
SUMMARY:School Picture Retake Day
END:VEVENT
END:VCALENDAR
