BEGIN:VCALENDAR
VERSION:2.0
PRODID:icalendar-ruby
CALSCALE:GREGORIAN
BEGIN:VTIMEZONE
TZID:America/Chicago
BEGIN:DAYLIGHT
DTSTART:20260308T030000
TZOFFSETFROM:-0600
TZOFFSETTO:-0500
RRULE:FREQ=YEARLY;BYDAY=2SU;BYMONTH=3
TZNAME:CDT
END:DAYLIGHT
BEGIN:STANDARD
DTSTART:20261101T010000
TZOFFSETFROM:-0500
TZOFFSETTO:-0600
RRULE:FREQ=YEARLY;BYDAY=1SU;BYMONTH=11
TZNAME:CST
END:STANDARD
END:VTIMEZONE
BEGIN:VEVENT
DTSTAMP:20260420T163915Z
UID:15365596-3ef2-4490-b679-0163a70e1dca
DTSTART:20260421T160000
DTEND:20260421T173000
DESCRIPTION:WMS 5th grade band festival rehearsal
LOCATION:Whittier Middle School Gym
SUMMARY:WMS 5th grade band festival rehearsal
END:VEVENT
BEGIN:VEVENT
DTSTAMP:20260420T163915Z
UID:0279a91e-0a70-4d20-9037-b2a817380d77
DTSTART:20260421T173000
DTEND:20260421T183000
DESCRIPTION:5th Grade Band - WMS 5th grade band festival
LOCATION:Whittier Middle School Gym
SUMMARY:Band: WMS 5th grade band festival (5th Grade)
END:VEVENT
BEGIN:VEVENT
DTSTAMP:20260420T163915Z
UID:3331e714-0a23-48cc-9a54-6f4598ba3a1d
DTSTART:20260425T073000
DTEND:20260425T153000
DESCRIPTION:4th Grade Orchestra - District Elementary & MS Orchestra Solo/E
 nsemble Contest
LOCATION:Susan B. Anthony Elementary
SUMMARY:Orchestra: District Elementary & MS Orchestra Solo/Ensemble Contest
  (4th Grade)
END:VEVENT
BEGIN:VEVENT
DTSTAMP:20260420T163915Z
UID:aa7deb38-5bdf-4cab-b0b3-673f54ce28ea
DTSTART:20260430T163000
DTEND:20260430T174500
DESCRIPTION:GMMS 5th grade band festival rehearsal
LOCATION:George McGovern Middle School Auditorium
SUMMARY:GMMS 5th grade band festival rehearsal
END:VEVENT
BEGIN:VEVENT
DTSTAMP:20260420T163915Z
UID:b90575c9-f5e4-4c57-9bd4-84bce07246a6
DTSTART:20260430T180000
DTEND:20260430T183000
DESCRIPTION:5th Grade Band - GMMS 5th grade band festival
LOCATION:George McGovern Middle School Auditorium
SUMMARY:Band: GMMS 5th grade band festival (5th Grade)
END:VEVENT
BEGIN:VEVENT
DTSTAMP:20260420T163915Z
UID:d963bff5-9a17-4b56-b71f-33cf566af685
DTSTART;VALUE=DATE:20260517
DTEND;VALUE=DATE:20260518
DESCRIPTION:Roosevelt at 11:00am\nWashington at 1:45pm \nLincoln at 4:30pm
 \nJefferson at 7:15pm
LOCATION:
SUMMARY:High School Graduation
END:VEVENT
BEGIN:VEVENT
DTSTAMP:20260420T163915Z
UID:c3abde65-fe00-43b3-82a6-8fef25835157
DTSTART;VALUE=DATE:20260520
DTEND;VALUE=DATE:20260521
DESCRIPTION:
LOCATION:
SUMMARY:Last Day of School
END:VEVENT
BEGIN:VEVENT
DTSTAMP:20260420T163915Z
UID:6b8d94a3-2a2d-44af-972b-3187e78c15b2
DTSTART;VALUE=DATE:20260520
DTEND;VALUE=DATE:20260521
DESCRIPTION:Last Day of School
LOCATION:
SUMMARY:Last Day of School
END:VEVENT
BEGIN:VEVENT
DTSTAMP:20260420T163915Z
UID:53b1d3a9-40ef-46f8-812b-22ae48cb136a
DTSTART;VALUE=DATE:20260904
DTEND;VALUE=DATE:20260905
DESCRIPTION:No Class
LOCATION:
SUMMARY:No Class
END:VEVENT
BEGIN:VEVENT
DTSTAMP:20260420T163915Z
UID:365c1f04-81ed-4db6-86e2-ca540f7047e4
DTSTART;VALUE=DATE:20260907
DTEND;VALUE=DATE:20260908
DESCRIPTION:No Class
LOCATION:
SUMMARY:No Class
END:VEVENT
END:VCALENDAR
