BEGIN:VCALENDAR
VERSION:2.0
PRODID:icalendar-ruby
CALSCALE:GREGORIAN
BEGIN:VTIMEZONE
TZID:America/Chicago
BEGIN:DAYLIGHT
DTSTART:20260308T030000
TZOFFSETFROM:-0600
TZOFFSETTO:-0500
RRULE:FREQ=YEARLY;BYDAY=2SU;BYMONTH=3
TZNAME:CDT
END:DAYLIGHT
BEGIN:STANDARD
DTSTART:20261101T010000
TZOFFSETFROM:-0500
TZOFFSETTO:-0600
RRULE:FREQ=YEARLY;BYDAY=1SU;BYMONTH=11
TZNAME:CST
END:STANDARD
END:VTIMEZONE
BEGIN:VEVENT
DTSTAMP:20260420T134014Z
UID:371d6b4e-7001-4a87-b2d6-dd1b9c1115fd
DTSTART:20260421T180000
DTEND:20260421T183000
DESCRIPTION:5th Grade Band - BRMS 5th grade band festival
LOCATION:Ben Reifel Middle School Auditorium
SUMMARY:Band: BRMS 5th grade band festival (5th Grade)
END:VEVENT
BEGIN:VEVENT
DTSTAMP:20260420T134014Z
UID:f79db35a-db88-47a7-a3ed-0e2f13d8f98b
DTSTART:20260421T180000
DTEND:20260421T190000
DESCRIPTION:5th Grade Band - PHMS 5th grade band festival
LOCATION:Sioux Falls Lincoln High School Gym Main
SUMMARY:Band: PHMS 5th grade band festival (5th Grade)
END:VEVENT
BEGIN:VEVENT
DTSTAMP:20260420T134014Z
UID:bb9eaeeb-39d6-4459-b3df-8af3820d4884
DTSTART:20260423T180000
DTEND:20260423T190000
DESCRIPTION:Bingo/Family Picnic Night
LOCATION:
SUMMARY:Bingo/Family Picnic Night
END:VEVENT
BEGIN:VEVENT
DTSTAMP:20260420T134014Z
UID:bd7e8346-6c83-4a8f-9755-9d802fdc53fc
DTSTART:20260425T073000
DTEND:20260425T153000
DESCRIPTION:4th Grade Orchestra - District Elementary & MS Orchestra Solo/E
 nsemble Contest
LOCATION:Susan B. Anthony Elementary
SUMMARY:Orchestra: District Elementary & MS Orchestra Solo/Ensemble Contest
  (4th Grade)
END:VEVENT
BEGIN:VEVENT
DTSTAMP:20260420T134014Z
UID:b7947cb3-5c61-4518-8847-7c1dd6e42fe6
DTSTART:20260501T133000
DTEND:20260501T143000
DESCRIPTION:Talent Show
LOCATION:John Harris Elementary Gym
SUMMARY:Talent Show
END:VEVENT
BEGIN:VEVENT
DTSTAMP:20260420T134014Z
UID:9c53fae3-b09d-417d-b036-582821b9b683
DTSTART:20260506T120000
DTEND:20260506T130000
DESCRIPTION:PTO Meeting (Zoom)
LOCATION:
SUMMARY:PTO Meeting (Zoom)
END:VEVENT
BEGIN:VEVENT
DTSTAMP:20260420T134014Z
UID:4981721b-667e-4516-80c1-bd5b3e2b690b
DTSTART:20260515T150000
DTEND:20260515T160000
DESCRIPTION:5th Grade Party
LOCATION:
SUMMARY:5th Grade Party
END:VEVENT
BEGIN:VEVENT
DTSTAMP:20260420T134014Z
UID:46fce264-d1de-4ba6-b7ed-0fbca54d16f2
DTSTART;VALUE=DATE:20260517
DTEND;VALUE=DATE:20260518
DESCRIPTION:Roosevelt at 11:00am\nWashington at 1:45pm \nLincoln at 4:30pm
 \nJefferson at 7:15pm
LOCATION:
SUMMARY:High School Graduation
END:VEVENT
BEGIN:VEVENT
DTSTAMP:20260420T134014Z
UID:579bf2c7-2592-4167-b867-a8049c7ab335
DTSTART;VALUE=DATE:20260520
DTEND;VALUE=DATE:20260521
DESCRIPTION:
LOCATION:
SUMMARY:Last Day of School
END:VEVENT
BEGIN:VEVENT
DTSTAMP:20260420T134014Z
UID:2273901d-976b-4228-8515-941ee64422c9
DTSTART;VALUE=DATE:20260520
DTEND;VALUE=DATE:20260521
DESCRIPTION:Last Day of School
LOCATION:
SUMMARY:Last Day of School
END:VEVENT
BEGIN:VEVENT
DTSTAMP:20260420T134014Z
UID:8237f789-00c3-4597-b9b6-c21209e73ed4
DTSTART;VALUE=DATE:20260904
DTEND;VALUE=DATE:20260905
DESCRIPTION:No Class
LOCATION:
SUMMARY:No Class
END:VEVENT
BEGIN:VEVENT
DTSTAMP:20260420T134014Z
UID:806563d4-2004-4793-969e-3586fc6e8d1a
DTSTART;VALUE=DATE:20260907
DTEND;VALUE=DATE:20260908
DESCRIPTION:No Class
LOCATION:
SUMMARY:No Class
END:VEVENT
END:VCALENDAR
