BEGIN:VCALENDAR
VERSION:2.0
PRODID:icalendar-ruby
CALSCALE:GREGORIAN
BEGIN:VTIMEZONE
TZID:America/New_York
BEGIN:DAYLIGHT
DTSTART:20260308T030000
TZOFFSETFROM:-0500
TZOFFSETTO:-0400
RRULE:FREQ=YEARLY;BYDAY=2SU;BYMONTH=3
TZNAME:EDT
END:DAYLIGHT
BEGIN:STANDARD
DTSTART:20261101T010000
TZOFFSETFROM:-0400
TZOFFSETTO:-0500
RRULE:FREQ=YEARLY;BYDAY=1SU;BYMONTH=11
TZNAME:EST
END:STANDARD
END:VTIMEZONE
BEGIN:VEVENT
DTSTAMP:20260420T142627Z
UID:766025fe-b400-4bb8-99ec-d6d40f807fc4
DTSTART:20260420T003000
DTEND:20260420T013000
DESCRIPTION:
LOCATION:
SUMMARY:Kindergarten Screening
END:VEVENT
BEGIN:VEVENT
DTSTAMP:20260420T142627Z
UID:709088f1-768e-4fa3-a560-d84299449c24
DTSTART:20260420T113000
DTEND:20260420T183000
DESCRIPTION:Call the school to make an appt. 419-468-4010.  Child must be 
 5 by August 19
LOCATION:Grace Point\, 683 Portland Way N\, Galion\, OH 44833\, USA
SUMMARY:Kindergarten Screening
END:VEVENT
BEGIN:VEVENT
DTSTAMP:20260420T142627Z
UID:dc183f3f-2a36-4cc8-a01f-22fe4d0ed145
DTSTART;VALUE=DATE:20260421
DTEND;VALUE=DATE:20260422
DESCRIPTION:
LOCATION:
SUMMARY:Kindergarten Screening
END:VEVENT
BEGIN:VEVENT
DTSTAMP:20260420T142627Z
UID:c3f10779-5735-46f5-af50-ef0ed059b44b
DTSTART:20260421T083000
DTEND:20260421T153000
DESCRIPTION:Call the school to make an appt. 419-468-4010. Child must be 5 
 by August 19
LOCATION:Grace Point\, 683 Portland Way N\, Galion\, OH 44833\, USA
SUMMARY:Kindergarten Screening
END:VEVENT
BEGIN:VEVENT
DTSTAMP:20260420T142627Z
UID:dce71a0a-d495-4bb2-99fe-2355f581d4aa
DTSTART;VALUE=DATE:20260423
DTEND;VALUE=DATE:20260424
DESCRIPTION:
LOCATION:
SUMMARY:Pioneer Community Service Day
END:VEVENT
BEGIN:VEVENT
DTSTAMP:20260420T142627Z
UID:712376f6-5e01-4dec-8a56-92816cab3f99
DTSTART;VALUE=DATE:20260425
DTEND;VALUE=DATE:20260426
DESCRIPTION:
LOCATION:
SUMMARY:Prom
END:VEVENT
BEGIN:VEVENT
DTSTAMP:20260420T142627Z
UID:34d234be-ab03-4a3a-8fa8-4f7f03b1f51f
DTSTART;VALUE=DATE:20260425
DTEND;VALUE=DATE:20260426
DESCRIPTION:
LOCATION:
SUMMARY:Prom
END:VEVENT
BEGIN:VEVENT
DTSTAMP:20260420T142627Z
UID:44a5ef28-7d95-4f49-b747-4f8cbdc23f47
DTSTART;VALUE=DATE:20260427
DTEND;VALUE=DATE:20260428
DESCRIPTION:
LOCATION:
SUMMARY:Spring Choir Concert (6th-12th)
END:VEVENT
BEGIN:VEVENT
DTSTAMP:20260420T142627Z
UID:9109449e-c9aa-484e-89ce-e467f56689ce
DTSTART:20260427T190000
DTEND:20260427T200000
DESCRIPTION:Middle School and High School Choir
LOCATION:High School Cafeteria
SUMMARY:Choir Concert
END:VEVENT
BEGIN:VEVENT
DTSTAMP:20260420T142627Z
UID:b2d6aed4-e0da-4431-8f59-a8bc6e6dac5a
DTSTART:20260427T190000
DTEND:20260427T200000
DESCRIPTION:
LOCATION:High School Cafeteria 
SUMMARY:Middle School & High School Choir Concert
END:VEVENT
BEGIN:VEVENT
DTSTAMP:20260420T142627Z
UID:5023c078-0983-4c7a-baa4-1a475a0efa95
DTSTART:20260428T160000
DTEND:20260428T173000
DESCRIPTION:
LOCATION:
SUMMARY:2nd Harvest Food Pantry 
END:VEVENT
BEGIN:VEVENT
DTSTAMP:20260420T142627Z
UID:2b5b82bf-276a-4459-8f90-4620f5279257
DTSTART:20260503T160000
DTEND:20260503T190000
DESCRIPTION:
LOCATION:Galion High School\, 472 Portland Way N\, Galion\, OH 44833\, USA
SUMMARY:High School Art Show
END:VEVENT
BEGIN:VEVENT
DTSTAMP:20260420T142627Z
UID:a1b8460c-9d31-4819-a65d-d367ed318802
DTSTART:20260504T180000
DTEND:20260504T193000
DESCRIPTION:
LOCATION:
SUMMARY:Senior Awards Night
END:VEVENT
BEGIN:VEVENT
DTSTAMP:20260420T142627Z
UID:94ded274-c25d-4c20-95d5-8aae10131c4b
DTSTART;VALUE=DATE:20260506
DTEND;VALUE=DATE:20260507
DESCRIPTION:
LOCATION:
SUMMARY:Blood Drive
END:VEVENT
BEGIN:VEVENT
DTSTAMP:20260420T142627Z
UID:df248686-7850-4ce4-84b4-7079052cd003
DTSTART:20260509T163000
DTEND:20260509T173000
DESCRIPTION:
LOCATION:
SUMMARY:Band Concert
END:VEVENT
BEGIN:VEVENT
DTSTAMP:20260420T142627Z
UID:842a51c9-853d-4446-a964-8a078c0bddce
DTSTART:20260513T183000
DTEND:20260513T200000
DESCRIPTION:
LOCATION:
SUMMARY:Board of Education Meeting
END:VEVENT
BEGIN:VEVENT
DTSTAMP:20260420T142627Z
UID:65bb1e50-7114-4f83-9f95-425a4856e353
DTSTART:20260514T183000
DTEND:20260514T193000
DESCRIPTION:
LOCATION:
SUMMARY:Choir Concert for 4th and 5th Grade 
END:VEVENT
BEGIN:VEVENT
DTSTAMP:20260420T142627Z
UID:8161f653-a799-42b5-9ea8-a08bb5fc8cda
DTSTART:20260514T183000
DTEND:20260514T193000
DESCRIPTION:
LOCATION:
SUMMARY:GIS Choir Concert at GHS Cafe
END:VEVENT
BEGIN:VEVENT
DTSTAMP:20260420T142627Z
UID:2f47727d-00df-4d12-8168-cc5708a18711
DTSTART:20260517T140000
DTEND:20260517T150000
DESCRIPTION:
LOCATION:
SUMMARY:Class of 2026 Graduation
END:VEVENT
BEGIN:VEVENT
DTSTAMP:20260420T142627Z
UID:9b9ffdce-8719-4d5d-8951-dde56c8f0137
DTSTART:20260517T140000
DTEND:20260517T150000
DESCRIPTION:
LOCATION:
SUMMARY:Class of 2026 Graduation
END:VEVENT
BEGIN:VEVENT
DTSTAMP:20260420T142627Z
UID:40d90bbf-1612-431e-9b58-43561acff362
DTSTART;VALUE=DATE:20260518
DTEND;VALUE=DATE:20260519
DESCRIPTION:
LOCATION:Galion High School Gym
SUMMARY:Preschool Grad
END:VEVENT
BEGIN:VEVENT
DTSTAMP:20260420T142627Z
UID:035334a3-0822-441e-b066-3fc17b0b1f5e
DTSTART;VALUE=DATE:20260522
DTEND;VALUE=DATE:20260523
DESCRIPTION:
LOCATION:
SUMMARY:End of Quarter 4 - Last Day of School
END:VEVENT
BEGIN:VEVENT
DTSTAMP:20260420T142627Z
UID:bb8a46c2-64a0-448d-a62d-0e90c331ef7c
DTSTART:20260526T160000
DTEND:20260526T173000
DESCRIPTION:
LOCATION:
SUMMARY:2nd Harvest Food Pantry 
END:VEVENT
BEGIN:VEVENT
DTSTAMP:20260420T142627Z
UID:be1b3d41-0e0a-43de-bcf2-c49ab924e913
DTSTART:20260623T160000
DTEND:20260623T173000
DESCRIPTION:
LOCATION:
SUMMARY:2nd Harvest Food Pantry 
END:VEVENT
BEGIN:VEVENT
DTSTAMP:20260420T142627Z
UID:031431e5-79e2-4dc3-b9d3-7025eff4d413
DTSTART:20260915T070000
DTEND:20260915T130000
DESCRIPTION:
LOCATION:Galion High School Gym
SUMMARY:Picture Day
END:VEVENT
BEGIN:VEVENT
DTSTAMP:20260420T142627Z
UID:38401102-c60c-41d7-a494-51ea00fab3a0
DTSTART:20261020T070000
DTEND:20261020T120000
DESCRIPTION:
LOCATION:Galion High School Gym
SUMMARY:Picture Retake Day
END:VEVENT
END:VCALENDAR
