BEGIN:VCALENDAR
VERSION:2.0
PRODID:icalendar-ruby
CALSCALE:GREGORIAN
BEGIN:VTIMEZONE
TZID:America/Los_Angeles
BEGIN:DAYLIGHT
DTSTART:20260308T030000
TZOFFSETFROM:-0800
TZOFFSETTO:-0700
RRULE:FREQ=YEARLY;BYDAY=2SU;BYMONTH=3
TZNAME:PDT
END:DAYLIGHT
BEGIN:STANDARD
DTSTART:20261101T010000
TZOFFSETFROM:-0700
TZOFFSETTO:-0800
RRULE:FREQ=YEARLY;BYDAY=1SU;BYMONTH=11
TZNAME:PST
END:STANDARD
END:VTIMEZONE
BEGIN:VEVENT
DTSTAMP:20260423T011413Z
UID:d4ab51e5-291c-4b06-afa6-4ac7d268e723
DTSTART:20260422T143500
DTEND:20260422T153500
DESCRIPTION:
LOCATION:EMS Room C6
SUMMARY:EMS: CANCELLED***Learning Lounge*** CANCELLED
END:VEVENT
BEGIN:VEVENT
DTSTAMP:20260423T011413Z
UID:a5692c95-e01e-44ac-8192-2112e55518ae
DTSTART:20260422T160000
DTEND:20260422T160000
DESCRIPTION:
LOCATION:
SUMMARY:Superintendent Search: Leadership Profile Survey Closes
END:VEVENT
BEGIN:VEVENT
DTSTAMP:20260423T011413Z
UID:d42deef2-d229-4263-9a3d-ff588e4e84a8
DTSTART;VALUE=DATE:20260423
DTEND;VALUE=DATE:20260424
DESCRIPTION:
LOCATION:
SUMMARY:EMS: 5th Grade Family Night
END:VEVENT
BEGIN:VEVENT
DTSTAMP:20260423T011413Z
UID:37db0920-c750-4eb4-ad6c-74e239dc83f2
DTSTART:20260423T143000
DTEND:20260423T153000
DESCRIPTION:
LOCATION:EMS: Room C4
SUMMARY:EMS: Chess Club
END:VEVENT
BEGIN:VEVENT
DTSTAMP:20260423T011413Z
UID:bc18af48-2f74-4e5b-aa97-507d20e723a6
DTSTART:20260423T183000
DTEND:20260423T193000
DESCRIPTION:
LOCATION:25314 Baker St\, Black Diamond\, WA 98010\, USA
SUMMARY:ESD Elementary #6 Naming Committee Meeting
END:VEVENT
BEGIN:VEVENT
DTSTAMP:20260423T011413Z
UID:38274ff8-9cd6-4a03-9930-b993d1ab57bf
DTSTART;VALUE=DATE:20260424
DTEND;VALUE=DATE:20260425
DESCRIPTION:<p>*Release Times:</p><p>1:15 -  EMS and EHS</p><p>1:25 - TMMS
 </p><p>2:15 - Elementary Schools</p>
LOCATION:
SUMMARY:Staff Collaboration Release Day
END:VEVENT
BEGIN:VEVENT
DTSTAMP:20260423T011413Z
UID:db39091e-d5a0-4e71-806e-12b2e7fd013f
DTSTART;VALUE=DATE:20260424
DTEND;VALUE=DATE:20260425
DESCRIPTION:
LOCATION:
SUMMARY:EMS: Wolf-Mart (Student Store) Open during Lunches
END:VEVENT
BEGIN:VEVENT
DTSTAMP:20260423T011413Z
UID:42d240b7-2605-44e3-a288-7d1a9cf66daf
DTSTART:20260427T170000
DTEND:20260427T190000
DESCRIPTION:
LOCATION:2929 McDougall Ave\, Enumclaw\, WA 98022\, USA
SUMMARY:School Board Executive Session
END:VEVENT
BEGIN:VEVENT
DTSTAMP:20260423T011413Z
UID:23868a4e-3597-4384-8a23-4020fd00d440
DTSTART:20260427T190000
DTEND:20260427T210000
DESCRIPTION:<p>Location: District Office\, Nancy A. Merrill Boardroom</p>
LOCATION:2929 McDougall Ave\, Enumclaw\, WA 98022\, USA
SUMMARY:School Board Meeting
END:VEVENT
BEGIN:VEVENT
DTSTAMP:20260423T011413Z
UID:e2e1a2e4-7143-42c6-ab80-311c388ef217
DTSTART:20260428T143000
DTEND:20260428T153000
DESCRIPTION:
LOCATION:EMS: Room C4
SUMMARY:EMS: Chess Club
END:VEVENT
BEGIN:VEVENT
DTSTAMP:20260423T011413Z
UID:3523cf3b-9efd-4fac-bb59-fa122031567b
DTSTART:20260428T143500
DTEND:20260428T153500
DESCRIPTION:
LOCATION:EMS Room C6
SUMMARY:EMS: Learning Lounge
END:VEVENT
BEGIN:VEVENT
DTSTAMP:20260423T011413Z
UID:505767cf-1ac6-425b-9cd4-e31a5952df57
DTSTART:20260429T143500
DTEND:20260429T153500
DESCRIPTION:
LOCATION:EMS Room C6
SUMMARY:EMS: Learning Lounge
END:VEVENT
BEGIN:VEVENT
DTSTAMP:20260423T011413Z
UID:a0d61586-803b-4c3e-9c56-608b463b7062
DTSTART:20260429T170000
DTEND:20260429T210000
DESCRIPTION:
LOCATION:2929 McDougall Ave\, Enumclaw\, WA 98022\, USA
SUMMARY:School Board  Executive Session
END:VEVENT
BEGIN:VEVENT
DTSTAMP:20260423T011413Z
UID:9e17ed9d-c19e-4c31-b032-71b25d0d27a7
DTSTART:20260430T143000
DTEND:20260430T153000
DESCRIPTION:
LOCATION:EMS: Room C4
SUMMARY:EMS: Chess Club
END:VEVENT
BEGIN:VEVENT
DTSTAMP:20260423T011413Z
UID:6441e374-f9aa-46b2-afdc-6bb2ba3bcdb7
DTSTART:20260430T160000
DTEND:20260430T170000
DESCRIPTION:<p><span>Enumclaw SEPAC Meeting</span><br><span>(Special Educat
 ion Parent Advisory Council)</span></p><p><span>Join us as we support the 
 education of ESD students with disabilities. Open to families and communit
 y members.</span><br><br><span>4:00 - 5:00 pm at the Birth to Five Center 
 at JJ Smith</span></p><p><a target="_blank" rel="noopener noreferrer nofol
 low" href="mailto:SEPACEnumclaw@gmail.com">SEPACEnumclaw@gmail.com</a></p>
LOCATION:1640 Fell St\, Enumclaw\, WA 98022\, USA
SUMMARY:Enumclaw SEPAC Meeting
END:VEVENT
BEGIN:VEVENT
DTSTAMP:20260423T011413Z
UID:9d0554d5-3a28-410f-b5ce-9cd54bab99ac
DTSTART:20260430T170000
DTEND:20260430T210000
DESCRIPTION:
LOCATION:2929 McDougall Ave\, Enumclaw\, WA 98022\, USA
SUMMARY:School Board  Executive Session
END:VEVENT
BEGIN:VEVENT
DTSTAMP:20260423T011413Z
UID:20d91bc0-22a7-4ea9-a450-fa205ce6d444
DTSTART;VALUE=DATE:20260501
DTEND;VALUE=DATE:20260502
DESCRIPTION:<p>*Release Times:</p><p>1:15 -  EMS and EHS</p><p>1:25 - TMMS
 </p><p>2:15 - Elementary Schools</p>
LOCATION:
SUMMARY:Staff Collaboration Release Day
END:VEVENT
BEGIN:VEVENT
DTSTAMP:20260423T011413Z
UID:a26d5400-4e38-410d-8fe0-ab38dfbb5701
DTSTART;VALUE=DATE:20260504
DTEND;VALUE=DATE:20260505
DESCRIPTION:<p>Monday: Favorite Color Day</p><p>Tuesday: Soccer Moms vs Bar
 becue Dad</p><p>Wednesday: Beach Day</p><p>Thursday: Flashback Day (Dress 
 like you did in 1st Grade\, or 4th  Grade\, or last year-something from yo
 ur past)</p><p>Friday: Class Color Day</p><blockquote style="margin-left: 
 40px\; font-weight: normal" class="indent"><p>6th: White</p><p>7th: Red</p
 ><p>8th: Black</p></blockquote><p></p>
LOCATION:
SUMMARY:EMS: Spirit Week
END:VEVENT
BEGIN:VEVENT
DTSTAMP:20260423T011413Z
UID:6e9086a0-4374-4d1d-b833-8e55a95e3575
DTSTART:20260504T183000
DTEND:20260504T200000
DESCRIPTION:<p>Location: District Office</p>
LOCATION:2929 McDougall Ave\, Enumclaw\, WA 98022\, USA
SUMMARY:School Board Work Study
END:VEVENT
BEGIN:VEVENT
DTSTAMP:20260423T011413Z
UID:42ee0cbd-dc5d-4d0a-a27b-b796dfb96f63
DTSTART:20260505T143000
DTEND:20260505T153000
DESCRIPTION:
LOCATION:EMS: Room C4
SUMMARY:EMS: Chess Club
END:VEVENT
BEGIN:VEVENT
DTSTAMP:20260423T011413Z
UID:c8e3782f-9982-46e9-b77a-ac712a893814
DTSTART:20260505T143500
DTEND:20260505T153500
DESCRIPTION:
LOCATION:EMS Room C6
SUMMARY:EMS: Learning Lounge
END:VEVENT
BEGIN:VEVENT
DTSTAMP:20260423T011413Z
UID:9a3bdf10-3d80-40ee-8524-163b0a190cd2
DTSTART:20260506T143500
DTEND:20260506T153500
DESCRIPTION:
LOCATION:EMS Room C6
SUMMARY:EMS: Learning Lounge
END:VEVENT
BEGIN:VEVENT
DTSTAMP:20260423T011413Z
UID:d4c046ad-51a0-4f61-9b8f-2a1f58a6f3ac
DTSTART:20260507T143000
DTEND:20260507T153000
DESCRIPTION:
LOCATION:EMS: Room C4
SUMMARY:EMS: Chess Club
END:VEVENT
BEGIN:VEVENT
DTSTAMP:20260423T011413Z
UID:998c88ba-faf9-461a-802c-bea57c6bd949
DTSTART;VALUE=DATE:20260508
DTEND;VALUE=DATE:20260509
DESCRIPTION:<p>*Release Times:</p><p>1:15 -  EMS and EHS</p><p>1:25 - TMMS
 </p><p>2:15 - Elementary Schools</p>
LOCATION:
SUMMARY:Staff Collaboration Release Day
END:VEVENT
BEGIN:VEVENT
DTSTAMP:20260423T011413Z
UID:165665d0-45b6-4c42-9c9e-e0e62e322c96
DTSTART;VALUE=DATE:20260508
DTEND;VALUE=DATE:20260509
DESCRIPTION:
LOCATION:
SUMMARY:EMS: Spirit Assembly: Alternative Bell Schedule
END:VEVENT
BEGIN:VEVENT
DTSTAMP:20260423T011413Z
UID:fc51ca28-1761-4617-b3ef-0fea73192cef
DTSTART;VALUE=DATE:20260508
DTEND;VALUE=DATE:20260509
DESCRIPTION:
LOCATION:
SUMMARY:EMS: Wolf-Mart (Student Store) Open during Lunches
END:VEVENT
BEGIN:VEVENT
DTSTAMP:20260423T011413Z
UID:96e5b7aa-afea-49d0-9de1-d3f8a0bc4fb8
DTSTART;VALUE=DATE:20260511
DTEND;VALUE=DATE:20260512
DESCRIPTION:
LOCATION:
SUMMARY:EMS: SBA Testing starts through the end of the month
END:VEVENT
BEGIN:VEVENT
DTSTAMP:20260423T011413Z
UID:002bb47e-8e5a-4e04-90fc-cba39f5517b2
DTSTART:20260512T143000
DTEND:20260512T153000
DESCRIPTION:
LOCATION:EMS: Room C4
SUMMARY:EMS: Chess Club
END:VEVENT
BEGIN:VEVENT
DTSTAMP:20260423T011413Z
UID:7af1d975-3b8a-4e05-957e-0283dfa254e7
DTSTART:20260512T170000
DTEND:20260512T190000
DESCRIPTION:<p><span>Plan to attend the art show at Enumclaw High School on
  <strong>Tuesday\, May 12th</strong>! The event begins with art viewing fr
 om 5:00 - 6:30\, and the awards ceremony will begin at <strong>6:30 PM.</s
 trong></span></p><p style="text-align: left"><span>If you have any questio
 ns\, please email or talk to Ms. Demerjian.</span></p><p><br></p>
LOCATION:EHS Commons
SUMMARY:EMS: ESD Art Show
END:VEVENT
BEGIN:VEVENT
DTSTAMP:20260423T011413Z
UID:e2de73d5-90e6-427f-b089-0e57677c9628
DTSTART:20260512T190000
DTEND:20260512T210000
DESCRIPTION:
LOCATION:226 Semanski St S\, Enumclaw\, WA 98022\, USA
SUMMARY:School Board Executive Session
END:VEVENT
BEGIN:VEVENT
DTSTAMP:20260423T011413Z
UID:6a2ede58-3166-481e-9bee-a6f0e13e91a9
DTSTART:20260513T143500
DTEND:20260513T153500
DESCRIPTION:
LOCATION:EMS Room C6
SUMMARY:EMS: Learning Lounge
END:VEVENT
BEGIN:VEVENT
DTSTAMP:20260423T011413Z
UID:29122fde-9e27-4f55-991d-8bcbb2ebd793
DTSTART:20260513T190000
DTEND:20260513T210000
DESCRIPTION:
LOCATION:226 Semanski St S\, Enumclaw\, WA 98022\, USA
SUMMARY:School Board Executive Session
END:VEVENT
BEGIN:VEVENT
DTSTAMP:20260423T011413Z
UID:d1c4904f-65bd-406f-8cc8-c08917412e37
DTSTART:20260514T143000
DTEND:20260514T153000
DESCRIPTION:
LOCATION:EMS: Room C4
SUMMARY:EMS: Chess Club
END:VEVENT
BEGIN:VEVENT
DTSTAMP:20260423T011413Z
UID:a3732067-ae33-4294-8f27-fb60201391a9
DTSTART:20260514T170000
DTEND:20260514T180000
DESCRIPTION:
LOCATION:EMS Library
SUMMARY:EMS: PTSO Meeting
END:VEVENT
BEGIN:VEVENT
DTSTAMP:20260423T011413Z
UID:3b932167-2bbf-4975-ad01-537912619fa5
DTSTART:20260514T190000
DTEND:20260514T210000
DESCRIPTION:
LOCATION:226 Semanski St S\, Enumclaw\, WA 98022\, USA
SUMMARY:School Board Executive Session
END:VEVENT
BEGIN:VEVENT
DTSTAMP:20260423T011413Z
UID:e66f9dfe-a986-444b-8070-e0062236b333
DTSTART;VALUE=DATE:20260515
DTEND;VALUE=DATE:20260516
DESCRIPTION:<p>*Release Times:</p><p>1:15 -  EMS and EHS</p><p>1:25 - TMMS
 </p><p>2:15 - Elementary Schools</p>
LOCATION:
SUMMARY:Staff Collaboration Release Day
END:VEVENT
BEGIN:VEVENT
DTSTAMP:20260423T011413Z
UID:c28e4bad-e1ff-4bda-95f1-cc0c926747e9
DTSTART:20260515T093000
DTEND:20260515T100000
DESCRIPTION:
LOCATION:2929 McDougall Ave\, Enumclaw\, WA 98022\, USA
SUMMARY:School Board Executive Session
END:VEVENT
BEGIN:VEVENT
DTSTAMP:20260423T011413Z
UID:60054387-9707-4a4f-b3bd-50aae2f2f2fc
DTSTART:20260515T100000
DTEND:20260515T101500
DESCRIPTION:
LOCATION:2929 McDougall Ave\, Enumclaw\, WA 98022\, USA
SUMMARY:School Board Special Meeting
END:VEVENT
BEGIN:VEVENT
DTSTAMP:20260423T011413Z
UID:63b4b85f-97a6-4537-96fb-1ddb1698a824
DTSTART:20260518T183000
DTEND:20260518T200000
DESCRIPTION:<p>Location: District Office\, Nancy A. Merrill Boardroom</p>
LOCATION:2929 McDougall Ave\, Enumclaw\, WA 98022\, USA
SUMMARY:School Board Meeting
END:VEVENT
BEGIN:VEVENT
DTSTAMP:20260423T011413Z
UID:df4df1a0-6f27-4822-b982-1f13f6811ccf
DTSTART:20260519T143000
DTEND:20260519T153000
DESCRIPTION:
LOCATION:EMS: Room C4
SUMMARY:EMS: Chess Club
END:VEVENT
BEGIN:VEVENT
DTSTAMP:20260423T011413Z
UID:ea0d47d0-b6dc-46ed-83ba-af53ce1f4ca8
DTSTART:20260519T143500
DTEND:20260519T153500
DESCRIPTION:
LOCATION:EMS Room C6
SUMMARY:EMS: Learning Lounge
END:VEVENT
BEGIN:VEVENT
DTSTAMP:20260423T011413Z
UID:d485bc48-9bc6-4e44-89ee-32d4e7bc6e67
DTSTART;VALUE=DATE:20260520
DTEND;VALUE=DATE:20260521
DESCRIPTION:
LOCATION:
SUMMARY:EMS: Season #4 Sports LAST Day
END:VEVENT
BEGIN:VEVENT
DTSTAMP:20260423T011413Z
UID:191d6198-5e4c-4535-964a-d033d0f70081
DTSTART:20260521T143000
DTEND:20260521T153000
DESCRIPTION:
LOCATION:EMS: Room C4
SUMMARY:EMS: Chess Club
END:VEVENT
BEGIN:VEVENT
DTSTAMP:20260423T011413Z
UID:4a304272-35b7-4c2b-8c7e-375ed69a550b
DTSTART;VALUE=DATE:20260522
DTEND;VALUE=DATE:20260523
DESCRIPTION:<p>This will be a Regular 1:15PM Release Day at EMS.</p><p></p>
 <p>Sunrise and Southwood will also be in school\, on a Regular Friday Rele
 ase time.</p>
LOCATION:
SUMMARY:EMS: Snow Make Up Day: THERE WILL BE SCHOOL ON THIS DAY
END:VEVENT
BEGIN:VEVENT
DTSTAMP:20260423T011413Z
UID:392e77fe-cdb5-49bd-9796-056a59302dac
DTSTART;VALUE=DATE:20260522
DTEND;VALUE=DATE:20260523
DESCRIPTION:<p>School Makeup Day for:</p><ul><li><p>Enumclaw Middle School<
 /p></li><li><p>Southwood Elementary School</p></li><li><p>Sunrise Elementa
 ry School</p></li></ul><p></p><p>No School Day for:</p><ul><li><p>Birth to
  Five Center at JJ Smith</p></li><li><p>Black Diamond Elementary</p></li><
 li><p>Byron Kibler Elementary</p></li><li><p>Westwood Elementary</p></li><
 li><p>Thunder Mountain Elementary</p></li><li><p>Enumclaw High School</p><
 /li></ul>
LOCATION:
SUMMARY:School Makeup Day
END:VEVENT
BEGIN:VEVENT
DTSTAMP:20260423T011413Z
UID:bb15be6b-03b9-4ff7-94b4-4d1936df30e8
DTSTART;VALUE=DATE:20260522
DTEND;VALUE=DATE:20260523
DESCRIPTION:<p>*Release Times:</p><p>1:15 -  EMS and EHS</p><p>1:25 - TMMS
 </p><p>2:15 - Elementary Schools</p>
LOCATION:
SUMMARY:Staff Collaboration Release Day
END:VEVENT
BEGIN:VEVENT
DTSTAMP:20260423T011413Z
UID:427ae23a-20d7-48b8-a73a-5387567ca64b
DTSTART;VALUE=DATE:20260522
DTEND;VALUE=DATE:20260523
DESCRIPTION:
LOCATION:
SUMMARY:EMS: Wolf-Mart (Student Store) Open during Lunches
END:VEVENT
BEGIN:VEVENT
DTSTAMP:20260423T011413Z
UID:81b43c3b-6163-4356-8282-8735c51b6985
DTSTART;VALUE=DATE:20260525
DTEND;VALUE=DATE:20260526
DESCRIPTION:
LOCATION:
SUMMARY:DO Closed
END:VEVENT
BEGIN:VEVENT
DTSTAMP:20260423T011413Z
UID:6d315b7c-910e-4e40-8c28-e6320243e6d1
DTSTART;VALUE=DATE:20260525
DTEND;VALUE=DATE:20260526
DESCRIPTION:
LOCATION:
SUMMARY:NO SCHOOL - Memorial Day
END:VEVENT
BEGIN:VEVENT
DTSTAMP:20260423T011413Z
UID:fdfecae3-1f4c-4723-aaf6-1119b9c7f6ed
DTSTART;VALUE=DATE:20260525
DTEND;VALUE=DATE:20260526
DESCRIPTION:
LOCATION:
SUMMARY:EMS: Memorial Day\, NO SCHOOL
END:VEVENT
BEGIN:VEVENT
DTSTAMP:20260423T011413Z
UID:6663bba6-0b96-45a1-95d1-dfdb3023d3c4
DTSTART:20260526T143000
DTEND:20260526T153000
DESCRIPTION:
LOCATION:EMS: Room C4
SUMMARY:EMS: Chess Club
END:VEVENT
BEGIN:VEVENT
DTSTAMP:20260423T011413Z
UID:e0ef4bc6-4a6c-4f7b-be3c-3a6a618adadd
DTSTART:20260527T143500
DTEND:20260527T153500
DESCRIPTION:
LOCATION:EMS Room C6
SUMMARY:EMS: Learning Lounge
END:VEVENT
BEGIN:VEVENT
DTSTAMP:20260423T011413Z
UID:bdedfd0b-0eee-4176-b211-a70d9364cf98
DTSTART;VALUE=DATE:20260528
DTEND;VALUE=DATE:20260529
DESCRIPTION:
LOCATION:
SUMMARY:EMS: Chess Tournament at Lakeridge
END:VEVENT
BEGIN:VEVENT
DTSTAMP:20260423T011413Z
UID:cbe90859-3229-4f65-a9c0-a96cb8cbab15
DTSTART:20260528T160000
DTEND:20260528T170000
DESCRIPTION:<p>Enumclaw SEPAC Meeting<br>(Special Education Parent Advisory
  Council)</p><p>Join us as we support the education of ESD students with d
 isabilities. Open to families and community members.<br><br>4:00 - 5:00 pm
  at the Birth to Five Center at JJ Smith</p><p><a target="_blank" rel="noo
 pener noreferrer nofollow" href="mailto:SEPACEnumclaw@gmail.com">SEPACEnum
 claw@gmail.com</a></p>
LOCATION:1640 Fell St\, Enumclaw\, WA 98022\, USA
SUMMARY:Enumclaw SEPAC Meeting
END:VEVENT
BEGIN:VEVENT
DTSTAMP:20260423T011413Z
UID:0e0698ec-2c43-4ac7-8e8d-97101f30cbaf
DTSTART;VALUE=DATE:20260529
DTEND;VALUE=DATE:20260530
DESCRIPTION:<p>*Release Times:</p><p>1:15 -  EMS and EHS</p><p>1:25 - TMMS
 </p><p>2:15 - Elementary Schools</p>
LOCATION:
SUMMARY:Staff Collaboration Release Day
END:VEVENT
BEGIN:VEVENT
DTSTAMP:20260423T011413Z
UID:d68f1190-840b-44c0-b669-a438156b9160
DTSTART:20260601T183000
DTEND:20260601T200000
DESCRIPTION:<p>Location: District Office\, Nancy A. Merrill Boardroom</p>
LOCATION:2929 McDougall Ave\, Enumclaw\, WA 98022\, USA
SUMMARY:School Board Meeting
END:VEVENT
BEGIN:VEVENT
DTSTAMP:20260423T011413Z
UID:fcdc555b-b359-4ccf-87af-0f6a0c84024a
DTSTART:20260602T143500
DTEND:20260602T153500
DESCRIPTION:
LOCATION:EMS Room C6
SUMMARY:EMS: Learning Lounge
END:VEVENT
BEGIN:VEVENT
DTSTAMP:20260423T011413Z
UID:8c58eb39-b336-4aa9-a760-5f346a26c3eb
DTSTART:20260603T143500
DTEND:20260603T153500
DESCRIPTION:
LOCATION:EMS Room C6
SUMMARY:EMS: Learning Lounge
END:VEVENT
BEGIN:VEVENT
DTSTAMP:20260423T011413Z
UID:81f58372-ab0f-4e25-b05c-a2d9fed048a5
DTSTART:20260604T183000
DTEND:20260604T200000
DESCRIPTION:
LOCATION:EMS Gym
SUMMARY:EMS: Spring Music Concert
END:VEVENT
BEGIN:VEVENT
DTSTAMP:20260423T011413Z
UID:8d49d72e-c222-4c61-843f-8fac365f1c0e
DTSTART;VALUE=DATE:20260605
DTEND;VALUE=DATE:20260606
DESCRIPTION:<p>*Release Times:</p><p>1:15 -  EMS and EHS</p><p>1:25 - TMMS
 </p><p>2:15 - Elementary Schools</p>
LOCATION:
SUMMARY:Staff Collaboration Release Day
END:VEVENT
BEGIN:VEVENT
DTSTAMP:20260423T011413Z
UID:70fb3ab6-6cc0-451a-adbe-1f996dbfd508
DTSTART;VALUE=DATE:20260605
DTEND;VALUE=DATE:20260606
DESCRIPTION:
LOCATION:
SUMMARY:EMS: Spring Concert Assembly: Alternative Bell Schedule
END:VEVENT
BEGIN:VEVENT
DTSTAMP:20260423T011413Z
UID:aec62f67-3462-4f54-b10d-1c62f05dfd80
DTSTART;VALUE=DATE:20260606
DTEND;VALUE=DATE:20260607
DESCRIPTION:
LOCATION:
SUMMARY:EMS: Music in the Park/Wild Wave
END:VEVENT
BEGIN:VEVENT
DTSTAMP:20260423T011413Z
UID:ce5a3cb3-9d56-4fb3-9f9e-fb18fadcbc5d
DTSTART;VALUE=DATE:20260609
DTEND;VALUE=DATE:20260610
DESCRIPTION:
LOCATION:
SUMMARY:EMS: 8th Grade Exit Interviews
END:VEVENT
BEGIN:VEVENT
DTSTAMP:20260423T011413Z
UID:530bcb7c-6ccf-46be-b461-b8313e1da09e
DTSTART;VALUE=DATE:20260611
DTEND;VALUE=DATE:20260612
DESCRIPTION:
LOCATION:
SUMMARY:EMS: 8th Grade Promotion
END:VEVENT
BEGIN:VEVENT
DTSTAMP:20260423T011413Z
UID:beab92b5-676d-4ede-8bfb-7be42c980612
DTSTART:20260611T170000
DTEND:20260611T180000
DESCRIPTION:
LOCATION:EMS Library
SUMMARY:EMS: PTSO Meeting
END:VEVENT
BEGIN:VEVENT
DTSTAMP:20260423T011413Z
UID:5a2ee156-df46-4b53-9289-bbdc98df7bcc
DTSTART;VALUE=DATE:20260612
DTEND;VALUE=DATE:20260613
DESCRIPTION:<p>*Release Times:</p><p>1:15 -  EMS and EHS</p><p>1:25 - TMMS
 </p><p>2:15 - Elementary Schools</p>
LOCATION:
SUMMARY:Staff Collaboration Release Day
END:VEVENT
BEGIN:VEVENT
DTSTAMP:20260423T011413Z
UID:20c5d6ab-30d6-4088-8e49-b7f3b76276a5
DTSTART;VALUE=DATE:20260612
DTEND;VALUE=DATE:20260613
DESCRIPTION:<p>8th Grade parents will need to co-ordinate this event\, with
  assistance from the Main Office.</p>
LOCATION:
SUMMARY:EMS: 8th Grade Dance
END:VEVENT
BEGIN:VEVENT
DTSTAMP:20260423T011413Z
UID:87551c27-101e-488b-9937-fdab16f132ca
DTSTART;VALUE=DATE:20260612
DTEND;VALUE=DATE:20260613
DESCRIPTION:
LOCATION:
SUMMARY:EMS: All Students: Locker  Clean Out
END:VEVENT
BEGIN:VEVENT
DTSTAMP:20260423T011413Z
UID:5fe1cc2f-2924-4d1f-a097-c022dcf1a973
DTSTART;VALUE=DATE:20260615
DTEND;VALUE=DATE:20260616
DESCRIPTION:
LOCATION:
SUMMARY:EMS: Field Day
END:VEVENT
BEGIN:VEVENT
DTSTAMP:20260423T011413Z
UID:344bc4b9-ff78-4e3a-a066-3455de8b6089
DTSTART:20260615T183000
DTEND:20260615T200000
DESCRIPTION:<p>Location: District Office\, Nancy A. Merrill Boardroom</p>
LOCATION:2929 McDougall Ave\, Enumclaw\, WA 98022\, USA
SUMMARY:School Board Meeting
END:VEVENT
BEGIN:VEVENT
DTSTAMP:20260423T011413Z
UID:93972049-de01-4910-9eb4-5721ef5a8058
DTSTART;VALUE=DATE:20260616
DTEND;VALUE=DATE:20260617
DESCRIPTION:
LOCATION:
SUMMARY:6-12 Semester End
END:VEVENT
BEGIN:VEVENT
DTSTAMP:20260423T011413Z
UID:b0733ebf-57ef-44b5-8e5a-3830a5a5128a
DTSTART;VALUE=DATE:20260616
DTEND;VALUE=DATE:20260617
DESCRIPTION:
LOCATION:
SUMMARY:K-5 Trimester End
END:VEVENT
BEGIN:VEVENT
DTSTAMP:20260423T011413Z
UID:582377e9-4e39-4874-952c-54ab887b6e9e
DTSTART;VALUE=DATE:20260616
DTEND;VALUE=DATE:20260617
DESCRIPTION:Release times:<br/> <br/>EHS &amp\; EMS 11:15 a.m.<br/>TMMS 11
 :25 a.m.<br/>Elementary 12:25 p.m.
LOCATION:
SUMMARY:Last Day of School - Half Day
END:VEVENT
BEGIN:VEVENT
DTSTAMP:20260423T011413Z
UID:be949e46-3451-418d-b9dd-9ef099335a10
DTSTART;VALUE=DATE:20260616
DTEND;VALUE=DATE:20260617
DESCRIPTION:
LOCATION:
SUMMARY:EMS: Last day of School: School out at 11:15
END:VEVENT
BEGIN:VEVENT
DTSTAMP:20260423T011413Z
UID:2ea99fa3-e7d1-48e1-8d2f-b8a685e6cab6
DTSTART;VALUE=DATE:20260619
DTEND;VALUE=DATE:20260620
DESCRIPTION:
LOCATION:
SUMMARY:DO Closed - Juneteenth
END:VEVENT
BEGIN:VEVENT
DTSTAMP:20260423T011413Z
UID:2422c92d-987a-4900-bdfb-207b96d8b22c
DTSTART;VALUE=DATE:20260703
DTEND;VALUE=DATE:20260704
DESCRIPTION:
LOCATION:
SUMMARY:DO Closed - Honor Independence Day
END:VEVENT
BEGIN:VEVENT
DTSTAMP:20260423T011413Z
UID:32914347-aa5d-43b7-b4fb-9da049b1eed1
DTSTART:20260727T183000
DTEND:20260727T200000
DESCRIPTION:<p>Location: District Office\, Nancy A. Merrill Boardroom</p>
LOCATION:2929 McDougall Ave\, Enumclaw\, WA 98022\, USA
SUMMARY:School Board Meeting
END:VEVENT
BEGIN:VEVENT
DTSTAMP:20260423T011413Z
UID:558768f6-5bea-4a78-bcd2-797a5cd52679
DTSTART:20260817T183000
DTEND:20260817T200000
DESCRIPTION:<p>Location: District Office\, Nancy A. Merrill Boardroom</p>
LOCATION:2929 McDougall Ave\, Enumclaw\, WA 98022\, USA
SUMMARY:School Board Meeting
END:VEVENT
BEGIN:VEVENT
DTSTAMP:20260423T011413Z
UID:00b49078-fec3-4801-b8d3-6270e672da34
DTSTART;VALUE=DATE:20260825
DTEND;VALUE=DATE:20260826
DESCRIPTION:<p>More information to come closer to this event</p>
LOCATION:
SUMMARY:EMS: Timberwofl Day
END:VEVENT
BEGIN:VEVENT
DTSTAMP:20260423T011413Z
UID:1c6abdfa-fa55-40b6-af98-e4b9eb5ba4fc
DTSTART:20260917T173000
DTEND:20260917T183000
DESCRIPTION:<p>More information to come\, closer to the event</p>
LOCATION:
SUMMARY:EMS: Open House
END:VEVENT
END:VCALENDAR
