BEGIN:VCALENDAR
VERSION:2.0
PRODID:icalendar-ruby
CALSCALE:GREGORIAN
BEGIN:VTIMEZONE
TZID:America/New_York
BEGIN:DAYLIGHT
DTSTART:20260308T030000
TZOFFSETFROM:-0500
TZOFFSETTO:-0400
RRULE:FREQ=YEARLY;BYDAY=2SU;BYMONTH=3
TZNAME:EDT
END:DAYLIGHT
BEGIN:STANDARD
DTSTART:20261101T010000
TZOFFSETFROM:-0400
TZOFFSETTO:-0500
RRULE:FREQ=YEARLY;BYDAY=1SU;BYMONTH=11
TZNAME:EST
END:STANDARD
END:VTIMEZONE
BEGIN:VEVENT
DTSTAMP:20260423T095239Z
UID:3ef60e76-4781-4447-97e4-cfbbdb9e005d
DTSTART;VALUE=DATE:20260424
DTEND;VALUE=DATE:20260425
DESCRIPTION:
LOCATION:
SUMMARY:MS/HS End of 3rd Quarter
END:VEVENT
BEGIN:VEVENT
DTSTAMP:20260423T095239Z
UID:ebe50ee7-97c3-41d3-ba7e-ae7ae63b96ce
DTSTART;VALUE=DATE:20260501
DTEND;VALUE=DATE:20260502
DESCRIPTION:
LOCATION:
SUMMARY:HS Senior Decision  
END:VEVENT
BEGIN:VEVENT
DTSTAMP:20260423T095239Z
UID:1bbe7c44-f5fe-4ecb-8819-37ccd11ed34a
DTSTART;VALUE=DATE:20260501
DTEND;VALUE=DATE:20260507
DESCRIPTION:
LOCATION:
SUMMARY:National PE & Sports Week
END:VEVENT
BEGIN:VEVENT
DTSTAMP:20260423T095239Z
UID:379441d2-cf04-4476-ab45-8a555e79cc67
DTSTART;VALUE=DATE:20260504
DTEND;VALUE=DATE:20260505
DESCRIPTION:
LOCATION:
SUMMARY:NYSESLAT Listen\, Read\, Write until 5/21
END:VEVENT
BEGIN:VEVENT
DTSTAMP:20260423T095239Z
UID:3bba83f7-0178-405d-9171-75b38233d23d
DTSTART;VALUE=DATE:20260505
DTEND;VALUE=DATE:20260510
DESCRIPTION:
LOCATION:
SUMMARY:AP Exams  
END:VEVENT
BEGIN:VEVENT
DTSTAMP:20260423T095239Z
UID:52e3a15a-1434-4a6c-ace2-4d6f1a60b6ad
DTSTART:20260507T073000
DTEND:20260507T130000
DESCRIPTION:
LOCATION:
SUMMARY:Blood drive\,  HS Back Gym 
END:VEVENT
BEGIN:VEVENT
DTSTAMP:20260423T095239Z
UID:256e2014-3ffa-467c-9f1f-d38c1054502e
DTSTART;VALUE=DATE:20260515
DTEND;VALUE=DATE:20260516
DESCRIPTION:
LOCATION:
SUMMARY:International Water Safety Day
END:VEVENT
BEGIN:VEVENT
DTSTAMP:20260423T095239Z
UID:b4b13a22-3cc4-4c83-8b84-a28a5b238b2a
DTSTART;VALUE=DATE:20260515
DTEND;VALUE=DATE:20260516
DESCRIPTION:
LOCATION:
SUMMARY:MS/HS Progress Report #4
END:VEVENT
BEGIN:VEVENT
DTSTAMP:20260423T095239Z
UID:a8c98198-fba2-4db1-a998-73306ff780c2
DTSTART;VALUE=DATE:20260519
DTEND;VALUE=DATE:20260520
DESCRIPTION:
LOCATION:
SUMMARY:District Wide Art Show at McKinley
END:VEVENT
BEGIN:VEVENT
DTSTAMP:20260423T095239Z
UID:fe0beb51-01b9-440f-a4b3-4f98934d4378
DTSTART;VALUE=DATE:20260520
DTEND;VALUE=DATE:20260521
DESCRIPTION:
LOCATION:
SUMMARY:Annual Varsity/JV Athletic Awards Banquet\, High School Auditorium
END:VEVENT
BEGIN:VEVENT
DTSTAMP:20260423T095239Z
UID:06736bc4-b2d4-4440-9e2f-60e73094f50a
DTSTART;VALUE=DATE:20260521
DTEND;VALUE=DATE:20260522
DESCRIPTION:
LOCATION:
SUMMARY:Senior Picnic at Beaver Island
END:VEVENT
BEGIN:VEVENT
DTSTAMP:20260423T095239Z
UID:cf93e9a6-f5aa-41e0-97dc-fc2e5ae250d8
DTSTART;VALUE=DATE:20260521
DTEND;VALUE=DATE:20260522
DESCRIPTION:
LOCATION:
SUMMARY:Steeler Service Day
END:VEVENT
BEGIN:VEVENT
DTSTAMP:20260423T095239Z
UID:78993492-f4cb-4296-861a-e31471f41285
DTSTART;VALUE=DATE:20260522
DTEND;VALUE=DATE:20260526
DESCRIPTION:
LOCATION:
SUMMARY:Memorial Day Break- No School
END:VEVENT
BEGIN:VEVENT
DTSTAMP:20260423T095239Z
UID:575fae90-a099-4c1a-b158-40cc4b7d5f2c
DTSTART:20260601T053000
DTEND:20260601T063000
DESCRIPTION:
LOCATION:
SUMMARY:Senior Sunrise on FB field
END:VEVENT
BEGIN:VEVENT
DTSTAMP:20260423T095239Z
UID:d75cc743-6647-494f-b42d-cf3063142aa1
DTSTART;VALUE=DATE:20260604
DTEND;VALUE=DATE:20260605
DESCRIPTION:
LOCATION:
SUMMARY:Girls Night
END:VEVENT
BEGIN:VEVENT
DTSTAMP:20260423T095239Z
UID:14363ddb-405d-4ec4-96fa-7b9dbdd99c55
DTSTART;VALUE=DATE:20260605
DTEND;VALUE=DATE:20260606
DESCRIPTION:
LOCATION:
SUMMARY:Cap & Gown Distribution
END:VEVENT
BEGIN:VEVENT
DTSTAMP:20260423T095239Z
UID:a4457329-670e-41af-90dd-6b07392ef7cb
DTSTART;VALUE=DATE:20260608
DTEND;VALUE=DATE:20260609
DESCRIPTION:
LOCATION:
SUMMARY:Senior Walk in Cap & Gowns 
END:VEVENT
BEGIN:VEVENT
DTSTAMP:20260423T095239Z
UID:0baab59e-84ce-447e-9935-9107dd6c5a5c
DTSTART;VALUE=DATE:20260609
DTEND;VALUE=DATE:20260611
DESCRIPTION:
LOCATION:
SUMMARY:Regents Exams
END:VEVENT
BEGIN:VEVENT
DTSTAMP:20260423T095239Z
UID:27071522-231b-4224-9e67-3e643efbd132
DTSTART;VALUE=DATE:20260612
DTEND;VALUE=DATE:20260613
DESCRIPTION:
LOCATION:
SUMMARY:Prom 
END:VEVENT
BEGIN:VEVENT
DTSTAMP:20260423T095239Z
UID:872c4f4d-d817-4a32-8c27-f8aabd587e0c
DTSTART;VALUE=DATE:20260617
DTEND;VALUE=DATE:20260619
DESCRIPTION:
LOCATION:
SUMMARY:June Regents exams
END:VEVENT
BEGIN:VEVENT
DTSTAMP:20260423T095239Z
UID:b86515fb-89aa-4665-8b55-27c22e4e3def
DTSTART;VALUE=DATE:20260619
DTEND;VALUE=DATE:20260620
DESCRIPTION:
LOCATION:
SUMMARY:Juneteenth- No School
END:VEVENT
BEGIN:VEVENT
DTSTAMP:20260423T095239Z
UID:0e721e0e-23c7-40b6-a520-35cf803bbd3b
DTSTART;VALUE=DATE:20260622
DTEND;VALUE=DATE:20260627
DESCRIPTION:
LOCATION:
SUMMARY:June Regents exams
END:VEVENT
BEGIN:VEVENT
DTSTAMP:20260423T095239Z
UID:b8de6b1c-8b03-4e46-b8d4-ddce4b3039ea
DTSTART;VALUE=DATE:20260622
DTEND;VALUE=DATE:20260623
DESCRIPTION:
LOCATION:
SUMMARY:Local Scholarship Reception  
END:VEVENT
BEGIN:VEVENT
DTSTAMP:20260423T095239Z
UID:99434b20-317e-4458-b6bc-0bf0c0d8e0a5
DTSTART;VALUE=DATE:20260625
DTEND;VALUE=DATE:20260626
DESCRIPTION:
LOCATION:
SUMMARY:Graduation (Tentative\, exact date TBD)
END:VEVENT
BEGIN:VEVENT
DTSTAMP:20260423T095239Z
UID:b337f434-ee3a-43e9-a518-b88a8976ca31
DTSTART;VALUE=DATE:20260625
DTEND;VALUE=DATE:20260627
DESCRIPTION:
LOCATION:
SUMMARY:Half Day with Students
END:VEVENT
END:VCALENDAR
