BEGIN:VCALENDAR
VERSION:2.0
PRODID:icalendar-ruby
CALSCALE:GREGORIAN
BEGIN:VTIMEZONE
TZID:America/New_York
BEGIN:DAYLIGHT
DTSTART:20260308T030000
TZOFFSETFROM:-0500
TZOFFSETTO:-0400
RRULE:FREQ=YEARLY;BYDAY=2SU;BYMONTH=3
TZNAME:EDT
END:DAYLIGHT
BEGIN:STANDARD
DTSTART:20261101T010000
TZOFFSETFROM:-0400
TZOFFSETTO:-0500
RRULE:FREQ=YEARLY;BYDAY=1SU;BYMONTH=11
TZNAME:EST
END:STANDARD
END:VTIMEZONE
BEGIN:VEVENT
DTSTAMP:20260419T160446Z
UID:84335b92-b998-4133-ad05-3107061c8160
DTSTART:20260420T141500
DTEND:20260420T153000
DESCRIPTION:
LOCATION:PHN
SUMMARY:Track Practice
END:VEVENT
BEGIN:VEVENT
DTSTAMP:20260419T160446Z
UID:e470884a-162b-4f09-b6c3-d5dd2198b1e8
DTSTART:20260420T160000
DTEND:20260420T170000
DESCRIPTION:
LOCATION:Holland Woods Middle-Building Calendar
SUMMARY:Girls Softball Game Home VS Imlay City
END:VEVENT
BEGIN:VEVENT
DTSTAMP:20260419T160446Z
UID:1a1c117e-6eb4-436b-8030-ec51690995d9
DTSTART:20260421T141500
DTEND:20260421T151500
DESCRIPTION:
LOCATION:
SUMMARY:Student Council Meeting
END:VEVENT
BEGIN:VEVENT
DTSTAMP:20260419T160446Z
UID:be7c2227-8dec-4fb9-b37c-59b6a9f02d34
DTSTART:20260421T141500
DTEND:20260421T153000
DESCRIPTION:
LOCATION:PHN
SUMMARY:Track Practice
END:VEVENT
BEGIN:VEVENT
DTSTAMP:20260419T160446Z
UID:b34f2fd1-3722-44b2-aace-27fd713c17c6
DTSTART:20260421T143000
DTEND:20260421T153000
DESCRIPTION:
LOCATION:
SUMMARY:Drama Club
END:VEVENT
BEGIN:VEVENT
DTSTAMP:20260419T160446Z
UID:b872448c-6131-4b93-aee7-7b032284b81e
DTSTART:20260421T143000
DTEND:20260421T163000
DESCRIPTION:
LOCATION:
SUMMARY:Softball Practice
END:VEVENT
BEGIN:VEVENT
DTSTAMP:20260419T160446Z
UID:b8a97ec2-ddec-4f2c-aac7-7d95f3708e8b
DTSTART:20260422T141500
DTEND:20260422T153000
DESCRIPTION:
LOCATION:PHN
SUMMARY:Track Practice
END:VEVENT
BEGIN:VEVENT
DTSTAMP:20260419T160446Z
UID:5ff946b3-7ce1-40dd-9d6b-6a020c4306b1
DTSTART:20260422T143000
DTEND:20260422T160000
DESCRIPTION:
LOCATION:
SUMMARY:Drumline Club 🥁
END:VEVENT
BEGIN:VEVENT
DTSTAMP:20260419T160446Z
UID:87344235-7bc9-4136-9f04-ec76320113eb
DTSTART:20260423T141500
DTEND:20260423T153000
DESCRIPTION:
LOCATION:PHN
SUMMARY:Track Practice
END:VEVENT
BEGIN:VEVENT
DTSTAMP:20260419T160446Z
UID:e0f5aa1f-164e-41d1-9dd3-ddad718da45a
DTSTART:20260423T143000
DTEND:20260423T153000
DESCRIPTION:
LOCATION:
SUMMARY:Drama Club
END:VEVENT
BEGIN:VEVENT
DTSTAMP:20260419T160446Z
UID:ecf79f43-e595-4497-a718-95557e856133
DTSTART:20260423T143000
DTEND:20260423T163000
DESCRIPTION:
LOCATION:
SUMMARY:Softball Practice
END:VEVENT
BEGIN:VEVENT
DTSTAMP:20260419T160446Z
UID:ac8ca764-be3f-472b-9734-b521a7f72dd6
DTSTART:20260424T141500
DTEND:20260424T153000
DESCRIPTION:
LOCATION:PHN
SUMMARY:Track Practice
END:VEVENT
BEGIN:VEVENT
DTSTAMP:20260419T160446Z
UID:06e150df-c9a6-409e-b74a-d304550b4ea0
DTSTART:20260424T143000
DTEND:20260424T163000
DESCRIPTION:
LOCATION:
SUMMARY:Drama Club
END:VEVENT
BEGIN:VEVENT
DTSTAMP:20260419T160446Z
UID:c4406d08-4ef6-4173-a58c-2f0a571a7439
DTSTART:20260424T143000
DTEND:20260424T153000
DESCRIPTION:
LOCATION:
SUMMARY:Softball Practice
END:VEVENT
BEGIN:VEVENT
DTSTAMP:20260419T160446Z
UID:10148cef-57d8-468d-bcb0-f2b2ac93d3fa
DTSTART:20260427T141500
DTEND:20260427T151500
DESCRIPTION:
LOCATION:
SUMMARY:Track Pictures
END:VEVENT
BEGIN:VEVENT
DTSTAMP:20260419T160446Z
UID:8eb752a6-df90-4b9b-8c50-9807dd6253a2
DTSTART:20260427T160000
DTEND:20260427T170000
DESCRIPTION:
LOCATION:Holland Woods Middle-Building Calendar
SUMMARY:Girls Softball Game Away @ Ft. Gratiot
END:VEVENT
BEGIN:VEVENT
DTSTAMP:20260419T160446Z
UID:c9f40111-59da-4183-9fcd-64c094ad8bb2
DTSTART:20260427T163000
DTEND:20260427T173000
DESCRIPTION:
LOCATION:Port Huron High School\, Holland Woods Middle-Building Calendar
SUMMARY:Track Meet Home VS Marine City
END:VEVENT
BEGIN:VEVENT
DTSTAMP:20260419T160446Z
UID:4fa95bcd-10da-4926-997f-6176f50ff96a
DTSTART:20260428T141500
DTEND:20260428T153000
DESCRIPTION:
LOCATION:PHN
SUMMARY:Track Meeting
END:VEVENT
BEGIN:VEVENT
DTSTAMP:20260419T160446Z
UID:14e7eb8e-d21e-43e6-aca3-e9da36c73833
DTSTART:20260428T143000
DTEND:20260428T163000
DESCRIPTION:
LOCATION:
SUMMARY:Softball Practice
END:VEVENT
BEGIN:VEVENT
DTSTAMP:20260419T160446Z
UID:9446aa27-fb5a-4244-943d-45ac3690c39e
DTSTART:20260429T114200
DTEND:20260429T121200
DESCRIPTION:
LOCATION:
SUMMARY:PHHS Cheer Here - 8th Grade Lunch
END:VEVENT
BEGIN:VEVENT
DTSTAMP:20260419T160446Z
UID:5c358cb4-d7c6-439f-8b30-d71311412868
DTSTART:20260429T141500
DTEND:20260429T153000
DESCRIPTION:
LOCATION:PHN
SUMMARY:Track Meeting
END:VEVENT
BEGIN:VEVENT
DTSTAMP:20260419T160446Z
UID:dfec7e38-fff6-438a-abc3-87aa5c8d679f
DTSTART:20260429T143000
DTEND:20260429T160000
DESCRIPTION:
LOCATION:
SUMMARY:Drumline Club 🥁
END:VEVENT
BEGIN:VEVENT
DTSTAMP:20260419T160446Z
UID:10dba40f-6845-4934-a502-c42d618a8de4
DTSTART:20260429T143000
DTEND:20260429T153000
DESCRIPTION:
LOCATION:
SUMMARY:Softball Pictures
END:VEVENT
BEGIN:VEVENT
DTSTAMP:20260419T160446Z
UID:c2dc5066-fff1-4b7c-9eb2-a93d9cbbebe6
DTSTART:20260429T160000
DTEND:20260429T170000
DESCRIPTION:
LOCATION:Holland Woods Middle-Building Calendar
SUMMARY:Girls Softball Game Home VS Central
END:VEVENT
BEGIN:VEVENT
DTSTAMP:20260419T160446Z
UID:b070f7e4-4c32-4598-ab1c-41a7148a62de
DTSTART:20260430T143000
DTEND:20260430T163000
DESCRIPTION:
LOCATION:
SUMMARY:Softball Practice
END:VEVENT
BEGIN:VEVENT
DTSTAMP:20260419T160446Z
UID:2a3b635c-080c-4ca0-822d-02ff99015c77
DTSTART:20260430T160000
DTEND:20260430T170000
DESCRIPTION:
LOCATION:Port Huron High School
SUMMARY:Track Meet Away @ Central 
END:VEVENT
BEGIN:VEVENT
DTSTAMP:20260419T160446Z
UID:c34a809f-8358-4918-bab6-484f99310edd
DTSTART:20260501T143000
DTEND:20260501T153000
DESCRIPTION:
LOCATION:
SUMMARY:Softball Practice
END:VEVENT
BEGIN:VEVENT
DTSTAMP:20260419T160446Z
UID:b10bda08-1422-42ac-8230-15cae3de32ef
DTSTART:20260504T160000
DTEND:20260504T170000
DESCRIPTION:
LOCATION:Holland Woods Middle-Building Calendar
SUMMARY:Girls Softball Game Away @ Yale
END:VEVENT
BEGIN:VEVENT
DTSTAMP:20260419T160446Z
UID:92be2408-bf16-4b64-b025-9e983fae075b
DTSTART:20260504T160000
DTEND:20260504T170000
DESCRIPTION:
LOCATION:Port Huron Northern High School
SUMMARY:Track Meet Away @ Ft. Gratiot
END:VEVENT
BEGIN:VEVENT
DTSTAMP:20260419T160446Z
UID:f0534442-bf1e-4eea-872b-9b541b616ba2
DTSTART:20260505T141500
DTEND:20260505T151500
DESCRIPTION:
LOCATION:
SUMMARY:Student Council Meeting
END:VEVENT
BEGIN:VEVENT
DTSTAMP:20260419T160446Z
UID:90ca40cd-7e62-4d7b-8adb-114d2f325958
DTSTART:20260505T141500
DTEND:20260505T153000
DESCRIPTION:
LOCATION:PHN
SUMMARY:Track Practice
END:VEVENT
BEGIN:VEVENT
DTSTAMP:20260419T160446Z
UID:25cf41fd-a76e-480f-96e7-258245d64b38
DTSTART:20260505T143000
DTEND:20260505T163000
DESCRIPTION:
LOCATION:
SUMMARY:Softball Practice
END:VEVENT
BEGIN:VEVENT
DTSTAMP:20260419T160446Z
UID:cac5a7e7-5fda-45d1-b334-e7d9ac399532
DTSTART:20260506T143000
DTEND:20260506T160000
DESCRIPTION:
LOCATION:
SUMMARY:Drumline Club 🥁
END:VEVENT
BEGIN:VEVENT
DTSTAMP:20260419T160446Z
UID:c101ab0e-88cf-4f61-ac66-32cbeb5a90ac
DTSTART:20260506T143000
DTEND:20260506T163000
DESCRIPTION:
LOCATION:
SUMMARY:Softball Practice
END:VEVENT
BEGIN:VEVENT
DTSTAMP:20260419T160446Z
UID:62792119-8ef6-4cb0-b327-19dbd11ed13a
DTSTART:20260506T160000
DTEND:20260506T170000
DESCRIPTION:
LOCATION:Port Huron Northern High School\, Holland Woods Middle-Building Ca
 lendar
SUMMARY:Track Meet Home VS St. Clair
END:VEVENT
BEGIN:VEVENT
DTSTAMP:20260419T160446Z
UID:497ba8c3-8353-4cd6-a89e-1f22ab5e2ac4
DTSTART:20260507T141500
DTEND:20260507T153000
DESCRIPTION:
LOCATION:PHN
SUMMARY:Track Practice
END:VEVENT
BEGIN:VEVENT
DTSTAMP:20260419T160446Z
UID:97a60a46-e390-4de4-bf37-2dd1fdd361ce
DTSTART:20260507T143000
DTEND:20260507T163000
DESCRIPTION:
LOCATION:
SUMMARY:Softball Practice
END:VEVENT
BEGIN:VEVENT
DTSTAMP:20260419T160446Z
UID:b0200759-4ea9-4075-b4dd-f9aa8b529fd1
DTSTART:20260507T150000
DTEND:20260507T170000
DESCRIPTION:
LOCATION:Port Huron Northern High School\, 1799 Krafft Rd\, Port Huron\, MI
  48060\, USA
SUMMARY:PHN Drumline Clinics (8th Grade Only)
END:VEVENT
BEGIN:VEVENT
DTSTAMP:20260419T160446Z
UID:362c6a2d-f391-4ea8-8c8d-8fbfb32d18b3
DTSTART:20260508T160000
DTEND:20260508T170000
DESCRIPTION:
LOCATION:Holland Woods Middle-Building Calendar
SUMMARY:Girls Softball Game Home VS Marysville
END:VEVENT
BEGIN:VEVENT
DTSTAMP:20260419T160446Z
UID:07663128-1297-46b6-b2c8-11bd9c9c6108
DTSTART:20260511T154500
DTEND:20260511T164500
DESCRIPTION:
LOCATION:Marysville Middle School
SUMMARY:Track Meet @ Marysville
END:VEVENT
BEGIN:VEVENT
DTSTAMP:20260419T160446Z
UID:9912561c-e9e4-4695-a2d6-3bda1ae1b34b
DTSTART:20260511T160000
DTEND:20260511T170000
DESCRIPTION:
LOCATION:
SUMMARY:Girls Softball Game Away @ Imlay City
END:VEVENT
BEGIN:VEVENT
DTSTAMP:20260419T160446Z
UID:ff5fe771-3c63-4c8d-aa5f-3be719c021c1
DTSTART:20260512T143000
DTEND:20260512T163000
DESCRIPTION:
LOCATION:
SUMMARY:Softball Practice
END:VEVENT
BEGIN:VEVENT
DTSTAMP:20260419T160446Z
UID:fe67e310-c1d9-4b50-8b54-74461dd88194
DTSTART:20260513T141500
DTEND:20260513T151500
DESCRIPTION:
LOCATION:
SUMMARY:Track Party
END:VEVENT
BEGIN:VEVENT
DTSTAMP:20260419T160446Z
UID:14aa464f-77a0-4db9-b587-c86fba7406e3
DTSTART:20260513T143000
DTEND:20260513T160000
DESCRIPTION:
LOCATION:
SUMMARY:Drumline Club 🥁
END:VEVENT
BEGIN:VEVENT
DTSTAMP:20260419T160446Z
UID:d99d6e76-ac7e-499f-a5aa-e2ccbfecc728
DTSTART:20260513T163000
DTEND:20260513T173000
DESCRIPTION:
LOCATION:Port Huron High School
SUMMARY:Track Tri-Meet @ FG and Central
END:VEVENT
BEGIN:VEVENT
DTSTAMP:20260419T160446Z
UID:846ba52b-49d3-4943-b803-1ae7fb81e6ad
DTSTART:20260514T143000
DTEND:20260514T163000
DESCRIPTION:
LOCATION:
SUMMARY:Softball Practice
END:VEVENT
BEGIN:VEVENT
DTSTAMP:20260419T160446Z
UID:61914585-640a-478c-90c7-587119832286
DTSTART:20260514T150000
DTEND:20260514T170000
DESCRIPTION:
LOCATION:Port Huron Northern High School\, 1799 Krafft Rd\, Port Huron\, MI
  48060\, USA
SUMMARY:PHN Drumline Clinics (8th Grade Only)
END:VEVENT
BEGIN:VEVENT
DTSTAMP:20260419T160446Z
UID:ac7b3b46-81ab-4bcf-8273-45f561b7bb73
DTSTART:20260515T160000
DTEND:20260515T170000
DESCRIPTION:
LOCATION:
SUMMARY:Girls Softball Game Home VS Fort Gratiot
END:VEVENT
BEGIN:VEVENT
DTSTAMP:20260419T160446Z
UID:c3bc4de2-11dd-4e6c-8155-a3cd2dd943ec
DTSTART:20260518T160000
DTEND:20260518T170000
DESCRIPTION:
LOCATION:
SUMMARY:Girls Softball Game Away @ Central
END:VEVENT
BEGIN:VEVENT
DTSTAMP:20260419T160446Z
UID:148fbb18-578a-42cb-8eed-51d63ec6555d
DTSTART:20260519T143000
DTEND:20260519T163000
DESCRIPTION:
LOCATION:
SUMMARY:Softball Practice
END:VEVENT
BEGIN:VEVENT
DTSTAMP:20260419T160446Z
UID:cab122cc-e4f1-48e1-a75c-1027dcd198ff
DTSTART:20260520T143000
DTEND:20260520T160000
DESCRIPTION:
LOCATION:
SUMMARY:Drumline Club 🥁
END:VEVENT
BEGIN:VEVENT
DTSTAMP:20260419T160446Z
UID:d4957cd5-7f1b-4b8f-9b31-dc8317ad5cea
DTSTART:20260520T160000
DTEND:20260520T170000
DESCRIPTION:
LOCATION:Holland Woods Middle-Building Calendar
SUMMARY:Girls Softball Game Home VS Yale
END:VEVENT
BEGIN:VEVENT
DTSTAMP:20260419T160446Z
UID:cc3ff4d9-8a30-47d7-9a2a-1e18d7a3a0e9
DTSTART:20260521T150000
DTEND:20260521T170000
DESCRIPTION:
LOCATION:Port Huron Northern High School\, 1799 Krafft Rd\, Port Huron\, MI
  48060\, USA
SUMMARY:PHN Drumline Clinics (8th Grade Only)
END:VEVENT
BEGIN:VEVENT
DTSTAMP:20260419T160446Z
UID:351cd700-59f8-4270-989e-1e643d8d885d
DTSTART:20260522T000000
DTEND:20260526T000000
DESCRIPTION:
LOCATION:Holland Woods Middle-Building Calendar
SUMMARY:Memorial Day Weekend - No School
END:VEVENT
BEGIN:VEVENT
DTSTAMP:20260419T160446Z
UID:4e142356-6b63-42af-898c-fdc949c54b88
DTSTART:20260527T143000
DTEND:20260527T160000
DESCRIPTION:
LOCATION:
SUMMARY:Drumline Club 🥁
END:VEVENT
BEGIN:VEVENT
DTSTAMP:20260419T160446Z
UID:2a81dabc-3e07-4a09-a619-de27b3c8861a
DTSTART:20260528T150000
DTEND:20260528T170000
DESCRIPTION:
LOCATION:Port Huron Northern High School\, 1799 Krafft Rd\, Port Huron\, MI
  48060\, USA
SUMMARY:PHN Drumline Clinics (8th Grade Only)
END:VEVENT
BEGIN:VEVENT
DTSTAMP:20260419T160446Z
UID:46bbfc9e-e10a-459e-a45e-211d18671639
DTSTART:20260603T143000
DTEND:20260603T160000
DESCRIPTION:
LOCATION:
SUMMARY:Drumline Club 🥁
END:VEVENT
BEGIN:VEVENT
DTSTAMP:20260419T160446Z
UID:777586d3-8b23-48d1-a0e7-bdf1b5e09f1c
DTSTART:20260604T150000
DTEND:20260604T170000
DESCRIPTION:
LOCATION:Port Huron Northern High School\, 1799 Krafft Rd\, Port Huron\, MI
  48060\, USA
SUMMARY:PHN Drumline Clinics (8th Grade Only)
END:VEVENT
BEGIN:VEVENT
DTSTAMP:20260419T160446Z
UID:104a033f-4f7d-410f-85a4-2597418950fb
DTSTART:20260605T143000
DTEND:20260605T153000
DESCRIPTION:
LOCATION:Port Huron Northern High School\, 1799 Krafft Rd\, Port Huron\, MI
  48060\, USA
SUMMARY:PHN Drumline Auditions (8th Grade Only)
END:VEVENT
BEGIN:VEVENT
DTSTAMP:20260419T160446Z
UID:9ccbc605-21ef-4b2f-966b-4009cf0f19a7
DTSTART:20260609T180000
DTEND:20260609T190000
DESCRIPTION:
LOCATION:
SUMMARY:8th Grade Recognition @ PHN
END:VEVENT
BEGIN:VEVENT
DTSTAMP:20260419T160446Z
UID:005d209d-282f-4fac-b9c9-82078a0b7335
DTSTART:20260610T000000
DTEND:20260611T000000
DESCRIPTION:
LOCATION:Holland Woods Middle-Building Calendar
SUMMARY:1/2 Day of School - Dismissal at 10:38am
END:VEVENT
BEGIN:VEVENT
DTSTAMP:20260419T160446Z
UID:c469e5c7-6290-49db-9d54-5b49f268670f
DTSTART:20260610T143000
DTEND:20260610T160000
DESCRIPTION:
LOCATION:
SUMMARY:Drumline Club 🥁
END:VEVENT
BEGIN:VEVENT
DTSTAMP:20260419T160446Z
UID:02af5cf9-86c1-4287-8ee8-a73aa1382557
DTSTART:20260611T000000
DTEND:20260612T000000
DESCRIPTION:
LOCATION:Holland Woods Middle-Building Calendar
SUMMARY:Last Day of School - 1/2 Day - Dismissal at 10:38am
END:VEVENT
END:VCALENDAR
