BEGIN:VCALENDAR
VERSION:2.0
PRODID:icalendar-ruby
CALSCALE:GREGORIAN
BEGIN:VTIMEZONE
TZID:America/Denver
BEGIN:DAYLIGHT
DTSTART:20260308T030000
TZOFFSETFROM:-0700
TZOFFSETTO:-0600
RRULE:FREQ=YEARLY;BYDAY=2SU;BYMONTH=3
TZNAME:MDT
END:DAYLIGHT
BEGIN:STANDARD
DTSTART:20261101T010000
TZOFFSETFROM:-0600
TZOFFSETTO:-0700
RRULE:FREQ=YEARLY;BYDAY=1SU;BYMONTH=11
TZNAME:MST
END:STANDARD
END:VTIMEZONE
BEGIN:VEVENT
DTSTAMP:20260425T171323Z
UID:e0b6c98a-2e3a-4d02-8884-448f65866451
DTSTART:20260522T090000
DTEND:20260522T110000
DESCRIPTION:<p><span>For more information &amp\; FAQs: </span><a target="_b
 lank" rel="noopener noreferrer nofollow" href="https://www.sfps.info/page/
 graduation">https://www.sfps.info/page/graduation</a></p>
LOCATION:4851 Paseo del Sol\, Santa Fe\, NM 87507\, USA
SUMMARY:Capital High Graduation
END:VEVENT
END:VCALENDAR
