BEGIN:VCALENDAR
VERSION:2.0
PRODID:icalendar-ruby
CALSCALE:GREGORIAN
BEGIN:VTIMEZONE
TZID:America/Phoenix
BEGIN:STANDARD
DTSTART:19671029T010000
TZOFFSETFROM:-0600
TZOFFSETTO:-0700
TZNAME:MST
END:STANDARD
END:VTIMEZONE
BEGIN:VEVENT
DTSTAMP:20260419T162244Z
UID:bd3c585d-bdf0-4dce-8ef9-938067b34cbc
DTSTART:20260422T080000
DTEND:20260422T124500
DESCRIPTION:
LOCATION:
SUMMARY:Early Release
END:VEVENT
BEGIN:VEVENT
DTSTAMP:20260419T162244Z
UID:497f15f2-c304-42d6-8917-f32bb4f5f6a2
DTSTART:20260428T090000
DTEND:20260428T120000
DESCRIPTION:
LOCATION:Buena High School\, 5225 E Buena School Blvd\, Sierra Vista\, AZ 8
 5635\, USA
SUMMARY:Elementary Track Field Day
END:VEVENT
BEGIN:VEVENT
DTSTAMP:20260419T162244Z
UID:d1f89200-4bbf-4800-9538-1f8ad79a37da
DTSTART:20260429T080000
DTEND:20260429T124500
DESCRIPTION:
LOCATION:
SUMMARY:Early Release
END:VEVENT
BEGIN:VEVENT
DTSTAMP:20260419T162244Z
UID:76bb5547-8b42-434b-8247-0fb417b358b5
DTSTART:20260505T190000
DTEND:20260505T200000
DESCRIPTION:
LOCATION:Klein Center for the Performing Arts\, 5225 E Buena School Blvd\, 
 Sierra Vista\, AZ 85635\, USA
SUMMARY:Band Concert- PDS & Huachuca Mtn Bands
END:VEVENT
BEGIN:VEVENT
DTSTAMP:20260419T162244Z
UID:9c7291cc-5206-4974-8705-b7b271b33362
DTSTART:20260506T080000
DTEND:20260506T124500
DESCRIPTION:
LOCATION:
SUMMARY:Early Release
END:VEVENT
BEGIN:VEVENT
DTSTAMP:20260419T162244Z
UID:6f096cc5-c023-45a8-94ac-54c928a584b1
DTSTART:20260513T080000
DTEND:20260513T124500
DESCRIPTION:
LOCATION:
SUMMARY:Early Release
END:VEVENT
BEGIN:VEVENT
DTSTAMP:20260419T162244Z
UID:4dbf9ba9-1afc-4539-b68b-5df09274f13b
DTSTART:20260520T080000
DTEND:20260520T124500
DESCRIPTION:
LOCATION:
SUMMARY:Early Release
END:VEVENT
BEGIN:VEVENT
DTSTAMP:20260419T162244Z
UID:3f6efc26-698e-450b-92e0-4976fb36cd66
DTSTART:20260521T080000
DTEND:20260521T111500
DESCRIPTION:
LOCATION:
SUMMARY:Last Day of School- Half Say
END:VEVENT
END:VCALENDAR
