BEGIN:VCALENDAR
VERSION:2.0
PRODID:icalendar-ruby
CALSCALE:GREGORIAN
BEGIN:VTIMEZONE
TZID:America/New_York
BEGIN:DAYLIGHT
DTSTART:20260308T030000
TZOFFSETFROM:-0500
TZOFFSETTO:-0400
RRULE:FREQ=YEARLY;BYDAY=2SU;BYMONTH=3
TZNAME:EDT
END:DAYLIGHT
BEGIN:STANDARD
DTSTART:20261101T010000
TZOFFSETFROM:-0400
TZOFFSETTO:-0500
RRULE:FREQ=YEARLY;BYDAY=1SU;BYMONTH=11
TZNAME:EST
END:STANDARD
END:VTIMEZONE
BEGIN:VEVENT
DTSTAMP:20260425T105832Z
UID:5b0b0bfb-3584-46c2-87e9-27eee0dc2a48
DTSTART:20260430T183000
DTEND:20260430T193000
DESCRIPTION:
LOCATION:
SUMMARY:TFMS Jr. NHS Induction Ceremony
END:VEVENT
BEGIN:VEVENT
DTSTAMP:20260425T105832Z
UID:28242d96-678e-4bf2-ab44-da744fd66b18
DTSTART:20260507T183000
DTEND:20260507T203000
DESCRIPTION:
LOCATION:
SUMMARY:BOE meeting - Reorg
END:VEVENT
BEGIN:VEVENT
DTSTAMP:20260425T105832Z
UID:5d2949b2-289b-4431-acca-8ea717c98c42
DTSTART:20260514T180000
DTEND:20260514T184500
DESCRIPTION:
LOCATION:
SUMMARY:5th Gr Parent Orientation @ TFMS
END:VEVENT
BEGIN:VEVENT
DTSTAMP:20260425T105832Z
UID:a19e6bc2-da8e-4a53-b70f-89a21aa8a195
DTSTART:20260514T190000
DTEND:20260514T200000
DESCRIPTION:
LOCATION:Monmouth Regional High School\, 1 Norman J. Field Way\, Tinton Fal
 ls\, NJ 07724\, USA
SUMMARY:TFMS Spring Concert
END:VEVENT
BEGIN:VEVENT
DTSTAMP:20260425T105832Z
UID:71a524ae-bf9e-4e63-b5d0-3021dab04aa5
DTSTART;VALUE=DATE:20260515
DTEND;VALUE=DATE:20260516
DESCRIPTION:
LOCATION:
SUMMARY:MFA 2nd Grade Concert
END:VEVENT
BEGIN:VEVENT
DTSTAMP:20260425T105832Z
UID:6296cb7d-55af-4efa-9bc4-7e8501c50cc9
DTSTART:20260521T193000
DTEND:20260521T203000
DESCRIPTION:\n7:30pm - Public Session (Open to Public) \n6:30pm - Executiv
 e Session (Closed Session)
LOCATION:
SUMMARY:BOE regular meeting
END:VEVENT
BEGIN:VEVENT
DTSTAMP:20260425T105832Z
UID:a66fd0be-0466-4b82-9fcd-379d895cac7f
DTSTART;VALUE=DATE:20260522
DTEND;VALUE=DATE:20260523
DESCRIPTION:
LOCATION:
SUMMARY:Single Session - Staff PLC/Data Teams
END:VEVENT
BEGIN:VEVENT
DTSTAMP:20260425T105832Z
UID:f05f377a-29d4-4623-9027-4efe96a24991
DTSTART;VALUE=DATE:20260525
DTEND;VALUE=DATE:20260526
DESCRIPTION:
LOCATION:
SUMMARY:SCHOOLS CLOSED - Memorial Day
END:VEVENT
BEGIN:VEVENT
DTSTAMP:20260425T105832Z
UID:824de636-6f76-4ee4-a4b3-d1c51a65250c
DTSTART:20260526T183000
DTEND:20260526T193000
DESCRIPTION:
LOCATION:Mahala F. Atchison Elementary School\, 961 Sycamore Ave\, Tinton F
 alls\, NJ 07724\, USA
SUMMARY:Kindergarten Parent Orientation
END:VEVENT
BEGIN:VEVENT
DTSTAMP:20260425T105832Z
UID:f381a73c-a071-4e3b-9c83-f6f09207b0cf
DTSTART:20260527T091500
DTEND:20260527T101500
DESCRIPTION:
LOCATION:
SUMMARY:3rd Gr Parent Orientation @ SRS
END:VEVENT
BEGIN:VEVENT
DTSTAMP:20260425T105832Z
UID:c5b55f9c-f954-4f1a-8d1f-61cc006dc545
DTSTART:20260527T170000
DTEND:20260527T190000
DESCRIPTION:
LOCATION:
SUMMARY:SRS STEAM/Art Show
END:VEVENT
BEGIN:VEVENT
DTSTAMP:20260425T105832Z
UID:f29e9c6b-0a36-43bf-9a7d-ada3c5d5ab9b
DTSTART:20260527T191500
DTEND:20260527T201500
DESCRIPTION:
LOCATION:
SUMMARY:3rd Gr Parent Orientation @ SRS
END:VEVENT
BEGIN:VEVENT
DTSTAMP:20260425T105832Z
UID:72553247-e0f1-4a6b-9852-73c214358af7
DTSTART;VALUE=DATE:20260528
DTEND;VALUE=DATE:20260530
DESCRIPTION:
LOCATION:
SUMMARY:8th Gr Washington DC trip
END:VEVENT
BEGIN:VEVENT
DTSTAMP:20260425T105832Z
UID:f6292cd8-1cca-46ee-8e64-b88106b17ca5
DTSTART;VALUE=DATE:20260529
DTEND;VALUE=DATE:20260530
DESCRIPTION:
LOCATION:
SUMMARY:SRS Field Day
END:VEVENT
BEGIN:VEVENT
DTSTAMP:20260425T105832Z
UID:1de69599-04bc-455b-bfca-6631af81178c
DTSTART:20260603T183000
DTEND:20260603T193000
DESCRIPTION:
LOCATION:
SUMMARY:4th Grade Concert
END:VEVENT
BEGIN:VEVENT
DTSTAMP:20260425T105832Z
UID:94da13d9-ec8a-4bd6-afd9-6b5b99534447
DTSTART:20260604T183000
DTEND:20260604T193000
DESCRIPTION:
LOCATION:
SUMMARY:5th Grade Concert
END:VEVENT
BEGIN:VEVENT
DTSTAMP:20260425T105832Z
UID:9364c23d-e9e4-4880-b48d-5f0f0f7a1a8e
DTSTART;VALUE=DATE:20260605
DTEND;VALUE=DATE:20260606
DESCRIPTION:
LOCATION:
SUMMARY:8th Grade Dance
END:VEVENT
BEGIN:VEVENT
DTSTAMP:20260425T105832Z
UID:536711bb-df66-4c8c-899a-12fa25933a28
DTSTART;VALUE=DATE:20260608
DTEND;VALUE=DATE:20260609
DESCRIPTION:
LOCATION:
SUMMARY:2nd Grade Orientation at SRS
END:VEVENT
BEGIN:VEVENT
DTSTAMP:20260425T105832Z
UID:4b441e3b-d91f-4106-aa0a-da5d918e8b00
DTSTART;VALUE=DATE:20260608
DTEND;VALUE=DATE:20260609
DESCRIPTION:
LOCATION:
SUMMARY:5th Grade Orientation at TFMS
END:VEVENT
BEGIN:VEVENT
DTSTAMP:20260425T105832Z
UID:4846b3d9-8e24-41c3-9a98-ecc15ac29ada
DTSTART;VALUE=DATE:20260609
DTEND;VALUE=DATE:20260610
DESCRIPTION:
LOCATION:
SUMMARY:2nd Grade Orientation at SRS
END:VEVENT
BEGIN:VEVENT
DTSTAMP:20260425T105832Z
UID:c54f8468-6054-4896-84d9-66185dde177a
DTSTART;VALUE=DATE:20260609
DTEND;VALUE=DATE:20260610
DESCRIPTION:
LOCATION:
SUMMARY:5th Grade Orientation at TFMS
END:VEVENT
BEGIN:VEVENT
DTSTAMP:20260425T105832Z
UID:c8f96d8a-f433-4a32-bc9f-8b383f84bf05
DTSTART:20260611T090000
DTEND:20260611T100000
DESCRIPTION:
LOCATION:
SUMMARY:PreK Graduation
END:VEVENT
BEGIN:VEVENT
DTSTAMP:20260425T105832Z
UID:4dbb31bb-97f8-45a5-9ccd-90fb1500aa5f
DTSTART:20260616T090000
DTEND:20260616T100000
DESCRIPTION:
LOCATION:
SUMMARY:2nd Grade Party
END:VEVENT
BEGIN:VEVENT
DTSTAMP:20260425T105832Z
UID:1aa1b40c-74e0-4285-9c34-0bcbfc66e860
DTSTART;VALUE=DATE:20260617
DTEND;VALUE=DATE:20260618
DESCRIPTION:Collins Arena
LOCATION:Brookdale Community College\, 765 Newman Springs Rd\, Lincroft\, N
 J 07738\, USA
SUMMARY:8th Grade Graduation Class of 2026
END:VEVENT
BEGIN:VEVENT
DTSTAMP:20260425T105832Z
UID:90242e28-cda7-412f-94ae-76001157fe77
DTSTART:20260618T090000
DTEND:20260618T100000
DESCRIPTION:
LOCATION:
SUMMARY:Kindergarten Wrap It Up Celebration
END:VEVENT
BEGIN:VEVENT
DTSTAMP:20260425T105832Z
UID:caa6b338-1cd4-4477-ad11-3af57cb8366e
DTSTART:20260618T193000
DTEND:20260618T203000
DESCRIPTION:\n7:30pm - Public Session (Open to Public) \n6:30pm - Executiv
 e Session (Closed Session)
LOCATION:
SUMMARY:BOE meeting
END:VEVENT
BEGIN:VEVENT
DTSTAMP:20260425T105832Z
UID:7ca3d406-988f-4b70-b7e0-8a53dec0f5e8
DTSTART;VALUE=DATE:20260619
DTEND;VALUE=DATE:20260620
DESCRIPTION:
LOCATION:
SUMMARY:SCHOOLS CLOSED - Juneteenth
END:VEVENT
BEGIN:VEVENT
DTSTAMP:20260425T105832Z
UID:077e2b4b-31ba-44eb-97d7-86f140c76362
DTSTART;VALUE=DATE:20260624
DTEND;VALUE=DATE:20260625
DESCRIPTION:
LOCATION:
SUMMARY:Single Session
END:VEVENT
BEGIN:VEVENT
DTSTAMP:20260425T105832Z
UID:cac43a5d-49d3-4578-ac4b-6c426d55b3ce
DTSTART;VALUE=DATE:20260625
DTEND;VALUE=DATE:20260626
DESCRIPTION:
LOCATION:
SUMMARY:Single Session
END:VEVENT
BEGIN:VEVENT
DTSTAMP:20260425T105832Z
UID:c4a13e2b-dd9d-4860-98ac-d54fab3a79fb
DTSTART;VALUE=DATE:20260626
DTEND;VALUE=DATE:20260627
DESCRIPTION:
LOCATION:
SUMMARY:Last Day for Students & Staff
END:VEVENT
BEGIN:VEVENT
DTSTAMP:20260425T105832Z
UID:64788b9f-ff06-41b9-b037-f3f7529efdf8
DTSTART;VALUE=DATE:20260626
DTEND;VALUE=DATE:20260627
DESCRIPTION:
LOCATION:
SUMMARY:Single Session
END:VEVENT
BEGIN:VEVENT
DTSTAMP:20260425T105832Z
UID:a551053e-42fa-4177-8dee-2fd14f0bc7be
DTSTART;VALUE=DATE:20260901
DTEND;VALUE=DATE:20260902
DESCRIPTION:
LOCATION:
SUMMARY:First Day for Staff
END:VEVENT
BEGIN:VEVENT
DTSTAMP:20260425T105832Z
UID:2c46968e-817d-43cf-9aa1-ef5355efa37e
DTSTART;VALUE=DATE:20260902
DTEND;VALUE=DATE:20260903
DESCRIPTION:
LOCATION:
SUMMARY:Second Day for Staff
END:VEVENT
BEGIN:VEVENT
DTSTAMP:20260425T105832Z
UID:267ade72-90a7-40e3-bc49-a57a13b391cf
DTSTART;VALUE=DATE:20260903
DTEND;VALUE=DATE:20260904
DESCRIPTION:
LOCATION:
SUMMARY:First Day for Students
END:VEVENT
BEGIN:VEVENT
DTSTAMP:20260425T105832Z
UID:3ec4ae6d-991e-4ee7-8d81-e138dca6ad32
DTSTART;VALUE=DATE:20260903
DTEND;VALUE=DATE:20260904
DESCRIPTION:
LOCATION:
SUMMARY:P.M. Staff Professional Day
END:VEVENT
BEGIN:VEVENT
DTSTAMP:20260425T105832Z
UID:c6661964-c3b5-4704-911e-221944f414cb
DTSTART;VALUE=DATE:20260903
DTEND;VALUE=DATE:20260904
DESCRIPTION:
LOCATION:
SUMMARY:Single Session Day
END:VEVENT
BEGIN:VEVENT
DTSTAMP:20260425T105832Z
UID:34614235-eb6e-4197-8530-8411ab54d591
DTSTART;VALUE=DATE:20260904
DTEND;VALUE=DATE:20260905
DESCRIPTION:
LOCATION:
SUMMARY:P.M. Staff Professional Day
END:VEVENT
BEGIN:VEVENT
DTSTAMP:20260425T105832Z
UID:3421ddbe-df1e-4abb-adda-85c7d96ae977
DTSTART;VALUE=DATE:20260904
DTEND;VALUE=DATE:20260905
DESCRIPTION:
LOCATION:
SUMMARY:Single Session Day
END:VEVENT
BEGIN:VEVENT
DTSTAMP:20260425T105832Z
UID:970d7843-6d40-4f88-8093-d022d116c1f7
DTSTART;VALUE=DATE:20260907
DTEND;VALUE=DATE:20260908
DESCRIPTION:
LOCATION:
SUMMARY:DISTRICT CLOSED - Labor Day
END:VEVENT
BEGIN:VEVENT
DTSTAMP:20260425T105832Z
UID:0db2d831-e746-4f34-8e3d-918072711971
DTSTART;VALUE=DATE:20260921
DTEND;VALUE=DATE:20260922
DESCRIPTION:
LOCATION:
SUMMARY:DISTRICT CLOSED - Yom Kippur
END:VEVENT
BEGIN:VEVENT
DTSTAMP:20260425T105832Z
UID:9ab13073-61b8-48a2-97cb-66509161664d
DTSTART;VALUE=DATE:20261012
DTEND;VALUE=DATE:20261013
DESCRIPTION:
LOCATION:
SUMMARY:SCHOOLS CLOSED FOR STUDENTS - Columbus Day/Indigenous Peoples Day
END:VEVENT
BEGIN:VEVENT
DTSTAMP:20260425T105832Z
UID:03ef3001-b8f0-4d52-8c02-9b838aadb23d
DTSTART;VALUE=DATE:20261012
DTEND;VALUE=DATE:20261013
DESCRIPTION:
LOCATION:
SUMMARY:Staff Professional Day
END:VEVENT
BEGIN:VEVENT
DTSTAMP:20260425T105832Z
UID:2bab87a2-2c01-4549-8dff-fdb40357303d
DTSTART;VALUE=DATE:20261102
DTEND;VALUE=DATE:20261103
DESCRIPTION:
LOCATION:
SUMMARY:Parent/Teacher Conferences
END:VEVENT
BEGIN:VEVENT
DTSTAMP:20260425T105832Z
UID:0d8add03-6437-453a-b4c5-aa985a3b913e
DTSTART;VALUE=DATE:20261102
DTEND;VALUE=DATE:20261103
DESCRIPTION:
LOCATION:
SUMMARY:Single Session
END:VEVENT
BEGIN:VEVENT
DTSTAMP:20260425T105832Z
UID:a626a865-d7b2-4e3d-993e-e72ad205f34e
DTSTART;VALUE=DATE:20261103
DTEND;VALUE=DATE:20261104
DESCRIPTION:
LOCATION:
SUMMARY:Parent/Teacher Conferences
END:VEVENT
BEGIN:VEVENT
DTSTAMP:20260425T105832Z
UID:09df3170-992f-4c73-98a7-ffa051cf67aa
DTSTART;VALUE=DATE:20261103
DTEND;VALUE=DATE:20261104
DESCRIPTION:
LOCATION:
SUMMARY:Single Session
END:VEVENT
BEGIN:VEVENT
DTSTAMP:20260425T105832Z
UID:0b09b7aa-a827-4ed7-ad8d-2bbeb9b60ddc
DTSTART;VALUE=DATE:20261104
DTEND;VALUE=DATE:20261105
DESCRIPTION:
LOCATION:
SUMMARY:Parent/Teacher Conferences
END:VEVENT
BEGIN:VEVENT
DTSTAMP:20260425T105832Z
UID:b7ae93a6-3cd8-41d6-ab12-eb7dfda649a3
DTSTART;VALUE=DATE:20261104
DTEND;VALUE=DATE:20261105
DESCRIPTION:
LOCATION:
SUMMARY:Single Session
END:VEVENT
BEGIN:VEVENT
DTSTAMP:20260425T105832Z
UID:6ebe362a-b6f6-42b5-b04d-cd7ecc2d3d40
DTSTART;VALUE=DATE:20261105
DTEND;VALUE=DATE:20261107
DESCRIPTION:
LOCATION:
SUMMARY:DISTRICT CLOSED - NJEA Convention
END:VEVENT
BEGIN:VEVENT
DTSTAMP:20260425T105832Z
UID:06e4abaa-864b-4b17-a77c-2e8ea43e4015
DTSTART;VALUE=DATE:20261125
DTEND;VALUE=DATE:20261126
DESCRIPTION:
LOCATION:
SUMMARY:Single Session - Thanksgiving Holiday
END:VEVENT
BEGIN:VEVENT
DTSTAMP:20260425T105832Z
UID:8b81b138-f9be-45ff-817b-2c4ebfbd4917
DTSTART;VALUE=DATE:20261126
DTEND;VALUE=DATE:20261128
DESCRIPTION:
LOCATION:
SUMMARY:DISTRICT CLOSED - Thanksgiving
END:VEVENT
BEGIN:VEVENT
DTSTAMP:20260425T105832Z
UID:6b398ca5-d5d5-4a0d-9faf-147ce9ada9c6
DTSTART;VALUE=DATE:20261204
DTEND;VALUE=DATE:20261205
DESCRIPTION:
LOCATION:
SUMMARY:1st Semester Ends
END:VEVENT
BEGIN:VEVENT
DTSTAMP:20260425T105832Z
UID:ec7eeb32-5dc2-4313-b7e9-cb595b723483
DTSTART;VALUE=DATE:20261211
DTEND;VALUE=DATE:20261212
DESCRIPTION:
LOCATION:
SUMMARY:Report Cards Issued
END:VEVENT
BEGIN:VEVENT
DTSTAMP:20260425T105832Z
UID:7f9ea881-796a-4328-aecd-fe82921fc1ba
DTSTART;VALUE=DATE:20261223
DTEND;VALUE=DATE:20261224
DESCRIPTION:
LOCATION:
SUMMARY:Single Session - Staff & Students
END:VEVENT
BEGIN:VEVENT
DTSTAMP:20260425T105832Z
UID:d8ff31a5-675f-4cb0-b105-7573e2253920
DTSTART;VALUE=DATE:20261224
DTEND;VALUE=DATE:20270102
DESCRIPTION:
LOCATION:
SUMMARY:DISTRICT CLOSED - Winter Break
END:VEVENT
BEGIN:VEVENT
DTSTAMP:20260425T105832Z
UID:0d6d7b51-c6c4-4e4f-8a8e-41a02233a940
DTSTART;VALUE=DATE:20270104
DTEND;VALUE=DATE:20270105
DESCRIPTION:
LOCATION:
SUMMARY:School Reopens
END:VEVENT
BEGIN:VEVENT
DTSTAMP:20260425T105832Z
UID:1f10f88c-b832-400d-bd74-88a33e8120dc
DTSTART;VALUE=DATE:20270118
DTEND;VALUE=DATE:20270119
DESCRIPTION:
LOCATION:
SUMMARY:DISTRICT CLOSED - Martin Luther King Jr. Day
END:VEVENT
BEGIN:VEVENT
DTSTAMP:20260425T105832Z
UID:aa20663d-5627-4fbc-8958-2c30d6c21738
DTSTART;VALUE=DATE:20270212
DTEND;VALUE=DATE:20270213
DESCRIPTION:
LOCATION:
SUMMARY:SCHOOLS CLOSED
END:VEVENT
BEGIN:VEVENT
DTSTAMP:20260425T105832Z
UID:1deb1fa6-9131-4121-85f9-61e1bf84f841
DTSTART;VALUE=DATE:20270212
DTEND;VALUE=DATE:20270213
DESCRIPTION:
LOCATION:
SUMMARY:Staff Professional Day
END:VEVENT
BEGIN:VEVENT
DTSTAMP:20260425T105832Z
UID:e8149d9b-2b4b-4b6a-b51b-c2b859166d40
DTSTART;VALUE=DATE:20270215
DTEND;VALUE=DATE:20270216
DESCRIPTION:
LOCATION:
SUMMARY:DISTRICT CLOSED - Presidents' Day
END:VEVENT
BEGIN:VEVENT
DTSTAMP:20260425T105832Z
UID:56cf49c6-2404-4be7-8f16-48067e1ab0c7
DTSTART;VALUE=DATE:20270312
DTEND;VALUE=DATE:20270313
DESCRIPTION:
LOCATION:
SUMMARY:2nd Semester Ends
END:VEVENT
BEGIN:VEVENT
DTSTAMP:20260425T105832Z
UID:16cf808f-45ff-4f56-addc-158bfffe049b
DTSTART;VALUE=DATE:20270319
DTEND;VALUE=DATE:20270320
DESCRIPTION:
LOCATION:
SUMMARY:Report cards issued
END:VEVENT
BEGIN:VEVENT
DTSTAMP:20260425T105832Z
UID:a0173b23-9df2-4cf5-a39f-62bd808383d4
DTSTART;VALUE=DATE:20270325
DTEND;VALUE=DATE:20270326
DESCRIPTION:
LOCATION:
SUMMARY:SCHOOLS CLOSED
END:VEVENT
BEGIN:VEVENT
DTSTAMP:20260425T105832Z
UID:a9d3632e-fd0d-4b01-8541-e369898f554e
DTSTART;VALUE=DATE:20270325
DTEND;VALUE=DATE:20270326
DESCRIPTION:
LOCATION:
SUMMARY:Staff Professional Day
END:VEVENT
BEGIN:VEVENT
DTSTAMP:20260425T105832Z
UID:8a1d0d21-0c7f-4075-8622-95a2d4bf7a5c
DTSTART;VALUE=DATE:20270326
DTEND;VALUE=DATE:20270403
DESCRIPTION:
LOCATION:
SUMMARY:DISTRICT CLOSED - Spring Break
END:VEVENT
BEGIN:VEVENT
DTSTAMP:20260425T105832Z
UID:cfc27399-0b60-49d8-b9c2-e3bb8969083a
DTSTART;VALUE=DATE:20270405
DTEND;VALUE=DATE:20270406
DESCRIPTION:
LOCATION:
SUMMARY:Schools Reopen
END:VEVENT
BEGIN:VEVENT
DTSTAMP:20260425T105832Z
UID:21cb898d-d873-4547-af4c-1547a70ed94f
DTSTART;VALUE=DATE:20270528
DTEND;VALUE=DATE:20270529
DESCRIPTION:
LOCATION:
SUMMARY:Single Session
END:VEVENT
BEGIN:VEVENT
DTSTAMP:20260425T105832Z
UID:481221dd-d655-47b4-a4dd-a0b838c21f0b
DTSTART;VALUE=DATE:20270528
DTEND;VALUE=DATE:20270529
DESCRIPTION:
LOCATION:
SUMMARY:Staff PLC/Data Teams
END:VEVENT
BEGIN:VEVENT
DTSTAMP:20260425T105832Z
UID:d6775dff-c578-4c4b-a2a3-868e2b9c74e8
DTSTART;VALUE=DATE:20270531
DTEND;VALUE=DATE:20270601
DESCRIPTION:
LOCATION:
SUMMARY:DISTRICT CLOSED - Memorial Day
END:VEVENT
BEGIN:VEVENT
DTSTAMP:20260425T105832Z
UID:1abc31ab-2218-4b7a-9e20-3f7463f0aba2
DTSTART;VALUE=DATE:20270616
DTEND;VALUE=DATE:20270617
DESCRIPTION:
LOCATION:
SUMMARY:Last Day of School (if no emergency days used)
END:VEVENT
BEGIN:VEVENT
DTSTAMP:20260425T105832Z
UID:31a5cb2d-c43c-4afa-b1bc-90b70e4ec4b7
DTSTART;VALUE=DATE:20270618
DTEND;VALUE=DATE:20270619
DESCRIPTION:
LOCATION:
SUMMARY:Single Session
END:VEVENT
BEGIN:VEVENT
DTSTAMP:20260425T105832Z
UID:ed8b2ac9-cc1e-4809-9bf2-498961d2a81e
DTSTART;VALUE=DATE:20270621
DTEND;VALUE=DATE:20270622
DESCRIPTION:
LOCATION:
SUMMARY:Last Day for Students & Staff (if 3 emergency days used)
END:VEVENT
BEGIN:VEVENT
DTSTAMP:20260425T105832Z
UID:7cc4c72a-75c9-489e-8ce2-44080d98c5fb
DTSTART;VALUE=DATE:20270621
DTEND;VALUE=DATE:20270622
DESCRIPTION:
LOCATION:
SUMMARY:Report cards issued
END:VEVENT
BEGIN:VEVENT
DTSTAMP:20260425T105832Z
UID:61bfb909-1002-4f11-8fd4-a56ac8776eba
DTSTART;VALUE=DATE:20270621
DTEND;VALUE=DATE:20270622
DESCRIPTION:
LOCATION:
SUMMARY:Single Session
END:VEVENT
END:VCALENDAR
