BEGIN:VCALENDAR
VERSION:2.0
PRODID:icalendar-ruby
CALSCALE:GREGORIAN
BEGIN:VTIMEZONE
TZID:America/New_York
BEGIN:DAYLIGHT
DTSTART:20260308T030000
TZOFFSETFROM:-0500
TZOFFSETTO:-0400
RRULE:FREQ=YEARLY;BYDAY=2SU;BYMONTH=3
TZNAME:EDT
END:DAYLIGHT
BEGIN:STANDARD
DTSTART:20261101T010000
TZOFFSETFROM:-0400
TZOFFSETTO:-0500
RRULE:FREQ=YEARLY;BYDAY=1SU;BYMONTH=11
TZNAME:EST
END:STANDARD
END:VTIMEZONE
BEGIN:VEVENT
DTSTAMP:20260419T122342Z
UID:2252dd1d-a1e5-43d2-adf0-89c7f5026502
DTSTART:20260422T153000
DTEND:20260422T163000
DESCRIPTION:
LOCATION:
SUMMARY:SIT Meeting
END:VEVENT
BEGIN:VEVENT
DTSTAMP:20260419T122342Z
UID:62742ceb-d50c-4989-8b55-05a24b8d62d7
DTSTART:20260424T080000
DTEND:20260424T090000
DESCRIPTION:
LOCATION:
SUMMARY:Field Day
END:VEVENT
BEGIN:VEVENT
DTSTAMP:20260419T122342Z
UID:ee533406-cc56-4377-a463-65be2357931e
DTSTART;VALUE=DATE:20260425
DTEND;VALUE=DATE:20260426
DESCRIPTION:
LOCATION:
SUMMARY:PTO Yard Sale Fundraiser
END:VEVENT
BEGIN:VEVENT
DTSTAMP:20260419T122342Z
UID:d4a8e450-ea9d-480b-befd-eed0d5a4c3c5
DTSTART:20260501T080000
DTEND:20260501T090000
DESCRIPTION:
LOCATION:
SUMMARY:Field Day Make Up Day
END:VEVENT
BEGIN:VEVENT
DTSTAMP:20260419T122342Z
UID:3610434e-3db5-4faf-a8d6-85d8f73e2a97
DTSTART:20260505T080000
DTEND:20260505T090000
DESCRIPTION:
LOCATION:
SUMMARY:Bingo Transition Night
END:VEVENT
BEGIN:VEVENT
DTSTAMP:20260419T122342Z
UID:33d798c1-9adf-42c7-a7f5-9f6e4dd5e996
DTSTART:20260508T080000
DTEND:20260508T090000
DESCRIPTION:
LOCATION:
SUMMARY:Reading EOG
END:VEVENT
BEGIN:VEVENT
DTSTAMP:20260419T122342Z
UID:98bb2b28-8bfb-48d5-a2f6-acb619d7a0fd
DTSTART:20260512T080000
DTEND:20260512T090000
DESCRIPTION:
LOCATION:
SUMMARY:Math EOG
END:VEVENT
BEGIN:VEVENT
DTSTAMP:20260419T122342Z
UID:c36abd0c-1a0c-4175-a442-5e667ddc054c
DTSTART:20260513T153000
DTEND:20260513T163000
DESCRIPTION:
LOCATION:
SUMMARY:SIT Meeting
END:VEVENT
BEGIN:VEVENT
DTSTAMP:20260419T122342Z
UID:5edc14d5-90a7-4528-ba4d-68057904f56d
DTSTART:20260514T080000
DTEND:20260514T090000
DESCRIPTION:
LOCATION:
SUMMARY:Science EOG
END:VEVENT
BEGIN:VEVENT
DTSTAMP:20260419T122342Z
UID:8d5ae947-85e5-45f6-a739-148b15e1ce7e
DTSTART:20260521T080000
DTEND:20260521T090000
DESCRIPTION:
LOCATION:
SUMMARY:Last Day of School Early Release
END:VEVENT
END:VCALENDAR
