BEGIN:VCALENDAR
VERSION:2.0
PRODID:icalendar-ruby
CALSCALE:GREGORIAN
BEGIN:VTIMEZONE
TZID:America/Denver
BEGIN:DAYLIGHT
DTSTART:20260308T030000
TZOFFSETFROM:-0700
TZOFFSETTO:-0600
RRULE:FREQ=YEARLY;BYDAY=2SU;BYMONTH=3
TZNAME:MDT
END:DAYLIGHT
BEGIN:STANDARD
DTSTART:20261101T010000
TZOFFSETFROM:-0600
TZOFFSETTO:-0700
RRULE:FREQ=YEARLY;BYDAY=1SU;BYMONTH=11
TZNAME:MST
END:STANDARD
END:VTIMEZONE
BEGIN:VEVENT
DTSTAMP:20260423T094546Z
UID:5f7fc870-f0f1-4fab-9cc6-bf557f7446bc
DTSTART;VALUE=DATE:20260426
DTEND;VALUE=DATE:20260427
DESCRIPTION:
LOCATION:Billings\, MT\, USA
SUMMARY:Special Olympics Area Games
END:VEVENT
BEGIN:VEVENT
DTSTAMP:20260423T094546Z
UID:19a6410a-35e9-409c-a6b2-2367901b690f
DTSTART:20260428T090000
DTEND:20260428T100000
DESCRIPTION:
LOCATION:
SUMMARY:HS Golf @ Lake Hills
END:VEVENT
BEGIN:VEVENT
DTSTAMP:20260423T094546Z
UID:03247bdb-4fd7-43b4-8dc4-44ec7d2f15fc
DTSTART:20260428T100000
DTEND:20260428T110000
DESCRIPTION:
LOCATION:
SUMMARY:JV Golf @ Harlowton
END:VEVENT
BEGIN:VEVENT
DTSTAMP:20260423T094546Z
UID:bfd732de-acfd-4e09-8e7c-154c5f0aaea8
DTSTART:20260429T090000
DTEND:20260429T100000
DESCRIPTION:
LOCATION:
SUMMARY:HS Golf @ Roundup
END:VEVENT
BEGIN:VEVENT
DTSTAMP:20260423T094546Z
UID:8c520e25-4fbd-496c-8b10-778aedd85b3b
DTSTART:20260429T090000
DTEND:20260429T100000
DESCRIPTION:
LOCATION:
SUMMARY:JH Track @ Absarokee
END:VEVENT
BEGIN:VEVENT
DTSTAMP:20260423T094546Z
UID:1ff3219a-9d83-47b9-8c47-dcb6776f7028
DTSTART:20260501T090000
DTEND:20260501T100000
DESCRIPTION:
LOCATION:
SUMMARY:JH Track @ Laurel
END:VEVENT
BEGIN:VEVENT
DTSTAMP:20260423T094546Z
UID:2b1037d6-f7b7-43d3-810a-7da8699a9e2b
DTSTART:20260501T100000
DTEND:20260501T110000
DESCRIPTION:
LOCATION:
SUMMARY:Golf @ Harlowton
END:VEVENT
BEGIN:VEVENT
DTSTAMP:20260423T094546Z
UID:0dda3f2f-6ba8-45cd-b654-d8bbb6da2da9
DTSTART:20260501T180000
DTEND:20260501T190000
DESCRIPTION:
LOCATION:
SUMMARY:FFA Banquet
END:VEVENT
BEGIN:VEVENT
DTSTAMP:20260423T094546Z
UID:d4393ddd-9f97-4de6-a618-0aa37bf14b1f
DTSTART:20260502T100000
DTEND:20260502T110000
DESCRIPTION:
LOCATION:
SUMMARY:HS Track @ Laurel
END:VEVENT
BEGIN:VEVENT
DTSTAMP:20260423T094546Z
UID:d426ec02-a3c0-46d3-9436-6ef8a09c7fa8
DTSTART:20260506T100000
DTEND:20260506T110000
DESCRIPTION:
LOCATION:
SUMMARY:HS Track @ Laurel
END:VEVENT
BEGIN:VEVENT
DTSTAMP:20260423T094546Z
UID:53ec0797-d664-40e0-aa6a-b5e6983c1f5b
DTSTART:20260506T100000
DTEND:20260506T110000
DESCRIPTION:
LOCATION:
SUMMARY:JH Track @ Laurel 
END:VEVENT
BEGIN:VEVENT
DTSTAMP:20260423T094546Z
UID:f65d60f7-c689-4c87-8693-8039d2cd3e2c
DTSTART;VALUE=DATE:20260507
DTEND;VALUE=DATE:20260508
DESCRIPTION:
LOCATION:
SUMMARY:Special Olympics Torch Run
END:VEVENT
BEGIN:VEVENT
DTSTAMP:20260423T094546Z
UID:68a45369-ae28-4489-893d-4e74b18ede56
DTSTART:20260509T100000
DTEND:20260509T110000
DESCRIPTION:
LOCATION:
SUMMARY:HS Track @ Laurel
END:VEVENT
BEGIN:VEVENT
DTSTAMP:20260423T094546Z
UID:d89f10e5-c989-4a09-be36-1b87bf64a5b7
DTSTART;VALUE=DATE:20260511
DTEND;VALUE=DATE:20260512
DESCRIPTION:
LOCATION:
SUMMARY:Divisional Golf @ Sidney
END:VEVENT
BEGIN:VEVENT
DTSTAMP:20260423T094546Z
UID:803f943e-79eb-4334-8083-dbe3a41e7c6a
DTSTART;VALUE=DATE:20260513
DTEND;VALUE=DATE:20260516
DESCRIPTION:
LOCATION:
SUMMARY:Special Olympics State Summer Games
END:VEVENT
BEGIN:VEVENT
DTSTAMP:20260423T094546Z
UID:2005b174-f0a7-4991-8e34-83ff0873f2c1
DTSTART:20260514T113000
DTEND:20260514T153000
DESCRIPTION:
LOCATION:2100 Shiloh Rd\, Billings\, MT 59106\, USA
SUMMARY:K & 1st Grades Field Trip to the Zoo
END:VEVENT
BEGIN:VEVENT
DTSTAMP:20260423T094546Z
UID:6dbfb14a-cba3-4a10-ba66-e8d44401b4ba
DTSTART;VALUE=DATE:20260515
DTEND;VALUE=DATE:20260516
DESCRIPTION:
LOCATION:Laurel\, MT 59044\, USA
SUMMARY:6C District Track Meet - JH/HS
END:VEVENT
BEGIN:VEVENT
DTSTAMP:20260423T094546Z
UID:45f09a67-a1f8-4dce-9f5b-985604e71580
DTSTART:20260517T130000
DTEND:20260517T140000
DESCRIPTION:
LOCATION:
SUMMARY:Graduation
END:VEVENT
BEGIN:VEVENT
DTSTAMP:20260423T094546Z
UID:f564b273-b6e4-4390-8c9a-517d888b8014
DTSTART;VALUE=DATE:20260518
DTEND;VALUE=DATE:20260520
DESCRIPTION:
LOCATION:
SUMMARY:State Golf @ Shelby
END:VEVENT
BEGIN:VEVENT
DTSTAMP:20260423T094546Z
UID:ba9cd21f-15f9-4d76-9f5e-7906764840ad
DTSTART:20260518T080000
DTEND:20260518T154500
DESCRIPTION:
LOCATION:600 W Kagy Blvd\, Bozeman\, MT 59717\, USA
SUMMARY:6th Grade Field Trip Museum of the Rockies 
END:VEVENT
BEGIN:VEVENT
DTSTAMP:20260423T094546Z
UID:ede8fadc-d676-442a-835d-23dc11476649
DTSTART:20260519T170000
DTEND:20260519T180000
DESCRIPTION:
LOCATION:Park City School Cafeteria
SUMMARY:EEK Spring Program
END:VEVENT
BEGIN:VEVENT
DTSTAMP:20260423T094546Z
UID:32ddffc1-3e1a-4bdf-8cb5-c8ff453385e0
DTSTART:20260520T163000
DTEND:20260520T173000
DESCRIPTION:
LOCATION:
SUMMARY:8th Grade Promotion
END:VEVENT
BEGIN:VEVENT
DTSTAMP:20260423T094546Z
UID:1e0ad6c7-b578-41e6-a387-fcc43ca84e63
DTSTART:20260520T180000
DTEND:20260520T190000
DESCRIPTION:
LOCATION:Park City School Cafeteria
SUMMARY:Kindergarten Promotion 
END:VEVENT
BEGIN:VEVENT
DTSTAMP:20260423T094546Z
UID:33fe5b63-1fae-49dc-a15b-d67981c1a4ed
DTSTART;VALUE=DATE:20260521
DTEND;VALUE=DATE:20260522
DESCRIPTION:
LOCATION:
SUMMARY:Last Day of School - Early Release - 1:00
END:VEVENT
BEGIN:VEVENT
DTSTAMP:20260423T094546Z
UID:4ba1992e-8626-468a-8f27-86bad8770679
DTSTART;VALUE=DATE:20260521
DTEND;VALUE=DATE:20260522
DESCRIPTION:
LOCATION:Laurel\, MT 59044\, USA
SUMMARY:Southern C Divisional Track Meet
END:VEVENT
BEGIN:VEVENT
DTSTAMP:20260423T094546Z
UID:3ac9c411-d000-4056-9739-2145e329e18d
DTSTART;VALUE=DATE:20260529
DTEND;VALUE=DATE:20260531
DESCRIPTION:
LOCATION:Laurel\, MT 59044\, USA
SUMMARY:State C Track Meet 
END:VEVENT
END:VCALENDAR
