BEGIN:VCALENDAR
VERSION:2.0
PRODID:icalendar-ruby
CALSCALE:GREGORIAN
BEGIN:VTIMEZONE
TZID:America/New_York
BEGIN:DAYLIGHT
DTSTART:20260308T030000
TZOFFSETFROM:-0500
TZOFFSETTO:-0400
RRULE:FREQ=YEARLY;BYDAY=2SU;BYMONTH=3
TZNAME:EDT
END:DAYLIGHT
BEGIN:STANDARD
DTSTART:20261101T010000
TZOFFSETFROM:-0400
TZOFFSETTO:-0500
RRULE:FREQ=YEARLY;BYDAY=1SU;BYMONTH=11
TZNAME:EST
END:STANDARD
END:VTIMEZONE
BEGIN:VEVENT
DTSTAMP:20260419T125152Z
UID:5e82fbb9-6215-4ea3-9a85-a68d37297fe0
DTSTART;VALUE=DATE:20260420
DTEND;VALUE=DATE:20260425
DESCRIPTION:
LOCATION:
SUMMARY:Spring Break
END:VEVENT
BEGIN:VEVENT
DTSTAMP:20260419T125152Z
UID:816673f4-af5b-4dea-8c9e-15d2447d0f72
DTSTART;VALUE=DATE:20260428
DTEND;VALUE=DATE:20260429
DESCRIPTION:
LOCATION:
SUMMARY:Special Olympics @ Hanlon Field MHS
END:VEVENT
BEGIN:VEVENT
DTSTAMP:20260419T125152Z
UID:1608af13-51cd-42eb-99f2-adc580c5acda
DTSTART:20260428T080000
DTEND:20260428T130000
DESCRIPTION:
LOCATION:
SUMMARY:Special Olympics (@MHS)
END:VEVENT
BEGIN:VEVENT
DTSTAMP:20260419T125152Z
UID:028f6a5f-25f1-4f8f-8a0b-cb48b392a149
DTSTART:20260429T180000
DTEND:20260429T190000
DESCRIPTION:
LOCATION:
SUMMARY:ITS induction
END:VEVENT
BEGIN:VEVENT
DTSTAMP:20260419T125152Z
UID:7fd672e5-fb77-4175-b976-504d7c25a528
DTSTART:20260504T190000
DTEND:20260504T200000
DESCRIPTION:Presentation Room
LOCATION:45 Holliston St\, Medway\, MA 02053\, USA
SUMMARY:SEPAC Meeting
END:VEVENT
BEGIN:VEVENT
DTSTAMP:20260419T125152Z
UID:222553fd-c5c3-4cc0-8b0d-7a7264521f72
DTSTART:20260506T180000
DTEND:20260506T210000
DESCRIPTION:
LOCATION:
SUMMARY:Art Walk and Pops
END:VEVENT
BEGIN:VEVENT
DTSTAMP:20260419T125152Z
UID:40d24332-8637-48f2-8f18-1f7225ca2527
DTSTART:20260507T180000
DTEND:20260507T193000
DESCRIPTION:
LOCATION:
SUMMARY:School Committee Meeting 
END:VEVENT
BEGIN:VEVENT
DTSTAMP:20260419T125152Z
UID:e6d52ed8-89e5-4c86-a31d-ee828eda1c95
DTSTART:20260512T190000
DTEND:20260512T200000
DESCRIPTION:
LOCATION:Virtual
SUMMARY:MFPA Meeting
END:VEVENT
BEGIN:VEVENT
DTSTAMP:20260419T125152Z
UID:38a6fc80-27c0-4769-ade3-c5d9bdda8ad8
DTSTART:20260513T190000
DTEND:20260513T210000
DESCRIPTION:
LOCATION:
SUMMARY:Honors Recital
END:VEVENT
BEGIN:VEVENT
DTSTAMP:20260419T125152Z
UID:73f100af-a232-499a-842d-0f764e9ac33e
DTSTART;VALUE=DATE:20260515
DTEND;VALUE=DATE:20260516
DESCRIPTION:
LOCATION:
SUMMARY:Early Release Day K-12 
END:VEVENT
BEGIN:VEVENT
DTSTAMP:20260419T125152Z
UID:1e0880c1-91d9-4131-a524-6fd0807cd3e1
DTSTART:20260515T090000
DTEND:20260515T110000
DESCRIPTION:
LOCATION:
SUMMARY:Heritage Day-grade 2 event
END:VEVENT
BEGIN:VEVENT
DTSTAMP:20260419T125152Z
UID:c27083cd-4376-4422-8544-41a5aa27878e
DTSTART:20260515T180000
DTEND:20260515T220000
DESCRIPTION:
LOCATION:
SUMMARY:MHS Prom/ Pleasant Valley Country Club
END:VEVENT
BEGIN:VEVENT
DTSTAMP:20260419T125152Z
UID:30456e7c-606b-4bb1-a0d9-ea3450a92d84
DTSTART:20260521T180000
DTEND:20260521T193000
DESCRIPTION:
LOCATION:
SUMMARY:School Committee Meeting 
END:VEVENT
BEGIN:VEVENT
DTSTAMP:20260419T125152Z
UID:026573b1-d597-4d3e-b87b-cfafdf08ed89
DTSTART;VALUE=DATE:20260525
DTEND;VALUE=DATE:20260526
DESCRIPTION:
LOCATION:
SUMMARY:No School: Memorial Day
END:VEVENT
BEGIN:VEVENT
DTSTAMP:20260419T125152Z
UID:e28a32dc-6bbc-4f72-abde-d78c45d62854
DTSTART:20260528T170000
DTEND:20260528T180000
DESCRIPTION:
LOCATION:Boston
SUMMARY:Senior BoatCruise
END:VEVENT
BEGIN:VEVENT
DTSTAMP:20260419T125152Z
UID:0b3c08e9-4098-4e55-af1a-36ff48e0a06e
DTSTART;VALUE=DATE:20260601
DTEND;VALUE=DATE:20260602
DESCRIPTION:
LOCATION:Hanlon Field
SUMMARY:Senior Field Day
END:VEVENT
BEGIN:VEVENT
DTSTAMP:20260419T125152Z
UID:50ca495a-0d7d-40e9-8f6d-e7e7fa298e7f
DTSTART:20260602T113000
DTEND:20260602T133000
DESCRIPTION:
LOCATION:Auditorium
SUMMARY:Senior Superlatives/ FLEX Block 
END:VEVENT
BEGIN:VEVENT
DTSTAMP:20260419T125152Z
UID:0bd62593-4c79-4190-ae89-7a43d997bd2b
DTSTART:20260602T180000
DTEND:20260602T190000
DESCRIPTION:
LOCATION:
SUMMARY:Seniors Scholarship and Awards Night
END:VEVENT
BEGIN:VEVENT
DTSTAMP:20260419T125152Z
UID:a48ede39-4008-4668-b4bf-d8e8e8c32318
DTSTART:20260604T081500
DTEND:20260604T084500
DESCRIPTION:
LOCATION:MMS Parking Lot
SUMMARY:Senior Graduation Parade
END:VEVENT
BEGIN:VEVENT
DTSTAMP:20260419T125152Z
UID:f9f51d57-e791-4f4c-b214-4cbe6e0106ca
DTSTART:20260604T120000
DTEND:20260604T130000
DESCRIPTION:
LOCATION:
SUMMARY:Senior BBQ
END:VEVENT
BEGIN:VEVENT
DTSTAMP:20260419T125152Z
UID:135d445a-6d1f-43f4-850e-ce7b03e2843e
DTSTART:20260604T180000
DTEND:20260604T193000
DESCRIPTION:
LOCATION:
SUMMARY:School Committee Meeting 
END:VEVENT
BEGIN:VEVENT
DTSTAMP:20260419T125152Z
UID:7dee4bde-f962-4a51-a80f-92ea40339ee3
DTSTART:20260605T110000
DTEND:20260605T120000
DESCRIPTION:
LOCATION:Auditorium
SUMMARY:Senior Class Day
END:VEVENT
BEGIN:VEVENT
DTSTAMP:20260419T125152Z
UID:d0713446-efce-4f7a-a54b-f707d62a7861
DTSTART:20260606T100000
DTEND:20260606T120000
DESCRIPTION:
LOCATION:Hanlon Field\, Summer St\, Medway\, MA 02053\, USA
SUMMARY:Class of 2026 Graduation
END:VEVENT
BEGIN:VEVENT
DTSTAMP:20260419T125152Z
UID:0b0ab7f3-2cdc-46de-862f-378158565223
DTSTART:20260608T190000
DTEND:20260608T200000
DESCRIPTION:Presentation Room
LOCATION:45 Holliston St\, Medway\, MA 02053\, USA
SUMMARY:SEPAC Meeting
END:VEVENT
BEGIN:VEVENT
DTSTAMP:20260419T125152Z
UID:e13224d8-0f05-496c-9cad-1053d7c06741
DTSTART:20260609T183000
DTEND:20260609T193000
DESCRIPTION:
LOCATION:Auditorium
SUMMARY:Junior Book Awards and Scholastics
END:VEVENT
BEGIN:VEVENT
DTSTAMP:20260419T125152Z
UID:3e399514-33f7-4ee0-8d29-1ed2f8da9b2f
DTSTART:20260611T180000
DTEND:20260611T193000
DESCRIPTION:
LOCATION:
SUMMARY:School Committee Meeting 
END:VEVENT
BEGIN:VEVENT
DTSTAMP:20260419T125152Z
UID:05ff8bcd-1383-48cf-8c4f-b5ca1c510cfd
DTSTART;VALUE=DATE:20260623
DTEND;VALUE=DATE:20260624
DESCRIPTION:
LOCATION:
SUMMARY:Half Day - PK-11
END:VEVENT
END:VCALENDAR
