BEGIN:VCALENDAR
VERSION:2.0
PRODID:icalendar-ruby
CALSCALE:GREGORIAN
BEGIN:VTIMEZONE
TZID:America/Denver
BEGIN:DAYLIGHT
DTSTART:20260308T030000
TZOFFSETFROM:-0700
TZOFFSETTO:-0600
RRULE:FREQ=YEARLY;BYDAY=2SU;BYMONTH=3
TZNAME:MDT
END:DAYLIGHT
BEGIN:STANDARD
DTSTART:20261101T010000
TZOFFSETFROM:-0600
TZOFFSETTO:-0700
RRULE:FREQ=YEARLY;BYDAY=1SU;BYMONTH=11
TZNAME:MST
END:STANDARD
END:VTIMEZONE
BEGIN:VEVENT
DTSTAMP:20260420T145826Z
UID:ac9fc5df-f9c4-4fb0-8b70-56b267290d31
DTSTART;VALUE=DATE:20260420
DTEND;VALUE=DATE:20260424
DESCRIPTION:
LOCATION:
SUMMARY:Make-A-Wish Week
END:VEVENT
BEGIN:VEVENT
DTSTAMP:20260420T145826Z
UID:ee44d949-4a8d-49a1-97da-35fb0ea8948b
DTSTART;VALUE=DATE:20260422
DTEND;VALUE=DATE:20260423
DESCRIPTION:Event: District Music Festival\, Location: Gillette\, Start Tim
 e: All Day
LOCATION:Gillette
SUMMARY:BAND/CHOIR - District Music Festival @ Gillette
END:VEVENT
BEGIN:VEVENT
DTSTAMP:20260420T145826Z
UID:2b127177-2f54-4773-9626-e48cefc42e8e
DTSTART;VALUE=DATE:20260423
DTEND;VALUE=DATE:20260424
DESCRIPTION:Event: District Music Festival\, Location: Gillette\, Start Tim
 e: All Day
LOCATION:Gillette
SUMMARY:BAND/CHOIR - District Music Festival @ Gillette
END:VEVENT
BEGIN:VEVENT
DTSTAMP:20260420T145826Z
UID:f967b253-cc5b-4321-aa07-b369745048e7
DTSTART:20260423T160000
DTEND:20260423T180000
DESCRIPTION:Event: Softball @ Thunder Basin\, Location: Gillette\, WY Time
 : 4PM - 6PM
LOCATION:Gillette\, WY\, USA
SUMMARY:Softball @ Thunder Basin
END:VEVENT
BEGIN:VEVENT
DTSTAMP:20260420T145826Z
UID:dc6204d3-7865-4a1c-aaae-e4a8d8ee3502
DTSTART:20260423T183000
DTEND:20260423T203000
DESCRIPTION:
LOCATION:
SUMMARY:Spring FFA Fundraiser
END:VEVENT
BEGIN:VEVENT
DTSTAMP:20260420T145826Z
UID:1640aa8b-9980-461e-8435-f5d7e3ee7a3a
DTSTART;VALUE=DATE:20260424
DTEND;VALUE=DATE:20260425
DESCRIPTION:Event: Tournament\, Location: Sundance\, Start Time: TBA Host: 
 Sundance
LOCATION:Sundance
SUMMARY:GLF - Tournament @ Sundance
END:VEVENT
BEGIN:VEVENT
DTSTAMP:20260420T145826Z
UID:ecabb899-5250-4f8e-a523-c419fa17e4d3
DTSTART:20260424T160000
DTEND:20260424T180000
DESCRIPTION:Event: Boys Soccer @ Laramie\, Location: Laramie\, WY\, Time: 
 4PM - 6PM
LOCATION:Laramie\, WY\, USA
SUMMARY:Boys Soccer @ Laramie
END:VEVENT
BEGIN:VEVENT
DTSTAMP:20260420T145826Z
UID:c8d5cc06-1a1e-4b85-86ff-c17d9b3588e8
DTSTART:20260424T160000
DTEND:20260424T180000
DESCRIPTION:Event: Girls Soccer vs Laramie\, Location: Sheridan Time: 4PM 
 - 6PM
LOCATION:Sheridan\, WY 82801\, USA
SUMMARY:Girls Soccer vs Laramie
END:VEVENT
BEGIN:VEVENT
DTSTAMP:20260420T145826Z
UID:4586755f-a87a-4ee4-8b85-c996ff37f0ae
DTSTART:20260424T160000
DTEND:20260424T180000
DESCRIPTION:Event: Softball vs Campbell County\, Location: Sheridan\, WY\,
  Time: 4PM - 6PM
LOCATION:Sheridan\, WY 82801\, USA
SUMMARY:Softball vs Campbell County
END:VEVENT
BEGIN:VEVENT
DTSTAMP:20260420T145826Z
UID:6e7dedd1-36fe-45c1-b7ee-eed4e6abbf29
DTSTART;VALUE=DATE:20260425
DTEND;VALUE=DATE:20260426
DESCRIPTION:Event: Tournament\, Location: Moorcroft\, Start Time: TBA
LOCATION:Moorcroft
SUMMARY:GLF - Tournament @ Moorcroft
END:VEVENT
BEGIN:VEVENT
DTSTAMP:20260420T145826Z
UID:b8edb9ca-1984-4694-b7e6-4716801bd333
DTSTART;VALUE=DATE:20260425
DTEND;VALUE=DATE:20260426
DESCRIPTION:Event: Dan Hansen Invite Location: Sheridan Time: TBA
LOCATION:Sheridan
SUMMARY:Track and Field - Dan Hansen Invite @ Sheridan
END:VEVENT
BEGIN:VEVENT
DTSTAMP:20260420T145826Z
UID:556acd3e-a6f2-468e-8324-98a81c8e8861
DTSTART:20260425T100000
DTEND:20260425T120000
DESCRIPTION:Event: Boys Soccer @ South\, Location: Cheyenne\, WY\, Time: 1
 0AM - 12PM
LOCATION:Cheyenne\, WY\, USA
SUMMARY:Boys Soccer @ South
END:VEVENT
BEGIN:VEVENT
DTSTAMP:20260420T145826Z
UID:9f6e5340-0018-4d74-ba40-1f3761bad3ca
DTSTART:20260425T100000
DTEND:20260425T120000
DESCRIPTION:Event: Girls Soccer vs South (Varsity Only)\, Location: Big Ho
 rn\, Time: 10PM - 12PM
LOCATION:Big Horn\, WY\, USA
SUMMARY:Girls Soccer vs South (Varsity Only)
END:VEVENT
BEGIN:VEVENT
DTSTAMP:20260420T145826Z
UID:defa5324-f01d-47e0-beaf-ddda382cc217
DTSTART:20260425T120000
DTEND:20260425T140000
DESCRIPTION:Event: Girls Soccer vs Buffalo (JV)\, Location: Big Horn\, WY\
 , Time: 12PM - 2PM
LOCATION:Big Horn\, WY\, USA
SUMMARY:Girls Soccer vs Buffalo (JV)
END:VEVENT
BEGIN:VEVENT
DTSTAMP:20260420T145826Z
UID:6c9f3011-d72a-4236-98f3-8ef0156b0d18
DTSTART;VALUE=DATE:20260427
DTEND;VALUE=DATE:20260428
DESCRIPTION:Event: Tournament\, Location: Devil's Tower\, Start Time: TBA\,
  Host: Hulett
LOCATION:Devils Tower\, WY 82714\, USA
SUMMARY:GLF - Tournament @ Devil's Tower
END:VEVENT
BEGIN:VEVENT
DTSTAMP:20260420T145826Z
UID:4b721a5b-ebf7-4b1c-a619-f57fa924c1ea
DTSTART;VALUE=DATE:20260427
DTEND;VALUE=DATE:20260428
DESCRIPTION:
LOCATION:
SUMMARY:WY-TOPP (ELA) 9th - 10th
END:VEVENT
BEGIN:VEVENT
DTSTAMP:20260420T145826Z
UID:279e7400-14da-46e3-be1d-404e83d03757
DTSTART:20260428T103000
DTEND:20260428T133000
DESCRIPTION:
LOCATION:
SUMMARY:Spanish I - Restaurante
END:VEVENT
BEGIN:VEVENT
DTSTAMP:20260420T145826Z
UID:02ae67f7-3093-4369-a0eb-95c82b055088
DTSTART:20260428T120000
DTEND:20260428T160000
DESCRIPTION:Event: Softball @ Cody\, Location: Cody\, WY\, Time: JV -12PM\
 , V -2PM\,  V -4PM
LOCATION:Cody\, Wy
SUMMARY:Softball @ Cody 
END:VEVENT
BEGIN:VEVENT
DTSTAMP:20260420T145826Z
UID:16880739-df90-48f2-9ae2-3a5569bde1c7
DTSTART;VALUE=DATE:20260429
DTEND;VALUE=DATE:20260502
DESCRIPTION:
LOCATION:
SUMMARY:State Art in Casper
END:VEVENT
BEGIN:VEVENT
DTSTAMP:20260420T145826Z
UID:60114004-3a74-4972-a57f-cdaeacbfe596
DTSTART;VALUE=DATE:20260429
DTEND;VALUE=DATE:20260430
DESCRIPTION:
LOCATION:
SUMMARY:WY-TOPP (Math) 9th - 10th
END:VEVENT
BEGIN:VEVENT
DTSTAMP:20260420T145826Z
UID:9b07c07d-564e-452a-ba6f-6d869faa6a56
DTSTART;VALUE=DATE:20260501
DTEND;VALUE=DATE:20260502
DESCRIPTION:Event: Tournament\, Location: Lusk\, Start Time: TBA\, Host: Lu
 sk
LOCATION:Lusk
SUMMARY:GLF - Tournament @ Lusk
END:VEVENT
BEGIN:VEVENT
DTSTAMP:20260420T145826Z
UID:a1774bb4-d812-40e9-a1f8-7626102f3890
DTSTART;VALUE=DATE:20260501
DTEND;VALUE=DATE:20260503
DESCRIPTION:Event: Softball @ East Tournament Gillette\, Location: Gillett
 e\, WY\, Time: All Day
LOCATION:Gillette\, WY\, USA
SUMMARY:Softball @ East Tournament Gillette
END:VEVENT
BEGIN:VEVENT
DTSTAMP:20260420T145826Z
UID:fb27408f-4007-42ed-86d7-9165aa2939d5
DTSTART;VALUE=DATE:20260501
DTEND;VALUE=DATE:20260502
DESCRIPTION:Event: Track and Field - Track Classic (Top Wyoming times only)
  Location: Casper\, Wy
LOCATION:Casper\, WY\, USA
SUMMARY:Track and Field - Track Classic (Top Wy times only)
END:VEVENT
BEGIN:VEVENT
DTSTAMP:20260420T145826Z
UID:5dff00f7-4694-4381-a916-da2b300210a1
DTSTART:20260501T160000
DTEND:20260501T180000
DESCRIPTION:Event: Boys Soccer VS. Central\, Location: Sheridan\, WY\, Tim
 e: 4PM - 6PM
LOCATION:Sheridan\, WY 82801\, USA
SUMMARY:Boys Soccer VS. Central
END:VEVENT
BEGIN:VEVENT
DTSTAMP:20260420T145826Z
UID:82735d4b-eb11-4507-93f3-3c68b3e48ea0
DTSTART:20260501T160000
DTEND:20260501T180000
DESCRIPTION:Event: Girls Soccer @ Central\, Location: Cheyenne\, WY\, Time
 : 4PM - 6PM
LOCATION:Cheyenne\, WY\, USA
SUMMARY:Girls Soccer @ Central
END:VEVENT
BEGIN:VEVENT
DTSTAMP:20260420T145826Z
UID:f9cc09af-3850-4bd1-af1b-adb9b8f0ab35
DTSTART;VALUE=DATE:20260502
DTEND;VALUE=DATE:20260503
DESCRIPTION:Event: Tournament\, Location: Wright\, Start Time: TBA\, Host: 
 Wright
LOCATION:Wright
SUMMARY:GLF - Tournament @ Wright
END:VEVENT
BEGIN:VEVENT
DTSTAMP:20260420T145826Z
UID:a7beac8a-ae28-4567-9b82-c4b1fb6f38d0
DTSTART;VALUE=DATE:20260502
DTEND;VALUE=DATE:20260503
DESCRIPTION:Event: Track and Field - Lovell Invite\, Location: Lovell\, Wy
LOCATION:Lovell\, WY 82431\, USA
SUMMARY:Track and Field - Lovell Invite
END:VEVENT
BEGIN:VEVENT
DTSTAMP:20260420T145826Z
UID:7bc40328-1403-4ba1-8c14-f2e19b55e180
DTSTART:20260502T100000
DTEND:20260502T120000
DESCRIPTION:Event: Boys Soccer VS. East Location: Sheridan\, WY\, Time: 10
 AM - 12PM
LOCATION:Sheridan\, WY 82801\, USA
SUMMARY:Boys Soccer VS. East
END:VEVENT
BEGIN:VEVENT
DTSTAMP:20260420T145826Z
UID:f915efb9-ab7b-48e1-8509-156b1e722d9b
DTSTART:20260502T100000
DTEND:20260502T140000
DESCRIPTION:Event: Girls Soccer @ East\, Location: Cheyenne\, WY Time: 10P
 M - 12PM
LOCATION:Cheyenne\, WY\, USA
SUMMARY:Girls Soccer @ East
END:VEVENT
BEGIN:VEVENT
DTSTAMP:20260420T145826Z
UID:caaf0ee2-cc23-4a27-8b08-09d711c6bf0b
DTSTART;VALUE=DATE:20260504
DTEND;VALUE=DATE:20260505
DESCRIPTION:
LOCATION:
SUMMARY:WY-TOPP (Science / Writing) 9th - 10th
END:VEVENT
BEGIN:VEVENT
DTSTAMP:20260420T145826Z
UID:d2dfd4e2-bc37-4744-95ed-353e74932924
DTSTART:20260505T160000
DTEND:20260505T180000
DESCRIPTION:Event: Boys Soccer @ Campbell County\, Location: Gillette\, WY
 \, Time: 4PM - 6PM
LOCATION:Gillette\, WY\, USA
SUMMARY:Boys Soccer @ Campbell County
END:VEVENT
BEGIN:VEVENT
DTSTAMP:20260420T145826Z
UID:0e8b3f33-cad3-4c49-ad3a-0dae52e7ae74
DTSTART:20260505T160000
DTEND:20260505T180000
DESCRIPTION:Event: Girls Soccer vs Campbell County\, Location: Sheridan\, 
 Time: 4PM - 6PM
LOCATION:Sheridan\, WY 82801\, USA
SUMMARY:Girls Soccer vs Campbell County
END:VEVENT
BEGIN:VEVENT
DTSTAMP:20260420T145826Z
UID:7e2e1540-c78d-448c-9c80-bc7ab19cb33a
DTSTART:20260505T170000
DTEND:20260505T190000
DESCRIPTION:Event: Track-TR Dual Location: Big Horn Time: 5PM
LOCATION:Big Horn
SUMMARY:Track and Field -  Annual TR Dual @ Big Horn
END:VEVENT
BEGIN:VEVENT
DTSTAMP:20260420T145826Z
UID:ecc648ce-6657-4e93-97fd-e802da492bdf
DTSTART;VALUE=DATE:20260507
DTEND;VALUE=DATE:20260508
DESCRIPTION:Event: Denver Music Competition\, Location: Denver\, Start Time
 : All Day
LOCATION:Denver
SUMMARY:BAND/CHOIR - Denver Music Competition @ Denver
END:VEVENT
BEGIN:VEVENT
DTSTAMP:20260420T145826Z
UID:57819edb-3886-490e-8d47-2e037057b583
DTSTART;VALUE=DATE:20260507
DTEND;VALUE=DATE:20260508
DESCRIPTION:Event: GLF - Practice\, Location: Kemmerer\, Time:  TBA Host: 
 Kemmerer
LOCATION:Kemmerer\, WY 83101\, USA
SUMMARY:GLF - Practice @ Kemmerer
END:VEVENT
BEGIN:VEVENT
DTSTAMP:20260420T145826Z
UID:a2b4f75f-dba7-4073-adaf-efbdf658c54a
DTSTART:20260507T160000
DTEND:20260507T180000
DESCRIPTION:Event: Softball vs Worland Location: Sheridan\, WY\, Time: 4 -
  6 PM\, \nJV/Varsity Double Header
LOCATION:Sheridan\, WY 82801\, USA
SUMMARY:Softball vs Lander (JV) and Worland (Varsity) @ Sheridan
END:VEVENT
BEGIN:VEVENT
DTSTAMP:20260420T145826Z
UID:c7258454-6d33-4b5f-9d7f-2af3515e73d1
DTSTART;VALUE=DATE:20260508
DTEND;VALUE=DATE:20260509
DESCRIPTION:Event: Denver Music Competition\, Location: Denver\, Start Time
 : All Day
LOCATION:Denver
SUMMARY:BAND/CHOIR - Denver Music Competition @ Denver
END:VEVENT
BEGIN:VEVENT
DTSTAMP:20260420T145826Z
UID:1944f411-d028-4358-b68c-79736161d104
DTSTART;VALUE=DATE:20260508
DTEND;VALUE=DATE:20260509
DESCRIPTION:Event: Championships Tournament\, Location: Kemmerer\, Start Ti
 me: TBA
LOCATION:Kemmerer
SUMMARY:GLF - Tournament @ Kemmerer
END:VEVENT
BEGIN:VEVENT
DTSTAMP:20260420T145826Z
UID:7c525ba1-4936-422d-bfb6-14c194ec4dba
DTSTART;VALUE=DATE:20260508
DTEND;VALUE=DATE:20260509
DESCRIPTION:Event: Track - Camel Qualifier Location: Gillette Time: TBA
LOCATION:Gillette
SUMMARY:Track and Field - Camel Qualifier @ Gillette
END:VEVENT
BEGIN:VEVENT
DTSTAMP:20260420T145826Z
UID:a6d7cee0-9a11-4e7c-91e9-47e4928bda52
DTSTART:20260508T080000
DTEND:20260508T160000
DESCRIPTION:<p>Staff ONLY District PD Day and End of Year Celebration at To
 ngue River High School</p>
LOCATION:1150 Main St\, Dayton\, WY 82836\, USA
SUMMARY:STAFF PROFESSIONAL DEVELOPMENT DAY
END:VEVENT
BEGIN:VEVENT
DTSTAMP:20260420T145826Z
UID:9074f1a7-db56-4da6-bfc1-3bc3ce0df358
DTSTART:20260508T140000
DTEND:20260508T180000
DESCRIPTION:Event: Softball vs Jackson\, Location: Sheridan\, WY\, \nTime
 : JV -2PM\, V -4PM\, V -6PM
LOCATION:Sheridan\, WY 82801\, USA
SUMMARY:Softball vs Jackson 
END:VEVENT
BEGIN:VEVENT
DTSTAMP:20260420T145826Z
UID:3e12cd9a-4f48-45a6-9e69-2730117ac472
DTSTART:20260508T160000
DTEND:20260508T180000
DESCRIPTION:Event: Boys Soccer VS. Thunder Basin\, Location: Sheridan\, WY
 \, Time: 4PM - 6PM
LOCATION:Sheridan\, WY 82801\, USA
SUMMARY:Boys Soccer VS. Thunder Basin 
END:VEVENT
BEGIN:VEVENT
DTSTAMP:20260420T145826Z
UID:214430bc-03c1-4aa6-b3c7-f46beae6e870
DTSTART:20260508T160000
DTEND:20260508T180000
DESCRIPTION:Event: Girls Soccer @ Thunder Basin\, Location: Gillette\, Tim
 e: 4PM - 6PM
LOCATION:Gillette\, WY\, USA
SUMMARY:Girls Soccer @ Thunder Basin
END:VEVENT
BEGIN:VEVENT
DTSTAMP:20260420T145826Z
UID:7a1ef782-8dc5-4571-98b8-6c5d5624239f
DTSTART;VALUE=DATE:20260509
DTEND;VALUE=DATE:20260510
DESCRIPTION:Event: Denver Music Competition\, Location: Denver\, Start Time
 : All Day
LOCATION:Denver
SUMMARY:BAND/CHOIR - Denver Music Competition @ Denver
END:VEVENT
BEGIN:VEVENT
DTSTAMP:20260420T145826Z
UID:8df1e261-1562-4a05-a4c9-ee9bf73d70d3
DTSTART;VALUE=DATE:20260509
DTEND;VALUE=DATE:20260510
DESCRIPTION:Event: Championships Tournament\, Location: Kemmerer\, Start Ti
 me: TBA
LOCATION:Kemmerer
SUMMARY:GLF - Tournament @ Kemmerer
END:VEVENT
BEGIN:VEVENT
DTSTAMP:20260420T145826Z
UID:f0f70b9e-27a6-47f8-8900-34d625e82c5e
DTSTART:20260513T183000
DTEND:20260513T210000
DESCRIPTION:
LOCATION:
SUMMARY:Big Horn FFA Chapter Banquet
END:VEVENT
BEGIN:VEVENT
DTSTAMP:20260420T145826Z
UID:d6b6f948-ade1-4a7b-97a6-e0d3a796ff68
DTSTART;VALUE=DATE:20260514
DTEND;VALUE=DATE:20260517
DESCRIPTION:Event: Boys/Girls Soccer at Regionals\, Location: Cheyenne\, Ti
 me: All Day
LOCATION:Cheyenne\, WY\, USA
SUMMARY:Boys/Girls Soccer at Regionals
END:VEVENT
BEGIN:VEVENT
DTSTAMP:20260420T145826Z
UID:0228a424-b0c9-4e83-853c-4e2784eb2bb3
DTSTART;VALUE=DATE:20260515
DTEND;VALUE=DATE:20260516
DESCRIPTION:Event: Tournament\, Location: ?\, Start Time: TBA Host: ?
LOCATION:?
SUMMARY:Golf - Tournament @ ?
END:VEVENT
BEGIN:VEVENT
DTSTAMP:20260420T145826Z
UID:4b8e95e2-a74a-4e59-b405-9f44492c6798
DTSTART;VALUE=DATE:20260515
DTEND;VALUE=DATE:20260517
DESCRIPTION:Event: Softball Regionals\, Location: Gillette\, WY Time: All 
 Day
LOCATION:Gillette\, WY\, USA
SUMMARY:Softball Regionals @ Gillette
END:VEVENT
BEGIN:VEVENT
DTSTAMP:20260420T145826Z
UID:df368d63-f8f9-44cb-a9ee-e2031ca59b1f
DTSTART;VALUE=DATE:20260515
DTEND;VALUE=DATE:20260517
DESCRIPTION:Event: Track - Regionals Location: Torrington Time: TBA
LOCATION:Torrington
SUMMARY:Track and Field - Regionals @ Torrington
END:VEVENT
BEGIN:VEVENT
DTSTAMP:20260420T145826Z
UID:1fcc239d-2f20-4266-a9f6-bf967cd7917d
DTSTART:20260518T180000
DTEND:20260518T190000
DESCRIPTION:Event: High School Spring Concert\, Location: Big Horn\, Start 
 Time: 6:00 PM
LOCATION:Big Horn
SUMMARY:BAND/CHOIR - High School Spring Concert @ Big Horn
END:VEVENT
BEGIN:VEVENT
DTSTAMP:20260420T145826Z
UID:723f7822-5a1f-4f0a-b22a-918fe64b1ef1
DTSTART:20260519T180000
DTEND:20260519T190000
DESCRIPTION:Event: Middle School Spring Concert\, Location: Big Horn\, Star
 t Time: 6:00 PM
LOCATION:Big Horn
SUMMARY:BAND/CHOIR - Middle School Spring Concert @ Big Horn
END:VEVENT
BEGIN:VEVENT
DTSTAMP:20260420T145826Z
UID:73ea1afb-6d0f-446d-979c-e731e4b9c287
DTSTART;VALUE=DATE:20260521
DTEND;VALUE=DATE:20260524
DESCRIPTION:Event: Boys/Girls Soccer @ State\, Location: Gillette\, Time: A
 ll Day
LOCATION:Gillette\, WY\, USA
SUMMARY:Boys/Girls Soccer @ State
END:VEVENT
BEGIN:VEVENT
DTSTAMP:20260420T145826Z
UID:7280bf52-cb13-4bf0-ae4c-114762426819
DTSTART;VALUE=DATE:20260521
DTEND;VALUE=DATE:20260524
DESCRIPTION:Event: Softball State Location: Cheyenne\, WY\, Time: All Day
LOCATION:Cheyenne\, WY\, USA
SUMMARY:Softball State @ Cheyenne
END:VEVENT
BEGIN:VEVENT
DTSTAMP:20260420T145826Z
UID:8db7d8b3-2603-4455-a901-f9e67ade38b1
DTSTART;VALUE=DATE:20260521
DTEND;VALUE=DATE:20260524
DESCRIPTION:Event: WY State Track and Field Championships\,  Location: Cas
 per
LOCATION:Casper
SUMMARY:WY State Track and Field Championships @ Casper
END:VEVENT
BEGIN:VEVENT
DTSTAMP:20260420T145826Z
UID:1775cd94-6a81-437b-81d8-82f401df63c3
DTSTART;VALUE=DATE:20260525
DTEND;VALUE=DATE:20260529
DESCRIPTION:
LOCATION:
SUMMARY:Finals Week
END:VEVENT
BEGIN:VEVENT
DTSTAMP:20260420T145826Z
UID:65b3e6b3-629c-4afa-93d9-41209c8eaab6
DTSTART;VALUE=DATE:20260525
DTEND;VALUE=DATE:20260526
DESCRIPTION:
LOCATION:
SUMMARY:HOLIDAY - MEMORIAL DAY!
END:VEVENT
BEGIN:VEVENT
DTSTAMP:20260420T145826Z
UID:5991fb82-02d8-4185-8d65-8f11e6964342
DTSTART:20260529T133000
DTEND:20260529T160000
DESCRIPTION:
LOCATION:
SUMMARY:LAST DAY OF SCHOOL - 1:30 Out!
END:VEVENT
BEGIN:VEVENT
DTSTAMP:20260420T145826Z
UID:27b6bd39-8de5-4f0e-a484-db41f2b18d75
DTSTART:20260530T130000
DTEND:20260530T143000
DESCRIPTION:
LOCATION:
SUMMARY:GRADUATION!
END:VEVENT
BEGIN:VEVENT
DTSTAMP:20260420T145826Z
UID:94543568-c001-412d-bebc-5965624f6f49
DTSTART;VALUE=DATE:20260704
DTEND;VALUE=DATE:20260706
DESCRIPTION:
LOCATION:
SUMMARY:Holiday - 4th of July
END:VEVENT
BEGIN:VEVENT
DTSTAMP:20260420T145826Z
UID:91d23bd6-f601-430f-bdad-53b4760cd95d
DTSTART;VALUE=DATE:20270410
DTEND;VALUE=DATE:20270411
DESCRIPTION:
LOCATION:
SUMMARY:Prom 2027
END:VEVENT
BEGIN:VEVENT
DTSTAMP:20260420T145826Z
UID:a7b257f9-151c-4c5c-9f35-88dd187ee399
DTSTART;VALUE=DATE:20270520
DTEND;VALUE=DATE:20270523
DESCRIPTION:
LOCATION:
SUMMARY:WY State Track & Field Championships
END:VEVENT
BEGIN:VEVENT
DTSTAMP:20260420T145826Z
UID:51bc1e69-6990-4a4e-9dbe-5e4fceccb5bf
DTSTART:20270527T190000
DTEND:20270527T203000
DESCRIPTION:
LOCATION:
SUMMARY:Tongue River High School Graduation 
END:VEVENT
BEGIN:VEVENT
DTSTAMP:20260420T145826Z
UID:154b8880-81b5-4424-833c-5153e350a3e0
DTSTART:20270528T190000
DTEND:20270528T203000
DESCRIPTION:
LOCATION:
SUMMARY:Big Horn High School Graduation 
END:VEVENT
END:VCALENDAR
