BEGIN:VCALENDAR
VERSION:2.0
PRODID:icalendar-ruby
CALSCALE:GREGORIAN
BEGIN:VTIMEZONE
TZID:America/Denver
BEGIN:DAYLIGHT
DTSTART:20260308T030000
TZOFFSETFROM:-0700
TZOFFSETTO:-0600
RRULE:FREQ=YEARLY;BYDAY=2SU;BYMONTH=3
TZNAME:MDT
END:DAYLIGHT
BEGIN:STANDARD
DTSTART:20261101T010000
TZOFFSETFROM:-0600
TZOFFSETTO:-0700
RRULE:FREQ=YEARLY;BYDAY=1SU;BYMONTH=11
TZNAME:MST
END:STANDARD
END:VTIMEZONE
BEGIN:VEVENT
DTSTAMP:20260420T141434Z
UID:0f45d691-6e19-41a2-8820-634a9c073741
DTSTART;VALUE=DATE:20260422
DTEND;VALUE=DATE:20260424
DESCRIPTION:
LOCATION:
SUMMARY:NED Music Perform Assessments
END:VEVENT
BEGIN:VEVENT
DTSTAMP:20260420T141434Z
UID:73016862-7135-42f7-b393-24f3af45b1e1
DTSTART;VALUE=DATE:20260424
DTEND;VALUE=DATE:20260425
DESCRIPTION:
LOCATION:
SUMMARY:Golf @ Sundance
END:VEVENT
BEGIN:VEVENT
DTSTAMP:20260420T141434Z
UID:7fbbb773-faf8-44fc-8af8-e84deea855eb
DTSTART;VALUE=DATE:20260425
DTEND;VALUE=DATE:20260426
DESCRIPTION:
LOCATION:
SUMMARY:Prom
END:VEVENT
BEGIN:VEVENT
DTSTAMP:20260420T141434Z
UID:bdf39c03-c21d-4500-aa64-9112e93a3855
DTSTART;VALUE=DATE:20260425
DTEND;VALUE=DATE:20260426
DESCRIPTION:
LOCATION:
SUMMARY:Track @ Sheridan
END:VEVENT
BEGIN:VEVENT
DTSTAMP:20260420T141434Z
UID:0568599e-28be-42bf-9e26-12be5a5e6105
DTSTART;VALUE=DATE:20260430
DTEND;VALUE=DATE:20260501
DESCRIPTION:
LOCATION:
SUMMARY:Track @ Buffalo
END:VEVENT
BEGIN:VEVENT
DTSTAMP:20260420T141434Z
UID:c13d29a2-4ae3-4d3e-aeac-42dc1190efab
DTSTART;VALUE=DATE:20260501
DTEND;VALUE=DATE:20260502
DESCRIPTION:
LOCATION:
SUMMARY:Golf @ Lusk
END:VEVENT
BEGIN:VEVENT
DTSTAMP:20260420T141434Z
UID:e60f901c-dc37-4478-8e3f-b2d28bdcbbbc
DTSTART;VALUE=DATE:20260502
DTEND;VALUE=DATE:20260503
DESCRIPTION:
LOCATION:
SUMMARY:Golf @ Wright
END:VEVENT
BEGIN:VEVENT
DTSTAMP:20260420T141434Z
UID:c2b837b5-de50-40b7-adac-2a4a440764d8
DTSTART;VALUE=DATE:20260507
DTEND;VALUE=DATE:20260508
DESCRIPTION:
LOCATION:
SUMMARY:Golf Practice Round @ Kemmerer
END:VEVENT
BEGIN:VEVENT
DTSTAMP:20260420T141434Z
UID:77f1c4f9-e40a-4eb1-9d93-68eb914a437f
DTSTART;VALUE=DATE:20260508
DTEND;VALUE=DATE:20260510
DESCRIPTION:
LOCATION:
SUMMARY:Golf @ Kemmerer Spring Championship
END:VEVENT
BEGIN:VEVENT
DTSTAMP:20260420T141434Z
UID:eb5ae12c-04f6-446a-b477-5da37131ff1b
DTSTART;VALUE=DATE:20260508
DTEND;VALUE=DATE:20260509
DESCRIPTION:
LOCATION:
SUMMARY:Track @ Gillette
END:VEVENT
BEGIN:VEVENT
DTSTAMP:20260420T141434Z
UID:e3f54f35-dcb9-42bd-ae49-3a6e431a6306
DTSTART:20260508T080000
DTEND:20260508T160000
DESCRIPTION:<p>Staff ONLY District PD Day and End-of-Year Celebrations at T
 ongue River High School</p>
LOCATION:1150 Main St\, Dayton\, WY 82836\, USA
SUMMARY:STAFF PROFESSIONAL DEVELOPMENT DAY
END:VEVENT
BEGIN:VEVENT
DTSTAMP:20260420T141434Z
UID:05b10e8d-776a-4733-9d2b-b8528cc00c3f
DTSTART;VALUE=DATE:20260515
DTEND;VALUE=DATE:20260517
DESCRIPTION:
LOCATION:
SUMMARY:Regional Track @ Torrington
END:VEVENT
BEGIN:VEVENT
DTSTAMP:20260420T141434Z
UID:fd3390c1-768b-479a-bd9f-421c0bb0a210
DTSTART:20260518T180000
DTEND:20260518T193000
DESCRIPTION:
LOCATION:
SUMMARY:Piano Recital
END:VEVENT
BEGIN:VEVENT
DTSTAMP:20260420T141434Z
UID:ba738547-0546-4b4d-8cbe-91e6e62c43c0
DTSTART:20260519T180000
DTEND:20260519T193000
DESCRIPTION:
LOCATION:
SUMMARY:Spring Concert 
END:VEVENT
BEGIN:VEVENT
DTSTAMP:20260420T141434Z
UID:3645238f-01ab-42fb-9fe9-fc0b4fcaca9e
DTSTART;VALUE=DATE:20260521
DTEND;VALUE=DATE:20260524
DESCRIPTION:
LOCATION:
SUMMARY:State Track @ Casper
END:VEVENT
BEGIN:VEVENT
DTSTAMP:20260420T141434Z
UID:c2839fc5-488a-4d6b-a447-4f9cfa62ffe8
DTSTART;VALUE=DATE:20260525
DTEND;VALUE=DATE:20260526
DESCRIPTION:
LOCATION:
SUMMARY:Memorial Day - No School
END:VEVENT
BEGIN:VEVENT
DTSTAMP:20260420T141434Z
UID:7d06a1b4-10a1-46b0-a6c1-ebf9172d35a8
DTSTART;VALUE=DATE:20260529
DTEND;VALUE=DATE:20260530
DESCRIPTION:
LOCATION:
SUMMARY:Last Day of School - Early Release at 1:30
END:VEVENT
BEGIN:VEVENT
DTSTAMP:20260420T141434Z
UID:658e7f4f-5ceb-4dea-9b73-c1bb9cdfe0a1
DTSTART:20260529T080000
DTEND:20260529T133000
DESCRIPTION:
LOCATION:
SUMMARY:Last Day of School
END:VEVENT
BEGIN:VEVENT
DTSTAMP:20260420T141434Z
UID:05c5bc3c-6934-4f4f-8498-830944a0a089
DTSTART:20260530T160000
DTEND:20260530T170000
DESCRIPTION:
LOCATION:
SUMMARY:TR Graduation 
END:VEVENT
BEGIN:VEVENT
DTSTAMP:20260420T141434Z
UID:cd058a53-7bfa-44fc-9080-8ed4e6a06b95
DTSTART;VALUE=DATE:20261012
DTEND;VALUE=DATE:20261017
DESCRIPTION:
LOCATION:
SUMMARY:Homecoming
END:VEVENT
END:VCALENDAR
