BEGIN:VCALENDAR
VERSION:2.0
PRODID:icalendar-ruby
CALSCALE:GREGORIAN
BEGIN:VTIMEZONE
TZID:America/New_York
BEGIN:DAYLIGHT
DTSTART:20260308T030000
TZOFFSETFROM:-0500
TZOFFSETTO:-0400
RRULE:FREQ=YEARLY;BYDAY=2SU;BYMONTH=3
TZNAME:EDT
END:DAYLIGHT
BEGIN:STANDARD
DTSTART:20261101T010000
TZOFFSETFROM:-0400
TZOFFSETTO:-0500
RRULE:FREQ=YEARLY;BYDAY=1SU;BYMONTH=11
TZNAME:EST
END:STANDARD
END:VTIMEZONE
BEGIN:VEVENT
DTSTAMP:20260422T235434Z
UID:3d067596-5a6a-487d-b684-240eef9c4e5c
DTSTART;VALUE=DATE:20260519
DTEND;VALUE=DATE:20260520
DESCRIPTION:
LOCATION:
SUMMARY:Annual School Budget Vote/Election
END:VEVENT
BEGIN:VEVENT
DTSTAMP:20260422T235434Z
UID:8a551652-92fd-41bd-877d-019e810d41f9
DTSTART;VALUE=DATE:20260522
DTEND;VALUE=DATE:20260523
DESCRIPTION:
LOCATION:Primary School
SUMMARY:No School: Memorial Day Observance
END:VEVENT
BEGIN:VEVENT
DTSTAMP:20260422T235434Z
UID:9a9e35d5-55c2-4c2b-aa59-4257140fa0c9
DTSTART;VALUE=DATE:20260525
DTEND;VALUE=DATE:20260526
DESCRIPTION:
LOCATION:Primary School
SUMMARY:No School: Memorial Day
END:VEVENT
BEGIN:VEVENT
DTSTAMP:20260422T235434Z
UID:0a1806e5-cfe5-41bf-b3db-57255dcad251
DTSTART:20260612T094500
DTEND:20260612T104500
DESCRIPTION:
LOCATION:Primary School
SUMMARY:Primary School: Flag Day
END:VEVENT
BEGIN:VEVENT
DTSTAMP:20260422T235434Z
UID:a5d1b4ae-99bc-4632-8e21-61ebcb8c2e8c
DTSTART:20260616T093000
DTEND:20260616T103000
DESCRIPTION:
LOCATION:Primary School
SUMMARY:Primary School: Kindergarten Performance 1
END:VEVENT
BEGIN:VEVENT
DTSTAMP:20260422T235434Z
UID:22bfa207-a69e-4aac-8e52-b0823a6b5de6
DTSTART:20260617T093000
DTEND:20260617T103000
DESCRIPTION:
LOCATION:Primary School
SUMMARY:Primary School: Kindergarten Performance 2
END:VEVENT
BEGIN:VEVENT
DTSTAMP:20260422T235434Z
UID:1c21eac3-6d88-4d50-80e7-742b722e6789
DTSTART;VALUE=DATE:20260618
DTEND;VALUE=DATE:20260619
DESCRIPTION:
LOCATION:Primary School
SUMMARY:Primary School Field Day
END:VEVENT
BEGIN:VEVENT
DTSTAMP:20260422T235434Z
UID:5f7f2c18-fc3b-4d3d-b7ef-b91571e93f7b
DTSTART:20260618T130000
DTEND:20260618T140000
DESCRIPTION:
LOCATION:Primary School
SUMMARY:Primary School: 2nd Grade Moving Up Day
END:VEVENT
BEGIN:VEVENT
DTSTAMP:20260422T235434Z
UID:21d25ec1-7f77-4c28-9ca2-1f4a5a4516bd
DTSTART;VALUE=DATE:20260619
DTEND;VALUE=DATE:20260620
DESCRIPTION:
LOCATION:Primary School
SUMMARY:No School: Juneteenth
END:VEVENT
BEGIN:VEVENT
DTSTAMP:20260422T235434Z
UID:c5de2c61-1233-43b1-acf0-2d8bd0d10da7
DTSTART;VALUE=DATE:20260622
DTEND;VALUE=DATE:20260623
DESCRIPTION:
LOCATION:Primary School
SUMMARY:Primary School Field Day Rain Date
END:VEVENT
BEGIN:VEVENT
DTSTAMP:20260422T235434Z
UID:8a7271a0-ce38-47cf-b536-878e82765311
DTSTART;VALUE=DATE:20260624
DTEND;VALUE=DATE:20260625
DESCRIPTION:
LOCATION:Primary School
SUMMARY:Half Day School:  PK-5
END:VEVENT
BEGIN:VEVENT
DTSTAMP:20260422T235434Z
UID:dd02935e-cc77-4d57-a132-cb2c74039f88
DTSTART;VALUE=DATE:20260625
DTEND;VALUE=DATE:20260626
DESCRIPTION:
LOCATION:Primary School
SUMMARY:Half Day School:  PK-5
END:VEVENT
BEGIN:VEVENT
DTSTAMP:20260422T235434Z
UID:6e91f712-05e2-4be8-9cc1-2fd7af98b7be
DTSTART;VALUE=DATE:20260625
DTEND;VALUE=DATE:20260626
DESCRIPTION:
LOCATION:Primary School
SUMMARY:Primary School: 3rd Trimester Report Cards Published PK-2
END:VEVENT
END:VCALENDAR
