BEGIN:VCALENDAR
VERSION:2.0
PRODID:icalendar-ruby
CALSCALE:GREGORIAN
BEGIN:VTIMEZONE
TZID:America/New_York
BEGIN:DAYLIGHT
DTSTART:20260308T030000
TZOFFSETFROM:-0500
TZOFFSETTO:-0400
RRULE:FREQ=YEARLY;BYDAY=2SU;BYMONTH=3
TZNAME:EDT
END:DAYLIGHT
BEGIN:STANDARD
DTSTART:20261101T010000
TZOFFSETFROM:-0400
TZOFFSETTO:-0500
RRULE:FREQ=YEARLY;BYDAY=1SU;BYMONTH=11
TZNAME:EST
END:STANDARD
END:VTIMEZONE
BEGIN:VEVENT
DTSTAMP:20260425T031308Z
UID:68792159-f6bb-4d1d-a924-ce30994cb61a
DTSTART:20260424T163000
DTEND:20260424T200000
DESCRIPTION:
LOCATION:
SUMMARY:JH Track @ Nelsonville
END:VEVENT
BEGIN:VEVENT
DTSTAMP:20260425T031308Z
UID:23569e50-51dc-4e2f-a3a7-a3070eee2a14
DTSTART:20260424T170000
DTEND:20260424T200000
DESCRIPTION:
LOCATION:
SUMMARY:Varsity Softball @ Warren
END:VEVENT
BEGIN:VEVENT
DTSTAMP:20260425T031308Z
UID:9867cfbc-b0bc-40fe-9f2c-442c4b69f184
DTSTART:20260427T170000
DTEND:20260427T200000
DESCRIPTION:
LOCATION:
SUMMARY:Varsity Baseball @ Warren
END:VEVENT
BEGIN:VEVENT
DTSTAMP:20260425T031308Z
UID:f3b4ec5a-9bdf-493d-a23a-68da9e43e201
DTSTART:20260428T161500
DTEND:20260428T200000
DESCRIPTION:
LOCATION:
SUMMARY:JH Track @ Warren
END:VEVENT
BEGIN:VEVENT
DTSTAMP:20260425T031308Z
UID:ab13ce45-84b9-4092-9c16-cde5769138fd
DTSTART:20260428T163000
DTEND:20260428T200000
DESCRIPTION:
LOCATION:
SUMMARY:HS Track @ South Webster
END:VEVENT
BEGIN:VEVENT
DTSTAMP:20260425T031308Z
UID:19546f69-3083-447d-b7bd-35dc028d76f2
DTSTART:20260428T170000
DTEND:20260428T200000
DESCRIPTION:
LOCATION:
SUMMARY:Varsity Baseball @ Trimble
END:VEVENT
BEGIN:VEVENT
DTSTAMP:20260425T031308Z
UID:d0487c00-bc6e-45b5-895e-c8a961434fb8
DTSTART:20260428T170000
DTEND:20260428T200000
DESCRIPTION:
LOCATION:
SUMMARY:Varsity Softball @ Trimble
END:VEVENT
BEGIN:VEVENT
DTSTAMP:20260425T031308Z
UID:c20b4cdb-1672-45ea-ac39-60a4f570b56d
DTSTART:20260429T170000
DTEND:20260429T200000
DESCRIPTION:
LOCATION:
SUMMARY:JV Baseball @ Warren
END:VEVENT
BEGIN:VEVENT
DTSTAMP:20260425T031308Z
UID:4433276b-9185-48ed-8331-a1fee1102820
DTSTART:20260430T170000
DTEND:20260430T200000
DESCRIPTION:
LOCATION:
SUMMARY:Varsity Baseball vs. Southern
END:VEVENT
BEGIN:VEVENT
DTSTAMP:20260425T031308Z
UID:fe164407-81b8-47da-8cf6-2da1858c43e7
DTSTART:20260430T170000
DTEND:20260430T200000
DESCRIPTION:
LOCATION:
SUMMARY:Varsity Softball vs. Southern
END:VEVENT
BEGIN:VEVENT
DTSTAMP:20260425T031308Z
UID:cc808455-2420-4799-8e43-cf0a21d72c9d
DTSTART:20260501T170000
DTEND:20260501T200000
DESCRIPTION:
LOCATION:
SUMMARY:Varsity Baseball vs. Wahama
END:VEVENT
BEGIN:VEVENT
DTSTAMP:20260425T031308Z
UID:f609324b-a216-474b-b548-1cf8c8b0d102
DTSTART:20260502T100000
DTEND:20260502T130000
DESCRIPTION:
LOCATION:
SUMMARY:HS Track @ Belpre
END:VEVENT
BEGIN:VEVENT
DTSTAMP:20260425T031308Z
UID:a290e810-9640-417e-80c5-5a53e7258e4b
DTSTART:20260504T170000
DTEND:20260504T200000
DESCRIPTION:
LOCATION:
SUMMARY:Varsity Baseball vs. Warren
END:VEVENT
BEGIN:VEVENT
DTSTAMP:20260425T031308Z
UID:fe880a84-b27d-4bdc-b653-a6bbd7a674e3
DTSTART:20260505T163000
DTEND:20260505T200000
DESCRIPTION:
LOCATION:
SUMMARY:JH Track @ Vinton County
END:VEVENT
BEGIN:VEVENT
DTSTAMP:20260425T031308Z
UID:ed2665c2-92d9-4e5e-8b36-a36517b00248
DTSTART:20260505T170000
DTEND:20260505T200000
DESCRIPTION:
LOCATION:
SUMMARY:JV Baseball vs. Southern
END:VEVENT
BEGIN:VEVENT
DTSTAMP:20260425T031308Z
UID:838895d1-6868-4f88-973f-2479855385bd
DTSTART:20260505T170000
DTEND:20260505T200000
DESCRIPTION:
LOCATION:
SUMMARY:Varsity Softball vs. Meigs
END:VEVENT
BEGIN:VEVENT
DTSTAMP:20260425T031308Z
UID:568cae15-6b85-4558-ab26-097867fcebf0
DTSTART:20260506T160000
DTEND:20260506T200000
DESCRIPTION:
LOCATION:
SUMMARY:HS Track @ Meigs
END:VEVENT
BEGIN:VEVENT
DTSTAMP:20260425T031308Z
UID:c3845945-ce3c-436c-bc38-441787a9fb92
DTSTART:20260506T170000
DTEND:20260506T200000
DESCRIPTION:
LOCATION:
SUMMARY:JV Baseball vs. Gallia
END:VEVENT
BEGIN:VEVENT
DTSTAMP:20260425T031308Z
UID:f213a73c-6620-44b9-a8a3-60877b38256c
DTSTART:20260507T170000
DTEND:20260507T200000
DESCRIPTION:
LOCATION:
SUMMARY:JV Baseball @ Jackson
END:VEVENT
BEGIN:VEVENT
DTSTAMP:20260425T031308Z
UID:9043eb08-c4f1-467c-bf96-fe8e6df159bf
DTSTART:20260507T170000
DTEND:20260507T200000
DESCRIPTION:
LOCATION:
SUMMARY:Varsity Baseball vs Jackson
END:VEVENT
BEGIN:VEVENT
DTSTAMP:20260425T031308Z
UID:ff3269f4-e26f-46be-8b24-50b636e10773
DTSTART:20260507T170000
DTEND:20260507T200000
DESCRIPTION:
LOCATION:
SUMMARY:Varsity Softball vs. Warren
END:VEVENT
BEGIN:VEVENT
DTSTAMP:20260425T031308Z
UID:73055ff0-8542-4b6e-8945-fd4697974fde
DTSTART:20260508T170000
DTEND:20260508T200000
DESCRIPTION:
LOCATION:
SUMMARY:Varsity Softball @ Marietta
END:VEVENT
BEGIN:VEVENT
DTSTAMP:20260425T031308Z
UID:8a5d090c-f133-45b2-8ccc-a20adab6bf2b
DTSTART:20260508T190000
DTEND:20260508T210000
DESCRIPTION:
LOCATION:
SUMMARY:Varsity Baseball @ Fairfield Christian
END:VEVENT
BEGIN:VEVENT
DTSTAMP:20260425T031308Z
UID:35cbd08c-469a-4874-a9d1-7555d0b3d804
DTSTART:20260509T090000
DTEND:20260509T130000
DESCRIPTION:
LOCATION:
SUMMARY:JH Track @ Wellston
END:VEVENT
BEGIN:VEVENT
DTSTAMP:20260425T031308Z
UID:e6fb9072-cd76-4537-9f2d-366fe41dd2f8
DTSTART:20260509T120000
DTEND:20260509T160000
DESCRIPTION:
LOCATION:
SUMMARY:JV Baseball @ Meigs (DH)
END:VEVENT
BEGIN:VEVENT
DTSTAMP:20260425T031308Z
UID:81fd928c-4602-45b4-9261-d326c663afac
DTSTART:20260512T170000
DTEND:20260512T210000
DESCRIPTION:
LOCATION:
SUMMARY:JV/Varsity Baseball @ Athens
END:VEVENT
BEGIN:VEVENT
DTSTAMP:20260425T031308Z
UID:434a7f4e-3a41-442f-bcf4-1ebd239155c0
DTSTART:20260513T161500
DTEND:20260513T200000
DESCRIPTION:
LOCATION:
SUMMARY:HS Track TVC @ Athens
END:VEVENT
BEGIN:VEVENT
DTSTAMP:20260425T031308Z
UID:2f73e378-1989-475e-bd93-7c68b0e0cbbb
DTSTART:20260513T170000
DTEND:20260513T200000
DESCRIPTION:
LOCATION:
SUMMARY:Varsity Baseball @ Southeastern
END:VEVENT
BEGIN:VEVENT
DTSTAMP:20260425T031308Z
UID:a9c7e43e-e470-49cb-a8c2-9c63c9f6f248
DTSTART:20260515T170000
DTEND:20260515T200000
DESCRIPTION:
LOCATION:
SUMMARY:Varsity Baseball vs Meigs (Senior Night)
END:VEVENT
BEGIN:VEVENT
DTSTAMP:20260425T031308Z
UID:2f50d042-5a2b-4b44-8406-ccb3f1cd53cd
DTSTART:20260516T120000
DTEND:20260516T160000
DESCRIPTION:
LOCATION:
SUMMARY:JV/Varsity Baseball vs. Whiteoak
END:VEVENT
BEGIN:VEVENT
DTSTAMP:20260425T031308Z
UID:feaa47b6-40c7-4822-beb9-ba14fb4d2c05
DTSTART:20260518T170000
DTEND:20260518T200000
DESCRIPTION:
LOCATION:
SUMMARY:Varsity Baseball vs. South Webster
END:VEVENT
END:VCALENDAR
