BEGIN:VCALENDAR
VERSION:2.0
PRODID:icalendar-ruby
CALSCALE:GREGORIAN
BEGIN:VTIMEZONE
TZID:America/Chicago
BEGIN:DAYLIGHT
DTSTART:20260308T030000
TZOFFSETFROM:-0600
TZOFFSETTO:-0500
RRULE:FREQ=YEARLY;BYDAY=2SU;BYMONTH=3
TZNAME:CDT
END:DAYLIGHT
BEGIN:STANDARD
DTSTART:20261101T010000
TZOFFSETFROM:-0500
TZOFFSETTO:-0600
RRULE:FREQ=YEARLY;BYDAY=1SU;BYMONTH=11
TZNAME:CST
END:STANDARD
END:VTIMEZONE
BEGIN:VEVENT
DTSTAMP:20260421T161746Z
UID:f1e2ca2c-d0a9-439d-a565-c3178b2ddef0
DTSTART;VALUE=DATE:20260421
DTEND;VALUE=DATE:20260422
DESCRIPTION:WG Chicken Nuggets<br>Baked Beans<br>Corn on the Cob<br>WG Grah
 am Cracker\, Honey<br>Chilled Sliced Pears<br>Fruiti Freeze Cups\, Frozen\
 , Assorted<br>Choice of Milk<br>Potable Water<br><br><b>MENUS ARE SUBJECT 
 TO CHANGE*<br>This institution is an equal opportunity provider.</b>
LOCATION:
SUMMARY:LUNCH MENU 9-12
END:VEVENT
BEGIN:VEVENT
DTSTAMP:20260421T161746Z
UID:7ed17a6c-da5d-4c40-b8e0-7418493c2993
DTSTART;VALUE=DATE:20260421
DTEND;VALUE=DATE:20260422
DESCRIPTION:Fresh Apple Slices<br>Orange Juice<br>Sausage Patty<br>Scramble
 d Egg<br>WW Toast<br>Assorted Fruit Jelly<br>Choice of Milk<br>Potable Wat
 er<br><br><b>MENUS ARE SUBJECT TO CHANGE*<br>This institution is an equal 
 opportunity provider.</b>
LOCATION:
SUMMARY:BREAKFAST MENU 9-12
END:VEVENT
BEGIN:VEVENT
DTSTAMP:20260421T161746Z
UID:1d17dbe1-0c2d-43e5-8fc9-b5cd1adcc34e
DTSTART;VALUE=DATE:20260422
DTEND;VALUE=DATE:20260423
DESCRIPTION:Chilled Bagged Grapes<br>Fruit Juice<br>Smoked Sausage\, Hickor
 y<br>WW Toast<br>Assorted Fruit Jelly<br>Choice of Milk<br>Potable Water<b
 r><br><b>MENUS ARE SUBJECT TO CHANGE*<br>This institution is an equal oppo
 rtunity provider.</b>
LOCATION:
SUMMARY:BREAKFAST MENU 9-12
END:VEVENT
BEGIN:VEVENT
DTSTAMP:20260421T161746Z
UID:069bb871-ae69-4165-a90c-ccd44156c46d
DTSTART;VALUE=DATE:20260422
DTEND;VALUE=DATE:20260423
DESCRIPTION:WG Breaded Steak Fingers<br>WG Macaroni &amp\; Cheese<br>Steame
 d Broccoli<br>Tossed Garden Salad<br>Chilled Fruit Cocktail<br>Fresh Orang
 e Wedges<br>FF Italian Dressing<br>Choice of Milk<br>Potable Water<br><br>
 <b>MENUS ARE SUBJECT TO CHANGE*<br>This institution is an equal opportunit
 y provider.</b>
LOCATION:
SUMMARY:LUNCH MENU 9-12
END:VEVENT
BEGIN:VEVENT
DTSTAMP:20260421T161746Z
UID:463eae51-d0d1-4486-8532-9b5e20139e59
DTSTART;VALUE=DATE:20260423
DTEND;VALUE=DATE:20260424
DESCRIPTION:Chilled Sliced Peaches<br>Fruit Juice<br>WW Cinnamon Muffin<br>
 Choice of Milk<br>Potable Water<br><br><b>MENUS ARE SUBJECT TO CHANGE*<br>
 This institution is an equal opportunity provider.</b>
LOCATION:
SUMMARY:BREAKFAST MENU 9-12
END:VEVENT
BEGIN:VEVENT
DTSTAMP:20260421T161746Z
UID:8d583faf-aadf-4907-a8c2-707c3f15a617
DTSTART;VALUE=DATE:20260423
DTEND;VALUE=DATE:20260424
DESCRIPTION:General TSO Chicken w/Sauce<br>Seasoned Green Beans<br>Honey Wh
 eat Roll<br>Glazed Baby Carrots<br>Tossed Garden Salad<br>Chilled Sliced P
 eaches<br>Fresh Fruit Basket (Apples &amp\; Oranges)<br>Buttermilk Ranch F
 F Dressing<br>Choice of Milk<br>Potable Water<br><br><b>MENUS ARE SUBJECT 
 TO CHANGE*<br>This institution is an equal opportunity provider.</b>
LOCATION:
SUMMARY:LUNCH MENU 9-12
END:VEVENT
BEGIN:VEVENT
DTSTAMP:20260421T161746Z
UID:06cfd0f1-05ef-4d6c-886b-c82b14d8f242
DTSTART;VALUE=DATE:20260424
DTEND;VALUE=DATE:20260425
DESCRIPTION:Chilled Fruit Cocktail<br>Fruit Juice<br>WW Cinnamon Roll w/Pow
 dered Sugar Glaze<br>WG Honey Graham Crackers<br>Choice of Milk<br>Potable
  Water<br><br><b>MENUS ARE SUBJECT TO CHANGE*<br>This institution is an eq
 ual opportunity provider.</b>
LOCATION:
SUMMARY:BREAKFAST MENU 9-12
END:VEVENT
BEGIN:VEVENT
DTSTAMP:20260421T161746Z
UID:3b3a9dbb-2c5c-4ad3-8c89-09895a202cbc
DTSTART;VALUE=DATE:20260424
DTEND;VALUE=DATE:20260425
DESCRIPTION:Mesquite Hamburger w/Sliced Cheese on Whole Wheat Hamburger Bun
 <br>Baked French Fries<br>Sliced Tomato on Lettuce Salad<br>Chilled Pineap
 ple Chunks<br>Fresh Fruit Basket (Apples &amp\; Oranges)<br>Ketchup\, Mayo
 nnaise\, Mustard Packets<br>Choice of Milk<br>Potable Water<br><br><br><b>
 MENUS ARE SUBJECT TO CHANGE*<br>This institution is an equal opportunity p
 rovider.</b>
LOCATION:
SUMMARY:LUNCH MENU 9-12
END:VEVENT
BEGIN:VEVENT
DTSTAMP:20260421T161746Z
UID:c0d5a1e8-fb3c-429d-b99f-61236164c39b
DTSTART;VALUE=DATE:20260427
DTEND;VALUE=DATE:20260428
DESCRIPTION:Fresh Banana<br>Fruit Juice<br>WG Pancake Sausage on a Stick<br
 >Choice of Milk<br>Potable Water<br><br><b>MENUS ARE SUBJECT TO CHANGE*<br
 >This institution is an equal opportunity provider.</b>
LOCATION:
SUMMARY:BREAKFAST MENU 9-12
END:VEVENT
BEGIN:VEVENT
DTSTAMP:20260421T161746Z
UID:03dec643-8357-4b6d-ac81-9000e38c5e9b
DTSTART;VALUE=DATE:20260427
DTEND;VALUE=DATE:20260428
DESCRIPTION:Chicken &amp\; Chili Crispitos<br>Seasoned Pinto Beans<br>Orien
 tal Stir Fry Vegetables<br>Fresh Apple Slices<br>Fresh Tangerine<br>Choice
  of Milk<br>Potable Water<br><br><b>MENUS ARE SUBJECT TO CHANGE*<br>This i
 nstitution is an equal opportunity provider.</b>
LOCATION:
SUMMARY:LUNCH  MENU 9-12
END:VEVENT
BEGIN:VEVENT
DTSTAMP:20260421T161746Z
UID:6d04d7c7-f34a-44f7-a8ef-92d689a855a5
DTSTART;VALUE=DATE:20260428
DTEND;VALUE=DATE:20260429
DESCRIPTION:Chilled Tropical Fruit<br>Fruit Juice<br>Eggo WW Mini Cinnamon 
 Waffles<br>Choice of Milk<br>Potable Water<br><br><b>MENUS ARE SUBJECT TO 
 CHANGE*<br>This institution is an equal opportunity provider.</b>
LOCATION:
SUMMARY:BREAKFAST MENU 9-12
END:VEVENT
BEGIN:VEVENT
DTSTAMP:20260421T161746Z
UID:ad05b20d-dc3e-4d76-8d98-29e1b2bcb2a0
DTSTART;VALUE=DATE:20260428
DTEND;VALUE=DATE:20260429
DESCRIPTION:Breaded Chicken Wings<br>Roasted Corn &amp\; Black Bean Fiesta 
 Blend<br>Honey Wheat Roll<br>Tossed Garden Salad<br>Chilled Tropical Fruit
 <br>Fresh Fruit Basket (Apples &amp\; Oranges)<br>Buttermilk Ranch FF Dres
 sing<br>Ketchup Packets<br>Choice of Milk<br>Potable Water<br><br><br><b>M
 ENUS ARE SUBJECT TO CHANGE*<br>This institution is an equal opportunity pr
 ovider.</b>
LOCATION:
SUMMARY:LUNCH MENU 9-12
END:VEVENT
BEGIN:VEVENT
DTSTAMP:20260421T161746Z
UID:63f6e329-2042-4d9f-8abd-0978f58b2ec5
DTSTART;VALUE=DATE:20260429
DTEND;VALUE=DATE:20260430
DESCRIPTION:Fresh Apple Slices<br>Orange Juice<br>Sausage Patty<br>Scramble
 d Egg<br>Enriched Grits<br>WW Toast <br>Assorted Fruit Jelly<br>Choice of
  Milk<br>Potable Water<br><br><b>MENUS ARE SUBJECT TO CHANGE*<br>This inst
 itution is an equal opportunity provider.</b>
LOCATION:
SUMMARY:BREAKFAST MENU 9-12
END:VEVENT
BEGIN:VEVENT
DTSTAMP:20260421T161746Z
UID:f7490e8b-342a-4f1f-bfbb-84b34e746da3
DTSTART;VALUE=DATE:20260429
DTEND;VALUE=DATE:20260430
DESCRIPTION:WG Sausage Pizza<br>Seasoned Green Beans<br>Corn on the Cob<br>
 Tossed Garden Salad<br>Frozen Fruit Juice Cup\, Assorted<br>Fresh Fruit Ba
 sket (Apples &amp\; Oranges)<br>Buttermilk Ranch FF Dressing<br>Choice of 
 Milk<br>Potable Water<br><br><b>MENUS ARE SUBJECT TO CHANGE*<br>This insti
 tution is an equal opportunity provider.</b>
LOCATION:
SUMMARY:LUNCH MENU 9-12
END:VEVENT
BEGIN:VEVENT
DTSTAMP:20260421T161746Z
UID:035021b9-c90f-4304-b2bc-2edab21ecc59
DTSTART;VALUE=DATE:20260430
DTEND;VALUE=DATE:20260501
DESCRIPTION:Fresh Orange Wedges<br>Apple Juice<br>WG Assorted Cereal<br>Cho
 ice of Milk<br>Potable Water<br><br><b>MENUS ARE SUBJECT TO CHANGE*<br>Thi
 s institution is an equal opportunity provider.</b>
LOCATION:
SUMMARY:BREAKFAST MENU 9-12
END:VEVENT
BEGIN:VEVENT
DTSTAMP:20260421T161746Z
UID:25a1df8d-63b8-4d13-8542-c27aa551c01c
DTSTART;VALUE=DATE:20260430
DTEND;VALUE=DATE:20260501
DESCRIPTION:Oven Roasted Drumstick<br>WG Cornbread<br>Turnip Greens<br>Cand
 ied Yam Pattie<br>Chilled Sliced Pears<br>Fruiti Freeze Cups\, Frozen\, As
 sorted<br>Fresh Fruit Basket ( Apples &amp\; Oranges)<br>Choice of Milk<br
 >Potable Water<br><br><b>MENUS ARE SUBJECT TO CHANGE*<br>This institution 
 is an equal opportunity provider.</b>
LOCATION:
SUMMARY:LUNCH MENU 9-12
END:VEVENT
END:VCALENDAR
