BEGIN:VCALENDAR
VERSION:2.0
PRODID:icalendar-ruby
CALSCALE:GREGORIAN
BEGIN:VTIMEZONE
TZID:America/Chicago
BEGIN:DAYLIGHT
DTSTART:20260308T030000
TZOFFSETFROM:-0600
TZOFFSETTO:-0500
RRULE:FREQ=YEARLY;BYDAY=2SU;BYMONTH=3
TZNAME:CDT
END:DAYLIGHT
BEGIN:STANDARD
DTSTART:20261101T010000
TZOFFSETFROM:-0500
TZOFFSETTO:-0600
RRULE:FREQ=YEARLY;BYDAY=1SU;BYMONTH=11
TZNAME:CST
END:STANDARD
END:VTIMEZONE
BEGIN:VEVENT
DTSTAMP:20260425T185813Z
UID:b23fa2d3-8327-41ec-88e4-790f1f250c13
DTSTART;VALUE=DATE:20260429
DTEND;VALUE=DATE:20260430
DESCRIPTION:
LOCATION:
SUMMARY:60 Minute Early Dismissal
END:VEVENT
BEGIN:VEVENT
DTSTAMP:20260425T185813Z
UID:9a8b4589-bb47-484a-9dd9-1e8d7531b0b9
DTSTART;VALUE=DATE:20260506
DTEND;VALUE=DATE:20260507
DESCRIPTION:
LOCATION:
SUMMARY:60 Minute Early Dismissal
END:VEVENT
BEGIN:VEVENT
DTSTAMP:20260425T185813Z
UID:6fd71ef5-35c3-430f-a134-13be0f05ad22
DTSTART;VALUE=DATE:20260513
DTEND;VALUE=DATE:20260514
DESCRIPTION:
LOCATION:
SUMMARY:60 Minute Early Dismissal
END:VEVENT
BEGIN:VEVENT
DTSTAMP:20260425T185813Z
UID:b3a71579-e86d-4cde-8b70-2d44f13a20cf
DTSTART;VALUE=DATE:20260520
DTEND;VALUE=DATE:20260521
DESCRIPTION:
LOCATION:
SUMMARY:60 Minute Early Dismissal
END:VEVENT
BEGIN:VEVENT
DTSTAMP:20260425T185813Z
UID:e1767516-30d9-44e1-997e-0ecb09fd9308
DTSTART;VALUE=DATE:20260525
DTEND;VALUE=DATE:20260526
DESCRIPTION:
LOCATION:
SUMMARY:No School – Memorial Day
END:VEVENT
BEGIN:VEVENT
DTSTAMP:20260425T185813Z
UID:4c790dcd-79c8-439b-b051-d806ae6cc1ac
DTSTART;VALUE=DATE:20260527
DTEND;VALUE=DATE:20260528
DESCRIPTION:
LOCATION:
SUMMARY:60 Minute Early Dismissal
END:VEVENT
BEGIN:VEVENT
DTSTAMP:20260425T185813Z
UID:c3bb6a19-0e5d-45fa-9ba2-11d42cba9852
DTSTART;VALUE=DATE:20260528
DTEND;VALUE=DATE:20260529
DESCRIPTION:
LOCATION:
SUMMARY:Last Day of School
END:VEVENT
END:VCALENDAR
