BEGIN:VCALENDAR
VERSION:2.0
PRODID:icalendar-ruby
CALSCALE:GREGORIAN
BEGIN:VTIMEZONE
TZID:America/Denver
BEGIN:DAYLIGHT
DTSTART:20260308T030000
TZOFFSETFROM:-0700
TZOFFSETTO:-0600
RRULE:FREQ=YEARLY;BYDAY=2SU;BYMONTH=3
TZNAME:MDT
END:DAYLIGHT
BEGIN:STANDARD
DTSTART:20261101T010000
TZOFFSETFROM:-0600
TZOFFSETTO:-0700
RRULE:FREQ=YEARLY;BYDAY=1SU;BYMONTH=11
TZNAME:MST
END:STANDARD
END:VTIMEZONE
BEGIN:VEVENT
DTSTAMP:20260423T153538Z
UID:c9ff920a-b40e-4c5b-b310-9efb871277d3
DTSTART;VALUE=DATE:20260424
DTEND;VALUE=DATE:20260425
DESCRIPTION:
LOCATION:
SUMMARY:Early out Friday - Dismiss at 12:40 
END:VEVENT
BEGIN:VEVENT
DTSTAMP:20260423T153538Z
UID:77b5bf50-71c5-4c62-9159-1d15978a5b1b
DTSTART;VALUE=DATE:20260424
DTEND;VALUE=DATE:20260425
DESCRIPTION:
LOCATION:
SUMMARY:E Sports Spring Celebration - Salt Lake
END:VEVENT
BEGIN:VEVENT
DTSTAMP:20260423T153538Z
UID:b4af8662-48f8-45d6-af38-a578f927dd62
DTSTART;VALUE=DATE:20260427
DTEND;VALUE=DATE:20260502
DESCRIPTION:
LOCATION:
SUMMARY:RISE Testing
END:VEVENT
BEGIN:VEVENT
DTSTAMP:20260423T153538Z
UID:c1ea3758-b52e-4107-aefd-9c34f3bfea94
DTSTART;VALUE=DATE:20260501
DTEND;VALUE=DATE:20260502
DESCRIPTION:
LOCATION:
SUMMARY:Early out Friday - Dismiss at 12:40 
END:VEVENT
BEGIN:VEVENT
DTSTAMP:20260423T153538Z
UID:2daac2ff-3f62-4dfc-8d1f-e477ad41c78b
DTSTART;VALUE=DATE:20260501
DTEND;VALUE=DATE:20260502
DESCRIPTION:
LOCATION:
SUMMARY:School Lunch Hero Day
END:VEVENT
BEGIN:VEVENT
DTSTAMP:20260423T153538Z
UID:74a80c63-da90-4b9d-b1a2-4e4400cdefb7
DTSTART;VALUE=DATE:20260501
DTEND;VALUE=DATE:20260502
DESCRIPTION:
LOCATION:
SUMMARY:School Lunch Hero Day
END:VEVENT
BEGIN:VEVENT
DTSTAMP:20260423T153538Z
UID:09a255f1-c36a-49ad-8a76-d08030f01e2d
DTSTART;VALUE=DATE:20260504
DTEND;VALUE=DATE:20260509
DESCRIPTION:
LOCATION:
SUMMARY:RISE Testing
END:VEVENT
BEGIN:VEVENT
DTSTAMP:20260423T153538Z
UID:efae0f06-d6ed-4c70-9d86-5380ab87a9c1
DTSTART;VALUE=DATE:20260504
DTEND;VALUE=DATE:20260509
DESCRIPTION:
LOCATION:
SUMMARY:Teacher Appreciation Week
END:VEVENT
BEGIN:VEVENT
DTSTAMP:20260423T153538Z
UID:52c2d2ef-0b48-4d8c-9d9f-df3b0b0f9a6a
DTSTART;VALUE=DATE:20260506
DTEND;VALUE=DATE:20260507
DESCRIPTION:
LOCATION:
SUMMARY:School Nurses Day
END:VEVENT
BEGIN:VEVENT
DTSTAMP:20260423T153538Z
UID:93d991aa-e6a3-44fe-b047-1c4df2e9321a
DTSTART:20260507T180000
DTEND:20260507T190000
DESCRIPTION:6th grade at 6:00\n7/8th grades at 7:00\nCMS
LOCATION:
SUMMARY:Choir Concert 6th Grade @ CMS
END:VEVENT
BEGIN:VEVENT
DTSTAMP:20260423T153538Z
UID:615303e8-b976-4649-9fd1-3cc80d3a96c6
DTSTART:20260507T190000
DTEND:20260507T200000
DESCRIPTION:6th grade at 6:00\n7/8th grades at 7:00\nCMS
LOCATION:
SUMMARY:Choir Concert-7th/8th Grade @ CMS
END:VEVENT
BEGIN:VEVENT
DTSTAMP:20260423T153538Z
UID:5fbf33a6-fa08-49c5-b8bb-9a3fa160b431
DTSTART;VALUE=DATE:20260508
DTEND;VALUE=DATE:20260509
DESCRIPTION:
LOCATION:
SUMMARY:Early out Friday - Dismiss at 12:40 
END:VEVENT
BEGIN:VEVENT
DTSTAMP:20260423T153538Z
UID:d7cf5bec-0344-44b4-8e49-42481bbe50d2
DTSTART:20260512T170000
DTEND:20260512T173000
DESCRIPTION:
LOCATION:
SUMMARY:6th grade Intermediate Band
END:VEVENT
BEGIN:VEVENT
DTSTAMP:20260423T153538Z
UID:4fca3e20-8238-4aec-a762-10f070a46f6b
DTSTART:20260512T180000
DTEND:20260512T183000
DESCRIPTION:
LOCATION:
SUMMARY:Warrior Band
END:VEVENT
BEGIN:VEVENT
DTSTAMP:20260423T153538Z
UID:fac0391e-c947-41f2-99ff-252c975092d3
DTSTART:20260512T190000
DTEND:20260512T193000
DESCRIPTION:
LOCATION:
SUMMARY:6th Adv. Band
END:VEVENT
BEGIN:VEVENT
DTSTAMP:20260423T153538Z
UID:8f1b1f71-44b5-42de-bc31-d999c09d8520
DTSTART:20260513T180000
DTEND:20260513T190000
DESCRIPTION:
LOCATION:
SUMMARY:Orchestra Concert
END:VEVENT
BEGIN:VEVENT
DTSTAMP:20260423T153538Z
UID:299b05fb-54b2-4e88-848b-a2f8d8c247ae
DTSTART:20260514T170000
DTEND:20260514T173000
DESCRIPTION:
LOCATION:
SUMMARY:Jazz Band
END:VEVENT
BEGIN:VEVENT
DTSTAMP:20260423T153538Z
UID:360eb437-89cf-4807-9f72-818799071d60
DTSTART:20260514T180000
DTEND:20260514T183000
DESCRIPTION:
LOCATION:
SUMMARY:Concert Band
END:VEVENT
BEGIN:VEVENT
DTSTAMP:20260423T153538Z
UID:0661742a-f289-4d62-80d2-ce40b40dbd46
DTSTART:20260514T184500
DTEND:20260514T191500
DESCRIPTION:
LOCATION:
SUMMARY:Jazz Band & Percussion
END:VEVENT
BEGIN:VEVENT
DTSTAMP:20260423T153538Z
UID:e88530f1-34cd-4cee-ac4e-ace64c5f2f41
DTSTART:20260514T191500
DTEND:20260514T200000
DESCRIPTION:
LOCATION:
SUMMARY:Symphonic Band
END:VEVENT
BEGIN:VEVENT
DTSTAMP:20260423T153538Z
UID:28f7c8c6-187e-4a74-abaa-30698dba0f77
DTSTART;VALUE=DATE:20260515
DTEND;VALUE=DATE:20260516
DESCRIPTION:
LOCATION:
SUMMARY:Early out Friday - Dismiss at 12:40 
END:VEVENT
BEGIN:VEVENT
DTSTAMP:20260423T153538Z
UID:b55a5a0d-a417-42d6-beef-a451b61b0b0a
DTSTART:20260518T170000
DTEND:20260518T183000
DESCRIPTION:
LOCATION:
SUMMARY:CMS Open House
END:VEVENT
BEGIN:VEVENT
DTSTAMP:20260423T153538Z
UID:dd9ddee4-7a2d-49ae-90f6-05d735cd6200
DTSTART;VALUE=DATE:20260521
DTEND;VALUE=DATE:20260522
DESCRIPTION:
LOCATION:
SUMMARY:Early Out Dismissal - Dismiss at 12:40
END:VEVENT
BEGIN:VEVENT
DTSTAMP:20260423T153538Z
UID:ce717c86-e46d-4254-b3cb-fc4a66499dc8
DTSTART;VALUE=DATE:20260522
DTEND;VALUE=DATE:20260523
DESCRIPTION:
LOCATION:
SUMMARY:Early out Friday - Dismiss at 12:40 
END:VEVENT
BEGIN:VEVENT
DTSTAMP:20260423T153538Z
UID:b362dbd6-a970-4a07-8bba-7480e12a6ef8
DTSTART;VALUE=DATE:20260522
DTEND;VALUE=DATE:20260523
DESCRIPTION:
LOCATION:
SUMMARY:End of 4th Quarter
END:VEVENT
BEGIN:VEVENT
DTSTAMP:20260423T153538Z
UID:0631ee53-e1a3-4deb-bca3-f646f9a2c24f
DTSTART:20260729T083000
DTEND:20260729T130000
DESCRIPTION:
LOCATION:
SUMMARY:Student Council Retreat
END:VEVENT
BEGIN:VEVENT
DTSTAMP:20260423T153538Z
UID:8323d85b-1ce9-4b3a-9010-9d1b395a0f32
DTSTART:20260730T083000
DTEND:20260730T130000
DESCRIPTION:
LOCATION:
SUMMARY:Student Council Retreat
END:VEVENT
BEGIN:VEVENT
DTSTAMP:20260423T153538Z
UID:32da18b3-4acd-43c9-a2a5-d52214056ec8
DTSTART:20260803T083000
DTEND:20260803T130000
DESCRIPTION:
LOCATION:
SUMMARY:Student Council Retreat
END:VEVENT
BEGIN:VEVENT
DTSTAMP:20260423T153538Z
UID:79be9901-aca3-4bc6-a383-5926c5d215b6
DTSTART;VALUE=DATE:20261022
DTEND;VALUE=DATE:20261023
DESCRIPTION:
LOCATION:
SUMMARY:Middle School STEAM Night @ Southwest Tech
END:VEVENT
BEGIN:VEVENT
DTSTAMP:20260423T153538Z
UID:21f765d5-afb1-4bdf-a3fb-944c2f14f022
DTSTART;VALUE=DATE:20270304
DTEND;VALUE=DATE:20270305
DESCRIPTION:
LOCATION:
SUMMARY:Middel School STEAM Night @ CVMS
END:VEVENT
END:VCALENDAR
