BEGIN:VCALENDAR
VERSION:2.0
PRODID:icalendar-ruby
CALSCALE:GREGORIAN
BEGIN:VTIMEZONE
TZID:America/Denver
BEGIN:DAYLIGHT
DTSTART:20260308T030000
TZOFFSETFROM:-0700
TZOFFSETTO:-0600
RRULE:FREQ=YEARLY;BYDAY=2SU;BYMONTH=3
TZNAME:MDT
END:DAYLIGHT
BEGIN:STANDARD
DTSTART:20261101T010000
TZOFFSETFROM:-0600
TZOFFSETTO:-0700
RRULE:FREQ=YEARLY;BYDAY=1SU;BYMONTH=11
TZNAME:MST
END:STANDARD
END:VTIMEZONE
BEGIN:VEVENT
DTSTAMP:20260421T044759Z
UID:b5d20c3b-f009-4b11-aef7-b8d099a694ea
DTSTART:20260512T154500
DTEND:20260512T173000
DESCRIPTION:
LOCATION:
SUMMARY:Board of Education Meeting
END:VEVENT
BEGIN:VEVENT
DTSTAMP:20260421T044759Z
UID:aa39c03a-bda9-438a-b151-bb7e93c58198
DTSTART;VALUE=DATE:20260515
DTEND;VALUE=DATE:20260516
DESCRIPTION:This date is subject to change due to state health orders. 
LOCATION:
SUMMARY:San Juan College High School Graduation
END:VEVENT
BEGIN:VEVENT
DTSTAMP:20260421T044759Z
UID:8a5a3fde-0790-4ebe-895b-7a0ba1bb2aeb
DTSTART;VALUE=DATE:20260518
DTEND;VALUE=DATE:20260519
DESCRIPTION:
LOCATION:
SUMMARY:Farmington High School Graduation
END:VEVENT
BEGIN:VEVENT
DTSTAMP:20260421T044759Z
UID:560b5dd9-dcb7-48a3-9c34-b89e852ffcaa
DTSTART;VALUE=DATE:20260519
DTEND;VALUE=DATE:20260520
DESCRIPTION:This date is subject to change due to state health orders. 
LOCATION:
SUMMARY:Piedra Vista High School Graduation
END:VEVENT
BEGIN:VEVENT
DTSTAMP:20260421T044759Z
UID:08722664-8961-4643-8c74-770d8cb514a2
DTSTART;VALUE=DATE:20260520
DTEND;VALUE=DATE:20260521
DESCRIPTION:
LOCATION:
SUMMARY:Rocinante High School Graduation
END:VEVENT
BEGIN:VEVENT
DTSTAMP:20260421T044759Z
UID:5810ca4c-951a-43c7-89ee-fc9709ce3f44
DTSTART;VALUE=DATE:20260521
DTEND;VALUE=DATE:20260522
DESCRIPTION:
LOCATION:
SUMMARY:Last Day of School
END:VEVENT
BEGIN:VEVENT
DTSTAMP:20260421T044759Z
UID:894e7c7a-38a0-45bb-adc2-a90f3e1271d7
DTSTART;VALUE=DATE:20260522
DTEND;VALUE=DATE:20260523
DESCRIPTION:
LOCATION:
SUMMARY:Professional Day for Teachers
END:VEVENT
BEGIN:VEVENT
DTSTAMP:20260421T044759Z
UID:1709c208-cba9-4020-ac7b-885922358db5
DTSTART;VALUE=DATE:20260525
DTEND;VALUE=DATE:20260526
DESCRIPTION:
LOCATION:
SUMMARY:Memorial Day - District Offices Closed
END:VEVENT
BEGIN:VEVENT
DTSTAMP:20260421T044759Z
UID:c92a9336-c0c1-492f-af37-5c49fa79dc0c
DTSTART:20260609T154500
DTEND:20260609T173000
DESCRIPTION:
LOCATION:
SUMMARY:Board of Education Meeting
END:VEVENT
BEGIN:VEVENT
DTSTAMP:20260421T044759Z
UID:611cd62c-38cc-479d-a418-fdd34728112e
DTSTART;VALUE=DATE:20260619
DTEND;VALUE=DATE:20260620
DESCRIPTION:
LOCATION:
SUMMARY:Juneteenth Celebration / Offices Closed
END:VEVENT
BEGIN:VEVENT
DTSTAMP:20260421T044759Z
UID:b48442a8-7a0a-41cf-b07d-37fd6347358b
DTSTART;VALUE=DATE:20260703
DTEND;VALUE=DATE:20260704
DESCRIPTION:
LOCATION:
SUMMARY:FMS Offices Closed
END:VEVENT
BEGIN:VEVENT
DTSTAMP:20260421T044759Z
UID:4cea6219-6c34-42da-9912-b817b0080db6
DTSTART;VALUE=DATE:20260704
DTEND;VALUE=DATE:20260705
DESCRIPTION:
LOCATION:
SUMMARY:Independence Day Holiday
END:VEVENT
BEGIN:VEVENT
DTSTAMP:20260421T044759Z
UID:519b9e00-a6e0-415a-b5c0-bdd614afb1f2
DTSTART:20260714T154500
DTEND:20260714T173000
DESCRIPTION:
LOCATION:
SUMMARY:Board of Education Meeting
END:VEVENT
END:VCALENDAR
