BEGIN:VCALENDAR
VERSION:2.0
PRODID:icalendar-ruby
CALSCALE:GREGORIAN
BEGIN:VTIMEZONE
TZID:America/New_York
BEGIN:DAYLIGHT
DTSTART:20260308T030000
TZOFFSETFROM:-0500
TZOFFSETTO:-0400
RRULE:FREQ=YEARLY;BYDAY=2SU;BYMONTH=3
TZNAME:EDT
END:DAYLIGHT
BEGIN:STANDARD
DTSTART:20261101T010000
TZOFFSETFROM:-0400
TZOFFSETTO:-0500
RRULE:FREQ=YEARLY;BYDAY=1SU;BYMONTH=11
TZNAME:EST
END:STANDARD
END:VTIMEZONE
BEGIN:VEVENT
DTSTAMP:20260423T113235Z
UID:4f368e9e-ba36-4691-b557-dbaf97507787
DTSTART:20260429T190000
DTEND:20260429T200000
DESCRIPTION:
LOCATION:
SUMMARY:Band Concert - Grades 5 - 12
END:VEVENT
BEGIN:VEVENT
DTSTAMP:20260423T113235Z
UID:2b340112-4e36-4d87-adb1-5f1b2561bf27
DTSTART;VALUE=DATE:20260501
DTEND;VALUE=DATE:20260502
DESCRIPTION:
LOCATION:
SUMMARY:No School - Snow Day Giveback
END:VEVENT
BEGIN:VEVENT
DTSTAMP:20260423T113235Z
UID:c1869401-32ee-49a1-8889-d4ba6fed85e5
DTSTART;VALUE=DATE:20260504
DTEND;VALUE=DATE:20260505
DESCRIPTION:
LOCATION:
SUMMARY:Pre-K Registration
END:VEVENT
BEGIN:VEVENT
DTSTAMP:20260423T113235Z
UID:cd4064e3-5258-4563-8005-cc48f50e5200
DTSTART:20260505T190000
DTEND:20260505T200000
DESCRIPTION:
LOCATION:
SUMMARY:Budget Hearing
END:VEVENT
BEGIN:VEVENT
DTSTAMP:20260423T113235Z
UID:26d3cf83-955b-460c-97b3-1dcfb4bc3d2f
DTSTART;VALUE=DATE:20260515
DTEND;VALUE=DATE:20260516
DESCRIPTION:
LOCATION:
SUMMARY:Kindergarten Registration
END:VEVENT
BEGIN:VEVENT
DTSTAMP:20260423T113235Z
UID:4e78eca2-76f7-404b-bfa2-24f1754aa00f
DTSTART:20260515T120000
DTEND:20260515T130000
DESCRIPTION:
LOCATION:
SUMMARY:Dismissal - Superintendent's Conference Day
END:VEVENT
BEGIN:VEVENT
DTSTAMP:20260423T113235Z
UID:f3cee634-e1e3-4851-8741-83113ea46a1d
DTSTART:20260519T120000
DTEND:20260519T200000
DESCRIPTION:
LOCATION:
SUMMARY:Budget Vote
END:VEVENT
BEGIN:VEVENT
DTSTAMP:20260423T113235Z
UID:4c8165c5-ceef-445e-a7e0-806689546c7c
DTSTART:20260519T190000
DTEND:20260519T200000
DESCRIPTION:
LOCATION:
SUMMARY:Chorus Concert - Grades 5 - 12
END:VEVENT
BEGIN:VEVENT
DTSTAMP:20260423T113235Z
UID:fbc5bc07-12cd-4ec1-9a56-bce6e58b2984
DTSTART:20260521T183000
DTEND:20260521T193000
DESCRIPTION:
LOCATION:
SUMMARY:CROP Summer Parent Meeting
END:VEVENT
BEGIN:VEVENT
DTSTAMP:20260423T113235Z
UID:b884194d-342c-4d01-95a8-6d5a867e208f
DTSTART:20260521T190000
DTEND:20260521T200000
DESCRIPTION:
LOCATION:
SUMMARY:Board of Education Meeting
END:VEVENT
BEGIN:VEVENT
DTSTAMP:20260423T113235Z
UID:8add9922-3abb-4e4a-96cc-d2e5e3ce3104
DTSTART;VALUE=DATE:20260522
DTEND;VALUE=DATE:20260523
DESCRIPTION:
LOCATION:
SUMMARY:No School - Snow Day Giveback
END:VEVENT
BEGIN:VEVENT
DTSTAMP:20260423T113235Z
UID:b2b9412b-0eef-40d4-8272-50a0f7f94ba6
DTSTART;VALUE=DATE:20260525
DTEND;VALUE=DATE:20260526
DESCRIPTION:
LOCATION:
SUMMARY:No School - Memorial Day
END:VEVENT
BEGIN:VEVENT
DTSTAMP:20260423T113235Z
UID:0c3fa710-a133-4ab8-a13f-f7a07a30c161
DTSTART;VALUE=DATE:20260526
DTEND;VALUE=DATE:20260527
DESCRIPTION:
LOCATION:
SUMMARY:No School - Snow Day Giveback
END:VEVENT
BEGIN:VEVENT
DTSTAMP:20260423T113235Z
UID:6d4d5f68-5c18-46dd-b095-1fe1afa089b7
DTSTART:20260611T180000
DTEND:20260611T190000
DESCRIPTION:
LOCATION:
SUMMARY:Awards Banquet at Longview Event Center
END:VEVENT
BEGIN:VEVENT
DTSTAMP:20260423T113235Z
UID:a7dd6249-2f27-4a67-805a-d0eb982ab415
DTSTART;VALUE=DATE:20260612
DTEND;VALUE=DATE:20260613
DESCRIPTION:
LOCATION:
SUMMARY:Last Day of Crop
END:VEVENT
BEGIN:VEVENT
DTSTAMP:20260423T113235Z
UID:3aaa6706-d5af-4bf6-81e1-aa9481a83d4c
DTSTART:20260614T190000
DTEND:20260614T200000
DESCRIPTION:
LOCATION:
SUMMARY:Baccalaureate Service
END:VEVENT
BEGIN:VEVENT
DTSTAMP:20260423T113235Z
UID:d8a9bac8-fad3-4490-aedf-ae3003a56451
DTSTART;VALUE=DATE:20260616
DTEND;VALUE=DATE:20260617
DESCRIPTION:
LOCATION:
SUMMARY:Last day of school for 7-12 students
END:VEVENT
BEGIN:VEVENT
DTSTAMP:20260423T113235Z
UID:52517eb7-ee31-4b4e-bc8f-fd40f0e06b05
DTSTART:20260616T100000
DTEND:20260616T104500
DESCRIPTION:
LOCATION:
SUMMARY:Awards Assembly - 7th and 8th Grade
END:VEVENT
BEGIN:VEVENT
DTSTAMP:20260423T113235Z
UID:a5e68480-8101-4c13-8e26-8600b2f359f9
DTSTART:20260617T190000
DTEND:20260617T200000
DESCRIPTION:
LOCATION:
SUMMARY:Board of Education Meeting
END:VEVENT
BEGIN:VEVENT
DTSTAMP:20260423T113235Z
UID:770d82de-1825-4243-b49a-bac50f890080
DTSTART;VALUE=DATE:20260619
DTEND;VALUE=DATE:20260620
DESCRIPTION:
LOCATION:
SUMMARY:No School - Junteenth
END:VEVENT
BEGIN:VEVENT
DTSTAMP:20260423T113235Z
UID:b81225ee-033e-4edf-bc01-7f5a6ba1fc4d
DTSTART:20260622T120000
DTEND:20260622T130000
DESCRIPTION:
LOCATION:
SUMMARY:PK - 6 Early Dismissal
END:VEVENT
BEGIN:VEVENT
DTSTAMP:20260423T113235Z
UID:43adf73a-c0f1-4b51-8668-ae8c79a97e01
DTSTART:20260623T083000
DTEND:20260623T090000
DESCRIPTION:
LOCATION:
SUMMARY:Grades 1- 3 Awards Assembly
END:VEVENT
BEGIN:VEVENT
DTSTAMP:20260423T113235Z
UID:f2caeed4-c747-4c71-b843-0dbc34527204
DTSTART:20260623T093000
DTEND:20260623T100000
DESCRIPTION:
LOCATION:
SUMMARY:Grades 4 - 6 Awards Assembly
END:VEVENT
BEGIN:VEVENT
DTSTAMP:20260423T113235Z
UID:474693bd-62d8-400e-a4ee-60040fddb995
DTSTART:20260623T120000
DTEND:20260623T130000
DESCRIPTION:
LOCATION:
SUMMARY:PK - 6 Early Dismissal
END:VEVENT
BEGIN:VEVENT
DTSTAMP:20260423T113235Z
UID:b422f8fd-3d30-4fc7-aeba-53eff8d788c3
DTSTART:20260624T093000
DTEND:20260624T103000
DESCRIPTION:
LOCATION:
SUMMARY:Kindergarten Graduation
END:VEVENT
BEGIN:VEVENT
DTSTAMP:20260423T113235Z
UID:b9fdce8b-8129-427c-9c14-3c12e62ddb04
DTSTART:20260624T120000
DTEND:20260624T130000
DESCRIPTION:
LOCATION:
SUMMARY:PK - 6 Early Dismissal
END:VEVENT
BEGIN:VEVENT
DTSTAMP:20260423T113235Z
UID:2afc49a7-2a95-4509-a27d-8542053166fe
DTSTART:20260625T110000
DTEND:20260625T120000
DESCRIPTION:
LOCATION:
SUMMARY:PK - 6 Early Dismissal
END:VEVENT
BEGIN:VEVENT
DTSTAMP:20260423T113235Z
UID:9c92ad04-0246-4c4b-ab9a-34ba30b4748e
DTSTART:20260626T110000
DTEND:20260626T120000
DESCRIPTION:
LOCATION:
SUMMARY:PK - 6 Early Dismissal
END:VEVENT
BEGIN:VEVENT
DTSTAMP:20260423T113235Z
UID:95245331-5142-458f-99dd-4134eb19439b
DTSTART:20260626T190000
DTEND:20260626T200000
DESCRIPTION:
LOCATION:
SUMMARY:Graduation
END:VEVENT
END:VCALENDAR
