BEGIN:VCALENDAR
VERSION:2.0
PRODID:icalendar-ruby
CALSCALE:GREGORIAN
BEGIN:VTIMEZONE
TZID:America/New_York
BEGIN:DAYLIGHT
DTSTART:20260308T030000
TZOFFSETFROM:-0500
TZOFFSETTO:-0400
RRULE:FREQ=YEARLY;BYDAY=2SU;BYMONTH=3
TZNAME:EDT
END:DAYLIGHT
BEGIN:STANDARD
DTSTART:20261101T010000
TZOFFSETFROM:-0400
TZOFFSETTO:-0500
RRULE:FREQ=YEARLY;BYDAY=1SU;BYMONTH=11
TZNAME:EST
END:STANDARD
END:VTIMEZONE
BEGIN:VEVENT
DTSTAMP:20260425T182818Z
UID:56670546-c7f8-4e15-b5b8-19cc761ce658
DTSTART;VALUE=DATE:20260422
DTEND;VALUE=DATE:20260426
DESCRIPTION:
LOCATION:
SUMMARY:HS Trip
END:VEVENT
BEGIN:VEVENT
DTSTAMP:20260425T182818Z
UID:33191f9f-6636-4526-9fbe-e2087bf15104
DTSTART;VALUE=DATE:20260427
DTEND;VALUE=DATE:20260501
DESCRIPTION:
LOCATION:
SUMMARY:HS Music Trip
END:VEVENT
BEGIN:VEVENT
DTSTAMP:20260425T182818Z
UID:9efca259-1ac3-4f1c-8771-85ce1636f778
DTSTART:20260427T141000
DTEND:20260427T144500
DESCRIPTION:MS Y.A.G. director- Joanna Daigler<br><a href="mailto:jdaigler@
 maryvaleufsd.org" target="_blank"><u>jdaigler@maryvaleufsd.org</u></a><br>
 Confirmed ok with Sam Tiffany (M.S. Showcase)
LOCATION:PAC
SUMMARY:MS- YAG
END:VEVENT
BEGIN:VEVENT
DTSTAMP:20260425T182818Z
UID:a7a415aa-46b9-4f51-bbc9-f9db99c2c7a9
DTSTART:20260427T142000
DTEND:20260427T163000
DESCRIPTION:Sam Tiffany- leader
LOCATION:PAC
SUMMARY:HS- M.S. Showcase Rehearsal
END:VEVENT
BEGIN:VEVENT
DTSTAMP:20260425T182818Z
UID:ba9cb7d8-2f21-4cd4-9887-8bc0d0cf4d95
DTSTART:20260428T142000
DTEND:20260428T163000
DESCRIPTION:Sam Tiffany- leader
LOCATION:PAC
SUMMARY:HS- M.S. Showcase Rehearsal
END:VEVENT
BEGIN:VEVENT
DTSTAMP:20260425T182818Z
UID:5f995450-c685-4c25-a140-ed959e841e49
DTSTART:20260429T110000
DTEND:20260429T133000
DESCRIPTION:Kelly Squires- HS counselor<br><b>*setup: slide &amp\; projecto
 r</b>
LOCATION:PAC
SUMMARY:HS- 8th Grade Orientation Program
END:VEVENT
BEGIN:VEVENT
DTSTAMP:20260425T182818Z
UID:99f2038b-1265-4047-9375-dbd0450b400e
DTSTART:20260429T142000
DTEND:20260429T163000
DESCRIPTION:Sam Tiffany- leader
LOCATION:PAC
SUMMARY:HS- M.S. Showcase Rehearsal
END:VEVENT
BEGIN:VEVENT
DTSTAMP:20260425T182818Z
UID:87eb2d14-f707-4fac-84b4-b0c42c2f135e
DTSTART:20260430T180000
DTEND:20260430T193000
DESCRIPTION:Kristen Hada
LOCATION:Cafe\, Gym
SUMMARY:PS- Art Show & Ice Cream Social
END:VEVENT
BEGIN:VEVENT
DTSTAMP:20260425T182818Z
UID:7fb9ef4d-79c1-4f1d-b2e1-22f1eaa0d97b
DTSTART:20260501T074500
DTEND:20260501T100000
DESCRIPTION:Kelly Squires- counselor
LOCATION:Alumni Hall
SUMMARY:HS- Meeting
END:VEVENT
BEGIN:VEVENT
DTSTAMP:20260425T182818Z
UID:2ca2239f-bf5b-46cc-b09d-12f64974bde9
DTSTART:20260501T103000
DTEND:20260501T143000
DESCRIPTION:Melissa Renshaw\, Ben Cooper
LOCATION:PAC
SUMMARY:HS- Performance for Intermediate School (Kevin McCarthy)
END:VEVENT
BEGIN:VEVENT
DTSTAMP:20260425T182818Z
UID:ee7822c9-45da-4b08-8683-595147f9c1e4
DTSTART:20260501T142000
DTEND:20260501T163000
DESCRIPTION:Sam Tiffany- leader
LOCATION:PAC
SUMMARY:HS- M.S. Showcase Rehearsal
END:VEVENT
BEGIN:VEVENT
DTSTAMP:20260425T182818Z
UID:0c395387-5281-4221-9f3e-55aada228d55
DTSTART;VALUE=DATE:20260504
DTEND;VALUE=DATE:20260518
DESCRIPTION:Sam Tiffany- MSS leader
LOCATION:PAC
SUMMARY:HS- M.S. Tech Week
END:VEVENT
BEGIN:VEVENT
DTSTAMP:20260425T182818Z
UID:fbe352f7-5ed4-41b4-90bd-dc7a4b24753c
DTSTART:20260504T142000
DTEND:20260504T163000
DESCRIPTION:Sam Tiffany- leader
LOCATION:PAC
SUMMARY:HS- M.S. Showcase Rehearsal
END:VEVENT
BEGIN:VEVENT
DTSTAMP:20260425T182818Z
UID:b5f45f77-8adf-4f2a-a1f3-aaef906242b5
DTSTART:20260504T183000
DTEND:20260504T193000
DESCRIPTION:
LOCATION:Alumni Hall
SUMMARY:HS- CC PTO Meeting
END:VEVENT
BEGIN:VEVENT
DTSTAMP:20260425T182818Z
UID:f5d0f1a8-0e91-4f80-af82-d17ed8e61ba3
DTSTART:20260505T142000
DTEND:20260505T163000
DESCRIPTION:Sam Tiffany- leader
LOCATION:PAC
SUMMARY:HS- M.S. Showcase Rehearsal
END:VEVENT
BEGIN:VEVENT
DTSTAMP:20260425T182818Z
UID:a6403993-9f19-43cc-879d-a2395a483b9d
DTSTART:20260505T180000
DTEND:20260505T210000
DESCRIPTION:
LOCATION:Administration Board Room
SUMMARY:Board of Education Meeting
END:VEVENT
BEGIN:VEVENT
DTSTAMP:20260425T182818Z
UID:0284f72b-5202-4e9a-a5de-9a651de22c0a
DTSTART:20260505T183000
DTEND:20260505T193000
DESCRIPTION:
LOCATION:High School
SUMMARY:HS PTO Meeting
END:VEVENT
BEGIN:VEVENT
DTSTAMP:20260425T182818Z
UID:79321c0b-1d07-4bf7-bed2-ccee16bbcadc
DTSTART:20260505T190000
DTEND:20260505T210000
DESCRIPTION:Paul Krupinski
LOCATION:Planetarium
SUMMARY:MS- Planetarium- Skywatchers of Ancient Mexico (Pt. 1)
END:VEVENT
BEGIN:VEVENT
DTSTAMP:20260425T182818Z
UID:3c3b54c3-4abf-40a6-94ec-fda780360f41
DTSTART:20260506T142000
DTEND:20260506T163000
DESCRIPTION:Sam Tiffany- leader
LOCATION:PAC
SUMMARY:HS- M.S. Showcase Rehearsal
END:VEVENT
BEGIN:VEVENT
DTSTAMP:20260425T182818Z
UID:0f593167-0a38-4e54-aa7c-f8187e734a79
DTSTART:20260506T180000
DTEND:20260506T190000
DESCRIPTION:Election for 2026-2027
LOCATION:
SUMMARY:IS- PTO Meeting (Election)
END:VEVENT
BEGIN:VEVENT
DTSTAMP:20260425T182818Z
UID:2892539f-66df-49ee-b1eb-14430eca5e07
DTSTART:20260508T142000
DTEND:20260508T163000
DESCRIPTION:Sam Tiffany- leader
LOCATION:PAC
SUMMARY:HS- M.S. Showcase Rehearsal
END:VEVENT
BEGIN:VEVENT
DTSTAMP:20260425T182818Z
UID:aa6dd8dc-0fb4-4527-84b0-672ad007415e
DTSTART:20260511T111500
DTEND:20260511T140700
DESCRIPTION:Jill Darling\, Sherry Nowicki
LOCATION:PAC
SUMMARY:HS- 7th Gr. Coordinators
END:VEVENT
BEGIN:VEVENT
DTSTAMP:20260425T182818Z
UID:770cb37b-30ac-4608-817c-efca838ab576
DTSTART:20260511T142000
DTEND:20260511T163000
DESCRIPTION:Sam Tiffany- leader
LOCATION:PAC
SUMMARY:HS- M.S. Showcase Rehearsal
END:VEVENT
BEGIN:VEVENT
DTSTAMP:20260425T182818Z
UID:ab7c5acc-e654-4e52-8040-90b4ca99888d
DTSTART:20260512T111500
DTEND:20260512T140700
DESCRIPTION:Jill Darling\, Sherry Nowicki
LOCATION:PAC
SUMMARY:HS- 7th Gr. Coordinators
END:VEVENT
BEGIN:VEVENT
DTSTAMP:20260425T182818Z
UID:53ab318d-1db2-43bf-bebf-ebf54b71941e
DTSTART:20260512T141500
DTEND:20260512T151500
DESCRIPTION:Jon Lattanzio- HS
LOCATION:Alumni Hall
SUMMARY:HS- Principal/Coordinators Meetings
END:VEVENT
BEGIN:VEVENT
DTSTAMP:20260425T182818Z
UID:4f3e4743-3204-42ce-b136-fc3d9b19ddee
DTSTART:20260512T142000
DTEND:20260512T163000
DESCRIPTION:Sam Tiffany- leader
LOCATION:PAC
SUMMARY:HS- M.S. Showcase Rehearsal
END:VEVENT
BEGIN:VEVENT
DTSTAMP:20260425T182818Z
UID:774f1ab3-1100-44fd-acdb-13f21928d4a5
DTSTART:20260513T142000
DTEND:20260513T163000
DESCRIPTION:Sam Tiffany- leader
LOCATION:PAC
SUMMARY:HS- M.S. Showcase Rehearsal
END:VEVENT
BEGIN:VEVENT
DTSTAMP:20260425T182818Z
UID:62ec69e3-f330-4d5b-a6ec-0caaf25becb6
DTSTART:20260513T180000
DTEND:20260513T200000
DESCRIPTION:Brian Wroblewski- JV Boys V-Ball &amp\; B-ball coach
LOCATION:HS 11/12 Gym & Cafeteria
SUMMARY:HS- 50 Days Bash
END:VEVENT
BEGIN:VEVENT
DTSTAMP:20260425T182818Z
UID:8590b653-35a1-4e28-a3ce-4e9e0b66c875
DTSTART:20260513T183000
DTEND:20260513T193000
DESCRIPTION:
LOCATION:Primary School
SUMMARY:PS PTO Meeting
END:VEVENT
BEGIN:VEVENT
DTSTAMP:20260425T182818Z
UID:b76510f1-294f-4cd6-87b1-8c6fae3462bc
DTSTART:20260515T190000
DTEND:20260515T220000
DESCRIPTION:Sam Tiffany- M.S.S. leader
LOCATION:PAC
SUMMARY:HS- M.S. Showcase Performance Night
END:VEVENT
BEGIN:VEVENT
DTSTAMP:20260425T182818Z
UID:1c595c60-21e1-462e-ba5e-4e5cf2e7097b
DTSTART:20260516T190000
DTEND:20260516T220000
DESCRIPTION:Sam Tiffany- M.S.S. leader
LOCATION:PAC
SUMMARY:HS- M.S. Showcase Performance Night
END:VEVENT
BEGIN:VEVENT
DTSTAMP:20260425T182818Z
UID:e749dce3-70a4-42b2-9aab-e9f1298567f7
DTSTART;VALUE=DATE:20260518
DTEND;VALUE=DATE:20260522
DESCRIPTION:
LOCATION:High School
SUMMARY:HS Spirit Week
END:VEVENT
BEGIN:VEVENT
DTSTAMP:20260425T182818Z
UID:0e8b654c-60ec-4f0c-9a56-53b3e80ab4c4
DTSTART:20260518T141000
DTEND:20260518T154500
DESCRIPTION:MS Y.A.G. director- Joanna Daigler<br><a href="mailto:jdaigler@
 maryvaleufsd.org" target="_blank"><u>jdaigler@maryvaleufsd.org</u></a>
LOCATION:Cafe
SUMMARY:MS- YAG
END:VEVENT
BEGIN:VEVENT
DTSTAMP:20260425T182818Z
UID:7d9a7203-1f8f-4c49-8554-00991d66d899
DTSTART:20260519T120000
DTEND:20260519T210000
DESCRIPTION:
LOCATION:Gym
SUMMARY:Binner- Annual School Budget Vote/Board Member Election
END:VEVENT
BEGIN:VEVENT
DTSTAMP:20260425T182818Z
UID:6f42cec8-6427-4d55-a7f7-955510dccdf5
DTSTART:20260519T190000
DTEND:20260519T210000
DESCRIPTION:Paul Krupinski
LOCATION:Planetarium
SUMMARY:MS- Planetarium- Skywatchers of Ancient Mexico (Pt. 2)
END:VEVENT
BEGIN:VEVENT
DTSTAMP:20260425T182818Z
UID:b43c96b1-c4bc-4d48-942c-23b664c9c971
DTSTART:20260520T180000
DTEND:20260520T200000
DESCRIPTION:
LOCATION:PAC
SUMMARY:HS- NHS Induction Ceremony
END:VEVENT
BEGIN:VEVENT
DTSTAMP:20260425T182818Z
UID:0cc8ad26-3e0c-427a-82b6-24a009e28255
DTSTART;VALUE=DATE:20260521
DTEND;VALUE=DATE:20260522
DESCRIPTION:
LOCATION:
SUMMARY:HS- M.U.D./Hot Dog Roast/Video Yearbook
END:VEVENT
BEGIN:VEVENT
DTSTAMP:20260425T182818Z
UID:fe7488af-83b5-4d78-9f8e-aa35bbf6573e
DTSTART:20260521T173000
DTEND:20260521T193000
DESCRIPTION:
LOCATION:
SUMMARY:PS- Outdoor Carnival
END:VEVENT
BEGIN:VEVENT
DTSTAMP:20260425T182818Z
UID:45ba0bd5-2cbf-4b94-9bbd-862fbd1a36a9
DTSTART;VALUE=DATE:20260522
DTEND;VALUE=DATE:20260523
DESCRIPTION:
LOCATION:
SUMMARY:MEMORIAL DAY OBSERVANCE NO SCHOOL	
END:VEVENT
BEGIN:VEVENT
DTSTAMP:20260425T182818Z
UID:cd029dab-9aaa-4846-9398-e9bb1e553771
DTSTART;VALUE=DATE:20260525
DTEND;VALUE=DATE:20260526
DESCRIPTION:
LOCATION:
SUMMARY:MEMORIAL DAY NO SCHOOL	
END:VEVENT
BEGIN:VEVENT
DTSTAMP:20260425T182818Z
UID:d191160c-2262-4a32-a3e9-054614a56c95
DTSTART;VALUE=DATE:20260526
DTEND;VALUE=DATE:20260605
DESCRIPTION:Music Coordinator- Becca Phelps<br><a href="mailto:phelps@maryv
 aleufsd.org" target="_blank"><u><u><u><u>phelps@maryvaleufsd.org</u></u></
 u></u></a>
LOCATION:PAC
SUMMARY:HS- Spring Concerts & Rehearsals
END:VEVENT
BEGIN:VEVENT
DTSTAMP:20260425T182818Z
UID:83d4e704-388c-451d-8084-09f78e32016a
DTSTART;VALUE=DATE:20260527
DTEND;VALUE=DATE:20260528
DESCRIPTION:
LOCATION:
SUMMARY:Eid-al Adha
END:VEVENT
BEGIN:VEVENT
DTSTAMP:20260425T182818Z
UID:c3857694-7773-47a2-bb94-8135bee88f58
DTSTART:20260528T170000
DTEND:20260528T210000
DESCRIPTION:Music Coordinator- Becca Phelps<br><a href="mailto:phelps@maryv
 aleufsd.org" target="_blank"><u><u><u><u>phelps@maryvaleufsd.org</u></u></
 u></u></a>
LOCATION:Rm 144 & 146\, Cafe\, PAC
SUMMARY:HS- I.S. Spring Concert
END:VEVENT
BEGIN:VEVENT
DTSTAMP:20260425T182818Z
UID:e6fac666-dc29-4726-8e5d-68054febc550
DTSTART:20260529T070000
DTEND:20260529T080000
DESCRIPTION:
LOCATION:Cafe
SUMMARY:HS- Senior Breakfast
END:VEVENT
BEGIN:VEVENT
DTSTAMP:20260425T182818Z
UID:7d898b51-152b-43b8-a781-87315bcf309f
DTSTART:20260529T080000
DTEND:20260529T110000
DESCRIPTION:Adam Norris- advisor
LOCATION:PAC
SUMMARY:HS- Senior Class Slideshow
END:VEVENT
BEGIN:VEVENT
DTSTAMP:20260425T182818Z
UID:90dc4b93-3688-4188-90b2-1f9ef523c060
DTSTART:20260529T110000
DTEND:20260529T120000
DESCRIPTION:Adam Norris- advisor
LOCATION:Outside
SUMMARY:HS- Jaws of Life Demo
END:VEVENT
BEGIN:VEVENT
DTSTAMP:20260425T182818Z
UID:dca5eacd-c405-4997-bdcf-ae66bab2c693
DTSTART:20260529T180000
DTEND:20260529T220000
DESCRIPTION:
LOCATION:
SUMMARY:HS- HS Prom Night
END:VEVENT
BEGIN:VEVENT
DTSTAMP:20260425T182818Z
UID:348fcfb8-bc71-4915-898c-07d7a8502cfc
DTSTART:20260601T173000
DTEND:20260601T193000
DESCRIPTION:
LOCATION:
SUMMARY:PTO Induction Social
END:VEVENT
BEGIN:VEVENT
DTSTAMP:20260425T182818Z
UID:08241ae1-41b6-4735-af13-d575bde533cc
DTSTART:20260602T190000
DTEND:20260602T210000
DESCRIPTION:
LOCATION:High School PAC
SUMMARY:HS Spring Concert 
END:VEVENT
BEGIN:VEVENT
DTSTAMP:20260425T182818Z
UID:3330a4ab-7aed-4970-88b3-dadc120d37a1
DTSTART:20260602T190000
DTEND:20260602T210000
DESCRIPTION:Paul Krupinski
LOCATION:Planetarium
SUMMARY:MS- Planetarium- Face of Earth 2026
END:VEVENT
BEGIN:VEVENT
DTSTAMP:20260425T182818Z
UID:909a71fd-3422-450f-b526-6de479cf094b
DTSTART:20260603T180000
DTEND:20260603T190000
DESCRIPTION:
LOCATION:High School PAC
SUMMARY:6th Grade Spring Concert
END:VEVENT
BEGIN:VEVENT
DTSTAMP:20260425T182818Z
UID:30652712-b99f-42f9-9d5a-8f44814f6717
DTSTART:20260603T191500
DTEND:20260603T201500
DESCRIPTION:
LOCATION:High School PAC
SUMMARY:7/8th Grade Spring Concert
END:VEVENT
BEGIN:VEVENT
DTSTAMP:20260425T182818Z
UID:6a0f9436-87fd-4ed1-a62c-778def9232c3
DTSTART:20260604T180000
DTEND:20260604T193000
DESCRIPTION:
LOCATION:High School PAC
SUMMARY:HS Awards Night
END:VEVENT
BEGIN:VEVENT
DTSTAMP:20260425T182818Z
UID:b61c67ee-26b5-4e3b-aa20-b54ae6414853
DTSTART:20260608T180000
DTEND:20260608T210000
DESCRIPTION:
LOCATION:Administration Board Room
SUMMARY:Board of Education Meeting
END:VEVENT
BEGIN:VEVENT
DTSTAMP:20260425T182818Z
UID:daab443a-63e7-428c-9f2d-772106bcd5c7
DTSTART;VALUE=DATE:20260609
DTEND;VALUE=DATE:20260610
DESCRIPTION:
LOCATION:
SUMMARY:NO H.S. CLASSES - Regents Exams & Review Classes Only
END:VEVENT
BEGIN:VEVENT
DTSTAMP:20260425T182818Z
UID:ea4b4494-8b56-4ef4-97a7-8537b8847fe7
DTSTART:20260609T183000
DTEND:20260609T193000
DESCRIPTION:
LOCATION:High School
SUMMARY:HS PTO Meeting	
END:VEVENT
BEGIN:VEVENT
DTSTAMP:20260425T182818Z
UID:7a0f0d48-0342-4cec-8d21-60040d01158d
DTSTART:20260609T190000
DTEND:20260609T210000
DESCRIPTION:Paul Krupinski
LOCATION:Planetarium
SUMMARY:MS- Planetarium- Face of Earth 2026
END:VEVENT
BEGIN:VEVENT
DTSTAMP:20260425T182818Z
UID:80c8d657-8afb-4fc9-8f00-2352e6fbd843
DTSTART;VALUE=DATE:20260610
DTEND;VALUE=DATE:20260611
DESCRIPTION:
LOCATION:
SUMMARY:NO H.S. CLASSES - Regents Exams & Review Classes Only
END:VEVENT
BEGIN:VEVENT
DTSTAMP:20260425T182818Z
UID:0dbab4f9-d16d-485c-91f0-6a9e0450abf8
DTSTART:20260610T180000
DTEND:20260610T200000
DESCRIPTION:
LOCATION:
SUMMARY:MS - STOM Dessert Reception	
END:VEVENT
BEGIN:VEVENT
DTSTAMP:20260425T182818Z
UID:4d6914a0-3a22-4838-9b77-c5d28d37ea47
DTSTART:20260612T094500
DTEND:20260612T104500
DESCRIPTION:
LOCATION:Primary School
SUMMARY:PS Flag Day
END:VEVENT
BEGIN:VEVENT
DTSTAMP:20260425T182818Z
UID:42f06339-a70d-47c2-9ae8-a936eb9c3c1c
DTSTART:20260612T131500
DTEND:20260612T141500
DESCRIPTION:
LOCATION:Intermediate School
SUMMARY:IS Flag Day
END:VEVENT
BEGIN:VEVENT
DTSTAMP:20260425T182818Z
UID:8a94a524-1530-405a-a44b-8947e38484b5
DTSTART:20260612T180000
DTEND:20260612T200000
DESCRIPTION:
LOCATION:Middle School Cafeteria
SUMMARY:8th Grade Dance
END:VEVENT
BEGIN:VEVENT
DTSTAMP:20260425T182818Z
UID:90a00892-e189-4be2-9b63-d13d3019fb96
DTSTART:20260615T183000
DTEND:20260615T193000
DESCRIPTION:
LOCATION:
SUMMARY:CC PTO Meeting	
END:VEVENT
BEGIN:VEVENT
DTSTAMP:20260425T182818Z
UID:66c37aa6-08df-404e-b907-6e196b8c3d0e
DTSTART;VALUE=DATE:20260616
DTEND;VALUE=DATE:20260617
DESCRIPTION:
LOCATION:
SUMMARY:MS & HS Last Day of Classes	
END:VEVENT
BEGIN:VEVENT
DTSTAMP:20260425T182818Z
UID:58160e0c-1458-49e4-a3a1-4a758f2badd1
DTSTART:20260616T073000
DTEND:20260616T143000
DESCRIPTION:
LOCATION:Middle School & Stadium
SUMMARY:Middle School Carnival	
END:VEVENT
BEGIN:VEVENT
DTSTAMP:20260425T182818Z
UID:29f09623-37dc-4ec2-aba0-94c61a05fcbc
DTSTART:20260616T093000
DTEND:20260616T103000
DESCRIPTION:
LOCATION:Primary School
SUMMARY:PS Kindergarten Performance	
END:VEVENT
BEGIN:VEVENT
DTSTAMP:20260425T182818Z
UID:f98d22fc-8c28-4066-b722-a13bb88f5b16
DTSTART;VALUE=DATE:20260617
DTEND;VALUE=DATE:20260618
DESCRIPTION:
LOCATION:Intermediate School
SUMMARY:IS: Grade 4 Tropical Day	
END:VEVENT
BEGIN:VEVENT
DTSTAMP:20260425T182818Z
UID:b0dbdd3d-6903-44c2-b730-ded290868026
DTSTART;VALUE=DATE:20260617
DTEND;VALUE=DATE:20260618
DESCRIPTION:
LOCATION:
SUMMARY:Regents Exams	
END:VEVENT
BEGIN:VEVENT
DTSTAMP:20260425T182818Z
UID:cd12c5c3-5d09-4bb0-a16e-a29bce35adf8
DTSTART:20260617T093000
DTEND:20260617T103000
DESCRIPTION:
LOCATION:Primary School
SUMMARY:PS Kindergarten Performance	
END:VEVENT
BEGIN:VEVENT
DTSTAMP:20260425T182818Z
UID:a8378d4a-ce05-4fd9-9bac-c20cffde7bcd
DTSTART;VALUE=DATE:20260618
DTEND;VALUE=DATE:20260619
DESCRIPTION:
LOCATION:Intermediate School
SUMMARY:IS: Grade 3 Camp Skeeter
END:VEVENT
BEGIN:VEVENT
DTSTAMP:20260425T182818Z
UID:4f5a7ca2-237a-4781-aa7f-602e96267b44
DTSTART;VALUE=DATE:20260618
DTEND;VALUE=DATE:20260619
DESCRIPTION:
LOCATION:
SUMMARY:Regents Exams
END:VEVENT
BEGIN:VEVENT
DTSTAMP:20260425T182818Z
UID:3c7c31b8-7249-4682-b3ec-e4e95a828859
DTSTART:20260618T083000
DTEND:20260618T140000
DESCRIPTION:
LOCATION:
SUMMARY:IS: Grade 5 Miss Buffalo	
END:VEVENT
BEGIN:VEVENT
DTSTAMP:20260425T182818Z
UID:aed247b1-45fc-4040-ac1c-d62bbdd1ea06
DTSTART:20260618T091500
DTEND:20260618T143000
DESCRIPTION:
LOCATION:Primary School
SUMMARY:PS Field Day
END:VEVENT
BEGIN:VEVENT
DTSTAMP:20260425T182818Z
UID:3fcf689d-ef59-4fb9-b0a6-1f53c01291e1
DTSTART:20260618T130000
DTEND:20260618T143000
DESCRIPTION:
LOCATION:Primary School
SUMMARY:PS 2nd Grade Moving Up Day Parade & Pins	
END:VEVENT
BEGIN:VEVENT
DTSTAMP:20260425T182818Z
UID:bcae5c97-05cd-43f9-aa0f-e55276b5347c
DTSTART;VALUE=DATE:20260619
DTEND;VALUE=DATE:20260620
DESCRIPTION:
LOCATION:
SUMMARY:JUNETEENTH NO SCHOOL	
END:VEVENT
BEGIN:VEVENT
DTSTAMP:20260425T182818Z
UID:4f95ddbd-734e-4cb0-8463-7d5aa071227c
DTSTART;VALUE=DATE:20260622
DTEND;VALUE=DATE:20260623
DESCRIPTION:
LOCATION:
SUMMARY:PS Field Day Rain Date	
END:VEVENT
BEGIN:VEVENT
DTSTAMP:20260425T182818Z
UID:1836d69a-bd76-4584-b25b-e394efde19db
DTSTART;VALUE=DATE:20260622
DTEND;VALUE=DATE:20260623
DESCRIPTION:
LOCATION:
SUMMARY:Regents Exams	
END:VEVENT
BEGIN:VEVENT
DTSTAMP:20260425T182818Z
UID:29fca266-eb02-4f71-8929-8f537c820491
DTSTART:20260622T130000
DTEND:20260622T143000
DESCRIPTION:
LOCATION:Primary School
SUMMARY:PS 2nd Grade Moving Up Day Parade (Rain Date)	
END:VEVENT
BEGIN:VEVENT
DTSTAMP:20260425T182818Z
UID:3df6d14f-638d-45d2-ba07-1ad70ffc724c
DTSTART;VALUE=DATE:20260623
DTEND;VALUE=DATE:20260624
DESCRIPTION:
LOCATION:
SUMMARY:IS Field Day
END:VEVENT
BEGIN:VEVENT
DTSTAMP:20260425T182818Z
UID:45bbab23-42a4-4bfe-81ba-87aea7f9779e
DTSTART;VALUE=DATE:20260623
DTEND;VALUE=DATE:20260624
DESCRIPTION:
LOCATION:
SUMMARY:MS & HS Exams	
END:VEVENT
BEGIN:VEVENT
DTSTAMP:20260425T182818Z
UID:43b19c75-40b9-4b1e-8056-32331ab2571b
DTSTART;VALUE=DATE:20260623
DTEND;VALUE=DATE:20260624
DESCRIPTION:
LOCATION:
SUMMARY:Regents Exams	
END:VEVENT
BEGIN:VEVENT
DTSTAMP:20260425T182818Z
UID:0cc48ed1-97ba-45ed-8679-b2eb9f45a2df
DTSTART:20260623T190000
DTEND:20260623T210000
DESCRIPTION:Paul Krupinski
LOCATION:Planetarium
SUMMARY:MS- Planetarium- 5000 Eyes: Mapping the Universe with DESI
END:VEVENT
BEGIN:VEVENT
DTSTAMP:20260425T182818Z
UID:e67b3f91-cadb-499f-8838-9765a10a6a72
DTSTART;VALUE=DATE:20260624
DTEND;VALUE=DATE:20260625
DESCRIPTION:
LOCATION:
SUMMARY:MS & HS Exams	
END:VEVENT
BEGIN:VEVENT
DTSTAMP:20260425T182818Z
UID:e5b352bc-6ac7-456a-9935-7ae2e1d69788
DTSTART;VALUE=DATE:20260624
DTEND;VALUE=DATE:20260625
DESCRIPTION:
LOCATION:
SUMMARY:Regents Exams	
END:VEVENT
BEGIN:VEVENT
DTSTAMP:20260425T182818Z
UID:66681806-30f2-4f9a-a939-26c94546b3cb
DTSTART;VALUE=DATE:20260624
DTEND;VALUE=DATE:20260625
DESCRIPTION:
LOCATION:
SUMMARY:STAFF DEVELOPMENT PK-5 HALF DAY	
END:VEVENT
BEGIN:VEVENT
DTSTAMP:20260425T182818Z
UID:5435ab2c-3fa6-48f3-ae9b-247ce2b9ab97
DTSTART:20260624T084500
DTEND:20260624T094500
DESCRIPTION:
LOCATION:High School PAC
SUMMARY:5th Grade Moving Up Day
END:VEVENT
BEGIN:VEVENT
DTSTAMP:20260425T182818Z
UID:1bb0767f-4ffd-42e6-b68a-8ed1e2e161cb
DTSTART;VALUE=DATE:20260625
DTEND;VALUE=DATE:20260626
DESCRIPTION:
LOCATION:
SUMMARY:Regents Exams	
END:VEVENT
BEGIN:VEVENT
DTSTAMP:20260425T182818Z
UID:45e608f1-7d76-48db-a5b5-afb64c6075d7
DTSTART;VALUE=DATE:20260625
DTEND;VALUE=DATE:20260626
DESCRIPTION:
LOCATION:
SUMMARY:STAFF DEVELOPMENT PK-5 HALF DAY	
END:VEVENT
BEGIN:VEVENT
DTSTAMP:20260425T182818Z
UID:4ebb95d2-d4b7-4e5e-a24a-3115a59f77ad
DTSTART:20260625T080000
DTEND:20260625T090000
DESCRIPTION:
LOCATION:High School PAC
SUMMARY:8th Grade Moving Up Day
END:VEVENT
BEGIN:VEVENT
DTSTAMP:20260425T182818Z
UID:5259ee6e-d8b1-4395-a877-b4ab57971ad0
DTSTART:20260625T110000
DTEND:20260625T120000
DESCRIPTION:
LOCATION:High School PAC
SUMMARY:Graduation Rehearsal
END:VEVENT
BEGIN:VEVENT
DTSTAMP:20260425T182818Z
UID:b8a7322f-4833-4c91-9d35-6730eeb338a4
DTSTART;VALUE=DATE:20260626
DTEND;VALUE=DATE:20260627
DESCRIPTION:
LOCATION:
SUMMARY:Fourth Marking Period Ends	
END:VEVENT
BEGIN:VEVENT
DTSTAMP:20260425T182818Z
UID:a9ac58bb-e4c1-464a-8a4e-b530d3203d63
DTSTART;VALUE=DATE:20260626
DTEND;VALUE=DATE:20260627
DESCRIPTION:
LOCATION:
SUMMARY:Rating Day/Staff Development - Staff Only	
END:VEVENT
BEGIN:VEVENT
DTSTAMP:20260425T182818Z
UID:e6bf7e71-61f9-4e43-9379-b9bf2d41674a
DTSTART:20260626T180000
DTEND:20260626T210000
DESCRIPTION:
LOCATION:UB
SUMMARY:Graduation
END:VEVENT
BEGIN:VEVENT
DTSTAMP:20260425T182818Z
UID:9c97ce0b-d7cf-489a-88c1-1f56d4b6e0a5
DTSTART:20260630T190000
DTEND:20260630T210000
DESCRIPTION:Paul Krupinski
LOCATION:Planetarium
SUMMARY:MS- Planetarium- 5000 Eyes: Mapping the Universe with DESI
END:VEVENT
BEGIN:VEVENT
DTSTAMP:20260425T182818Z
UID:785cd265-4ac6-423d-b6f8-1e6554593424
DTSTART;VALUE=DATE:20260902
DTEND;VALUE=DATE:20260904
DESCRIPTION:
LOCATION:
SUMMARY:STAFF DEVELOPMENT DAY - Staff Only
END:VEVENT
BEGIN:VEVENT
DTSTAMP:20260425T182818Z
UID:a72073e2-e736-49f1-8b0e-e8882d531f87
DTSTART;VALUE=DATE:20260907
DTEND;VALUE=DATE:20260908
DESCRIPTION:
LOCATION:
SUMMARY:LABOR DAY - No School
END:VEVENT
BEGIN:VEVENT
DTSTAMP:20260425T182818Z
UID:de9410c6-4379-4b04-98ec-93a169b298b3
DTSTART;VALUE=DATE:20260908
DTEND;VALUE=DATE:20260909
DESCRIPTION:
LOCATION:
SUMMARY:First Student Day
END:VEVENT
BEGIN:VEVENT
DTSTAMP:20260425T182818Z
UID:07028362-ec80-4e6f-bfd0-442d4894e886
DTSTART;VALUE=DATE:20261002
DTEND;VALUE=DATE:20261003
DESCRIPTION:
LOCATION:
SUMMARY:Emergency Drill/ Early Dismissal (15 min.)
END:VEVENT
BEGIN:VEVENT
DTSTAMP:20260425T182818Z
UID:89f8a6b0-9aa0-4f45-93ad-37fb019fd73c
DTSTART;VALUE=DATE:20261012
DTEND;VALUE=DATE:20261013
DESCRIPTION:
LOCATION:
SUMMARY:Indigenous Peoples' Day - No School
END:VEVENT
BEGIN:VEVENT
DTSTAMP:20260425T182818Z
UID:1940c82c-b2bb-4244-8869-36e9e280050a
DTSTART;VALUE=DATE:20261030
DTEND;VALUE=DATE:20261031
DESCRIPTION:
LOCATION:
SUMMARY:PK-12- Curriculum Workshop - 1/2 day
END:VEVENT
BEGIN:VEVENT
DTSTAMP:20260425T182818Z
UID:0c0253d5-1da5-4e37-abe2-c406751d9c36
DTSTART;VALUE=DATE:20261111
DTEND;VALUE=DATE:20261112
DESCRIPTION:
LOCATION:
SUMMARY:Veteran's Day Observance - No School
END:VEVENT
BEGIN:VEVENT
DTSTAMP:20260425T182818Z
UID:662640d5-e002-4d14-a3f3-9ecf2ffc8cd7
DTSTART;VALUE=DATE:20261126
DTEND;VALUE=DATE:20261128
DESCRIPTION:
LOCATION:
SUMMARY:Thanksgiving Recess - No School
END:VEVENT
BEGIN:VEVENT
DTSTAMP:20260425T182818Z
UID:68a7691f-dc4b-4041-a4f9-140b55a547c8
DTSTART;VALUE=DATE:20261211
DTEND;VALUE=DATE:20261212
DESCRIPTION:
LOCATION:
SUMMARY:Half Day PT Conferences - PK-12
END:VEVENT
BEGIN:VEVENT
DTSTAMP:20260425T182818Z
UID:6cce6bbc-18b9-4784-9c9b-41fe435c2a01
DTSTART;VALUE=DATE:20261214
DTEND;VALUE=DATE:20261215
DESCRIPTION:
LOCATION:
SUMMARY:PK-12 Full Day Parent/Teacher Conferences - No School
END:VEVENT
BEGIN:VEVENT
DTSTAMP:20260425T182818Z
UID:6ab4e0ef-5070-48a4-b4c4-b8482616d8f0
DTSTART;VALUE=DATE:20261224
DTEND;VALUE=DATE:20270102
DESCRIPTION:
LOCATION:
SUMMARY:Holiday Recess - No School
END:VEVENT
BEGIN:VEVENT
DTSTAMP:20260425T182818Z
UID:9a24c6b7-f006-49bc-8d0f-9e90ccf6defc
DTSTART;VALUE=DATE:20270108
DTEND;VALUE=DATE:20270109
DESCRIPTION:
LOCATION:
SUMMARY:PK-12- Curriculum Workshop - 1/2 day
END:VEVENT
BEGIN:VEVENT
DTSTAMP:20260425T182818Z
UID:68e55062-fa3c-4b2e-8015-6d246dd6654f
DTSTART;VALUE=DATE:20270118
DTEND;VALUE=DATE:20270119
DESCRIPTION:
LOCATION:
SUMMARY:Martin Luther King's Birthday - No School
END:VEVENT
BEGIN:VEVENT
DTSTAMP:20260425T182818Z
UID:8210948b-aeb2-4f6e-9835-ecac12fc6124
DTSTART;VALUE=DATE:20270201
DTEND;VALUE=DATE:20270202
DESCRIPTION:
LOCATION:
SUMMARY:Records Day - No School PK-12
END:VEVENT
BEGIN:VEVENT
DTSTAMP:20260425T182818Z
UID:9b40fe51-dae6-4a77-b395-a996522c453a
DTSTART;VALUE=DATE:20270215
DTEND;VALUE=DATE:20270220
DESCRIPTION:
LOCATION:
SUMMARY:Mid-Winter Recess - No School
END:VEVENT
BEGIN:VEVENT
DTSTAMP:20260425T182818Z
UID:013cf46c-bbec-4eac-a0d5-4bfbb1c776d9
DTSTART;VALUE=DATE:20270312
DTEND;VALUE=DATE:20270313
DESCRIPTION:
LOCATION:
SUMMARY:PK-12 Curriculum Workshop - 1/2 day
END:VEVENT
BEGIN:VEVENT
DTSTAMP:20260425T182818Z
UID:a75dc1fa-efe2-4bbd-92f3-de5a502b6f47
DTSTART;VALUE=DATE:20270326
DTEND;VALUE=DATE:20270403
DESCRIPTION:
LOCATION:
SUMMARY:Spring Recess - No School
END:VEVENT
BEGIN:VEVENT
DTSTAMP:20260425T182818Z
UID:89d0a685-cacb-4865-bed4-942a108f7e4e
DTSTART;VALUE=DATE:20270518
DTEND;VALUE=DATE:20270519
DESCRIPTION:
LOCATION:
SUMMARY:Annual School Budget Vote/Election
END:VEVENT
BEGIN:VEVENT
DTSTAMP:20260425T182818Z
UID:6e92a63b-233c-4f96-a5fd-1fa594ac178f
DTSTART;VALUE=DATE:20270531
DTEND;VALUE=DATE:20270601
DESCRIPTION:
LOCATION:
SUMMARY:Memorial Day - No School
END:VEVENT
BEGIN:VEVENT
DTSTAMP:20260425T182818Z
UID:a7192fea-93a6-472e-9867-496311a9679b
DTSTART;VALUE=DATE:20270618
DTEND;VALUE=DATE:20270619
DESCRIPTION:
LOCATION:
SUMMARY:Superintendent Conference Day - No School
END:VEVENT
BEGIN:VEVENT
DTSTAMP:20260425T182818Z
UID:ea38ed6c-bc4f-47b4-9cdb-5117b35437d4
DTSTART;VALUE=DATE:20270621
DTEND;VALUE=DATE:20270622
DESCRIPTION:
LOCATION:
SUMMARY:PK-5- Curriculum Workshop - 1/2 day
END:VEVENT
BEGIN:VEVENT
DTSTAMP:20260425T182818Z
UID:001e82d4-989a-490a-ad84-3ce9cfa0fb3e
DTSTART;VALUE=DATE:20270622
DTEND;VALUE=DATE:20270623
DESCRIPTION:
LOCATION:
SUMMARY:PK-5- Curriculum Workshop - 1/2 day
END:VEVENT
BEGIN:VEVENT
DTSTAMP:20260425T182818Z
UID:5b25e964-3c46-4901-a161-88e8a005fd2f
DTSTART;VALUE=DATE:20270623
DTEND;VALUE=DATE:20270624
DESCRIPTION:
LOCATION:
SUMMARY:PK-5- Curriculum Workshop - 1/2 day
END:VEVENT
BEGIN:VEVENT
DTSTAMP:20260425T182818Z
UID:872a9be2-35da-4e32-b615-a52cdda0a058
DTSTART;VALUE=DATE:20270624
DTEND;VALUE=DATE:20270625
DESCRIPTION:
LOCATION:
SUMMARY:PK-5- Curriculum Workshop - 1/2 day
END:VEVENT
BEGIN:VEVENT
DTSTAMP:20260425T182818Z
UID:c173739d-9f4c-41c9-aa67-ea4118244ae6
DTSTART;VALUE=DATE:20270625
DTEND;VALUE=DATE:20270626
DESCRIPTION:
LOCATION:
SUMMARY:Graduation
END:VEVENT
BEGIN:VEVENT
DTSTAMP:20260425T182818Z
UID:f69ba6cf-c08a-456e-a93d-10815692f068
DTSTART;VALUE=DATE:20270625
DTEND;VALUE=DATE:20270626
DESCRIPTION:
LOCATION:
SUMMARY:Regents Rating Day/Staff Development - Staff Only
END:VEVENT
END:VCALENDAR
