BEGIN:VCALENDAR
VERSION:2.0
PRODID:icalendar-ruby
CALSCALE:GREGORIAN
BEGIN:VTIMEZONE
TZID:America/New_York
BEGIN:DAYLIGHT
DTSTART:20260308T030000
TZOFFSETFROM:-0500
TZOFFSETTO:-0400
RRULE:FREQ=YEARLY;BYDAY=2SU;BYMONTH=3
TZNAME:EDT
END:DAYLIGHT
BEGIN:STANDARD
DTSTART:20261101T010000
TZOFFSETFROM:-0400
TZOFFSETTO:-0500
RRULE:FREQ=YEARLY;BYDAY=1SU;BYMONTH=11
TZNAME:EST
END:STANDARD
END:VTIMEZONE
BEGIN:VEVENT
DTSTAMP:20260425T145309Z
UID:61bc6d98-b0c8-4cf9-9735-5d542940a493
DTSTART:20260501T183000
DTEND:20260501T203000
DESCRIPTION:<p>Pennsville girls grades PreK through 8th grade are invited t
 o the Daddy Daughter dance. See details <a target="_blank" rel="noopener n
 oreferrer nofollow" href="https://aptg.co/s1TSD6" relative-link="">here</a
 >.</p>
LOCATION:110 S Broadway\, Pennsville\, NJ 08070\, USA
SUMMARY:Daddy Daughter Dance
END:VEVENT
BEGIN:VEVENT
DTSTAMP:20260425T145309Z
UID:3ead32e9-d0f4-4230-9df2-ef0b0d7a8fe6
DTSTART:20260501T183000
DTEND:20260501T203000
DESCRIPTION:<p>Pennsville boys are invited to the Mom and Son Superhero Gam
 e night. See details <a target="_blank" rel="noopener noreferrer nofollow"
  href="https://aptg.co/0-Mmf2" relative-link="">here</a>.</p>
LOCATION:4 William Penn Ave\, Pennsville\, NJ 08070\, USA
SUMMARY:Mom and Son Superhero Game Night
END:VEVENT
END:VCALENDAR
