BEGIN:VCALENDAR
VERSION:2.0
PRODID:icalendar-ruby
CALSCALE:GREGORIAN
BEGIN:VTIMEZONE
TZID:America/New_York
BEGIN:DAYLIGHT
DTSTART:20260308T030000
TZOFFSETFROM:-0500
TZOFFSETTO:-0400
RRULE:FREQ=YEARLY;BYDAY=2SU;BYMONTH=3
TZNAME:EDT
END:DAYLIGHT
BEGIN:STANDARD
DTSTART:20261101T010000
TZOFFSETFROM:-0400
TZOFFSETTO:-0500
RRULE:FREQ=YEARLY;BYDAY=1SU;BYMONTH=11
TZNAME:EST
END:STANDARD
END:VTIMEZONE
BEGIN:VEVENT
DTSTAMP:20260420T080208Z
UID:e9360df6-b0b9-43f3-ada3-ad804e03b7c6
DTSTART:20260420T180000
DTEND:20260420T183000
DESCRIPTION:
LOCATION:
SUMMARY:Activities Committee Meeting
END:VEVENT
BEGIN:VEVENT
DTSTAMP:20260420T080208Z
UID:55e35006-a1a3-491f-a94e-26aa0636f2b4
DTSTART:20260420T183000
DTEND:20260420T190000
DESCRIPTION:
LOCATION:
SUMMARY:Curriculum Committee Meeting
END:VEVENT
BEGIN:VEVENT
DTSTAMP:20260420T080208Z
UID:1b01c58e-5d9c-40da-9b1b-7bacbf65558a
DTSTART:20260420T190000
DTEND:20260420T220000
DESCRIPTION:
LOCATION:
SUMMARY:School Board Meeting
END:VEVENT
BEGIN:VEVENT
DTSTAMP:20260420T080208Z
UID:da368951-25e9-458f-a655-b76c7519fe44
DTSTART:20260511T180000
DTEND:20260511T220000
DESCRIPTION:
LOCATION:
SUMMARY:Facilities & Finance Committee Meeting
END:VEVENT
BEGIN:VEVENT
DTSTAMP:20260420T080208Z
UID:c684af24-7513-46a1-83fa-db0b156c871b
DTSTART:20260518T180000
DTEND:20260518T183000
DESCRIPTION:
LOCATION:
SUMMARY:Activities Committee Meeting
END:VEVENT
BEGIN:VEVENT
DTSTAMP:20260420T080208Z
UID:00585651-4521-49db-9e71-ac00e4fc3476
DTSTART:20260518T183000
DTEND:20260518T190000
DESCRIPTION:
LOCATION:
SUMMARY:Curriculum Committee Meeting
END:VEVENT
BEGIN:VEVENT
DTSTAMP:20260420T080208Z
UID:8d68ce81-ce3d-424a-b75f-56d85151535d
DTSTART:20260518T190000
DTEND:20260518T220000
DESCRIPTION:
LOCATION:
SUMMARY:School Board Meeting
END:VEVENT
BEGIN:VEVENT
DTSTAMP:20260420T080208Z
UID:d3aee2b2-b5f5-4d00-94e0-f5a8a39f5997
DTSTART;VALUE=DATE:20260522
DTEND;VALUE=DATE:20260523
DESCRIPTION:
LOCATION:
SUMMARY:Early Dismissal - Students dismissing at 11:00am
END:VEVENT
BEGIN:VEVENT
DTSTAMP:20260420T080208Z
UID:53741755-4fbe-495a-9098-0486f01e2873
DTSTART;VALUE=DATE:20260525
DTEND;VALUE=DATE:20260526
DESCRIPTION:
LOCATION:
SUMMARY:School & Offices Closed
END:VEVENT
BEGIN:VEVENT
DTSTAMP:20260420T080208Z
UID:09c3ff11-f588-4daa-8e3e-06a085486332
DTSTART;VALUE=DATE:20260529
DTEND;VALUE=DATE:20260530
DESCRIPTION:
LOCATION:
SUMMARY:Last Day of School for Students - Dismissal at 10:30am
END:VEVENT
BEGIN:VEVENT
DTSTAMP:20260420T080208Z
UID:f4c4f10f-932b-4bae-a419-438feee986a7
DTSTART;VALUE=DATE:20260601
DTEND;VALUE=DATE:20260602
DESCRIPTION:
LOCATION:
SUMMARY:Last Day of School for Staff - Dismissal at 11:15am
END:VEVENT
BEGIN:VEVENT
DTSTAMP:20260420T080208Z
UID:83b756a1-6a87-4456-8296-ec9265005cae
DTSTART:20260608T180000
DTEND:20260608T220000
DESCRIPTION:
LOCATION:
SUMMARY:Facilities & Finance Committee Meeting
END:VEVENT
BEGIN:VEVENT
DTSTAMP:20260420T080208Z
UID:fa043bfa-1f20-4a56-92cb-7b8b7b784066
DTSTART:20260615T180000
DTEND:20260615T183000
DESCRIPTION:
LOCATION:
SUMMARY:Activities Committee Meeting
END:VEVENT
BEGIN:VEVENT
DTSTAMP:20260420T080208Z
UID:c94fb834-2bc8-40ac-a19a-cdd1e70dd3e2
DTSTART:20260615T183000
DTEND:20260615T190000
DESCRIPTION:
LOCATION:
SUMMARY:Curriculum Committee Meeting
END:VEVENT
BEGIN:VEVENT
DTSTAMP:20260420T080208Z
UID:caff5e42-3c1c-439f-aefe-ea6008c2999c
DTSTART:20260615T190000
DTEND:20260615T220000
DESCRIPTION:
LOCATION:
SUMMARY:School Board Meeting
END:VEVENT
BEGIN:VEVENT
DTSTAMP:20260420T080208Z
UID:dc7c9b86-2121-41d4-b6c5-5d018e7ba0cc
DTSTART:20260720T190000
DTEND:20260720T220000
DESCRIPTION:
LOCATION:
SUMMARY:School Board Meeting
END:VEVENT
BEGIN:VEVENT
DTSTAMP:20260420T080208Z
UID:7ca0aa31-d3b3-42c6-a7fa-a787455e175e
DTSTART:20260817T190000
DTEND:20260817T220000
DESCRIPTION:
LOCATION:
SUMMARY:School Board Meeting
END:VEVENT
BEGIN:VEVENT
DTSTAMP:20260420T080208Z
UID:203770e4-16b5-42f5-b1da-aae730967123
DTSTART:20260921T190000
DTEND:20260921T220000
DESCRIPTION:
LOCATION:
SUMMARY:School Board Meeting
END:VEVENT
BEGIN:VEVENT
DTSTAMP:20260420T080208Z
UID:be73a59b-353b-419c-8350-b3c015a3858c
DTSTART:20261019T190000
DTEND:20261019T220000
DESCRIPTION:
LOCATION:
SUMMARY:School Board Meeting
END:VEVENT
BEGIN:VEVENT
DTSTAMP:20260420T080208Z
UID:614a0c80-d030-4176-8060-1004c43115d8
DTSTART:20261116T190000
DTEND:20261116T220000
DESCRIPTION:
LOCATION:
SUMMARY:School Board Meeting
END:VEVENT
END:VCALENDAR
