BEGIN:VCALENDAR
VERSION:2.0
PRODID:icalendar-ruby
CALSCALE:GREGORIAN
BEGIN:VTIMEZONE
TZID:America/New_York
BEGIN:DAYLIGHT
DTSTART:20260308T030000
TZOFFSETFROM:-0500
TZOFFSETTO:-0400
RRULE:FREQ=YEARLY;BYDAY=2SU;BYMONTH=3
TZNAME:EDT
END:DAYLIGHT
BEGIN:STANDARD
DTSTART:20261101T010000
TZOFFSETFROM:-0400
TZOFFSETTO:-0500
RRULE:FREQ=YEARLY;BYDAY=1SU;BYMONTH=11
TZNAME:EST
END:STANDARD
END:VTIMEZONE
BEGIN:VEVENT
DTSTAMP:20260420T035845Z
UID:925e7ae6-730f-451f-ac3e-d9e11b30e3fb
DTSTART;VALUE=DATE:20260420
DTEND;VALUE=DATE:20260425
DESCRIPTION:
LOCATION:Palermo\, ME\, USA
SUMMARY:No School (April Vacation Week)
END:VEVENT
BEGIN:VEVENT
DTSTAMP:20260420T035845Z
UID:80a153e5-b226-4e77-9db5-4c386b72f40d
DTSTART:20260427T143000
DTEND:20260427T153000
DESCRIPTION:<p>Contact Mrs. Sturgis for questions @ lsturgis@svrsu.org.</p>
LOCATION:Palermo\, ME\, USA
SUMMARY:Walking Club (Gr. 2-8)
END:VEVENT
BEGIN:VEVENT
DTSTAMP:20260420T035845Z
UID:a209330d-90c3-406f-b843-c22be87c35b4
DTSTART:20260429T080000
DTEND:20260429T133000
DESCRIPTION:
LOCATION:Palermo\, ME\, USA
SUMMARY:Early Release (every Wednesday)
END:VEVENT
BEGIN:VEVENT
DTSTAMP:20260420T035845Z
UID:aaf241ea-015a-4ecb-a259-afb545750d6d
DTSTART;VALUE=DATE:20260430
DTEND;VALUE=DATE:20260501
DESCRIPTION:
LOCATION:Palermo\, ME\, USA
SUMMARY:Book Fair Starts Today
END:VEVENT
BEGIN:VEVENT
DTSTAMP:20260420T035845Z
UID:935a1cb5-f152-4a24-be98-697544ea6b5b
DTSTART:20260430T143000
DTEND:20260430T153000
DESCRIPTION:<p>Contact Mrs. Sturgis for questions @ lsturgis@svrsu.org.</p>
LOCATION:Palermo\, ME\, USA
SUMMARY:Walking Club (Gr. 2-8)
END:VEVENT
BEGIN:VEVENT
DTSTAMP:20260420T035845Z
UID:8acb828c-8f57-4972-aa8e-ca0c66c61893
DTSTART:20260506T080000
DTEND:20260506T133000
DESCRIPTION:
LOCATION:Palermo\, ME\, USA
SUMMARY:Early Release (every Wednesday)
END:VEVENT
BEGIN:VEVENT
DTSTAMP:20260420T035845Z
UID:8cf4cab0-6072-4a80-913e-773f2adf406c
DTSTART:20260507T170000
DTEND:20260507T180000
DESCRIPTION:
LOCATION:Palermo\, ME\, USA
SUMMARY:Ed. Fair
END:VEVENT
BEGIN:VEVENT
DTSTAMP:20260420T035845Z
UID:cd0e2eaa-d419-48bf-a845-1361c3688de7
DTSTART:20260508T180000
DTEND:20260508T200000
DESCRIPTION:<p>$5 per family</p><p> Receive $1 off admission when you donat
 e cat/kitten itesms.</p><p>Music -Photo Booth</p><p>Concessions-Raffle</p>
LOCATION:Palermo\, ME\, USA
SUMMARY:Spring Fling Family Dance
END:VEVENT
BEGIN:VEVENT
DTSTAMP:20260420T035845Z
UID:7378dc92-d07a-4ab9-96f3-88befafd6a9c
DTSTART:20260513T080000
DTEND:20260513T133000
DESCRIPTION:
LOCATION:Palermo\, ME\, USA
SUMMARY:Early Release (every Wednesday)
END:VEVENT
BEGIN:VEVENT
DTSTAMP:20260420T035845Z
UID:559ed9ca-a432-4e81-ba8d-a5197ee2166d
DTSTART:20260520T080000
DTEND:20260520T133000
DESCRIPTION:
LOCATION:Palermo\, ME\, USA
SUMMARY:Early Release (every Wednesday)
END:VEVENT
BEGIN:VEVENT
DTSTAMP:20260420T035845Z
UID:f50ec625-5f48-42f6-a31f-8aa2566e5269
DTSTART;VALUE=DATE:20260525
DTEND;VALUE=DATE:20260526
DESCRIPTION:
LOCATION:Palermo\, ME\, USA
SUMMARY:No School (Memorial Day)
END:VEVENT
BEGIN:VEVENT
DTSTAMP:20260420T035845Z
UID:04cdf4aa-9d87-44d3-8228-8f96ccf0d303
DTSTART:20260527T080000
DTEND:20260527T133000
DESCRIPTION:
LOCATION:Palermo\, ME\, USA
SUMMARY:Early Release (every Wednesday)
END:VEVENT
BEGIN:VEVENT
DTSTAMP:20260420T035845Z
UID:cbbbf99b-7583-452d-9044-66d6d86e3eb5
DTSTART;VALUE=DATE:20260603
DTEND;VALUE=DATE:20260604
DESCRIPTION:
LOCATION:Palermo\, ME\, USA
SUMMARY:Grades Close (Trimester 3)
END:VEVENT
BEGIN:VEVENT
DTSTAMP:20260420T035845Z
UID:8f987ccf-3e9c-4d84-8815-38261293d22a
DTSTART:20260603T080000
DTEND:20260603T133000
DESCRIPTION:
LOCATION:Palermo\, ME\, USA
SUMMARY:Early Release (every Wednesday)
END:VEVENT
BEGIN:VEVENT
DTSTAMP:20260420T035845Z
UID:16bb3476-4793-4d26-96c7-c280106d8b4c
DTSTART:20260608T080000
DTEND:20260608T113000
DESCRIPTION:
LOCATION:Palermo\, ME\, USA
SUMMARY:Last Day of School (if no storm days used)
END:VEVENT
END:VCALENDAR
