BEGIN:VCALENDAR
VERSION:2.0
PRODID:icalendar-ruby
CALSCALE:GREGORIAN
BEGIN:VTIMEZONE
TZID:America/Los_Angeles
BEGIN:DAYLIGHT
DTSTART:20260308T030000
TZOFFSETFROM:-0800
TZOFFSETTO:-0700
RRULE:FREQ=YEARLY;BYDAY=2SU;BYMONTH=3
TZNAME:PDT
END:DAYLIGHT
BEGIN:STANDARD
DTSTART:20261101T010000
TZOFFSETFROM:-0700
TZOFFSETTO:-0800
RRULE:FREQ=YEARLY;BYDAY=1SU;BYMONTH=11
TZNAME:PST
END:STANDARD
END:VTIMEZONE
BEGIN:VEVENT
DTSTAMP:20260422T213227Z
UID:6e3c0ae5-c9fd-4dbe-a304-a51da573ec44
DTSTART;VALUE=DATE:20260427
DTEND;VALUE=DATE:20260428
DESCRIPTION:
LOCATION:
SUMMARY:Minimum Day-1:15pm Dismissal Grades K-5
END:VEVENT
BEGIN:VEVENT
DTSTAMP:20260422T213227Z
UID:b935dfff-1ba5-4183-9838-3c57c487b4ff
DTSTART:20260514T170000
DTEND:20260514T190000
DESCRIPTION:<p>Open House at Perdew</p><p>Time: 5:00pm - 7:00pm</p><p></p>
LOCATION:
SUMMARY:Perdew Elementary Open House
END:VEVENT
BEGIN:VEVENT
DTSTAMP:20260422T213227Z
UID:cc795ec5-731b-490b-b376-b0089363a5ab
DTSTART:20260518T090000
DTEND:20260518T100000
DESCRIPTION:<h5 style="text-align: left">5th Grade Promotion Day!!</h5><h5 
 style="text-align: left"><strong>🎓 Congratulations to Our 5th Grade Sch
 olars on Their Promotion to Middle School!</strong></h5><h5 style="text-al
 ign: left"><strong>Best wishes as you take the next step to middle school.
  The future is bright!</strong></h5><h5 style="text-align: left">Time: 9:0
 0am - 10:00am</h5>
LOCATION:
SUMMARY:5th Grade Promotion Day!!
END:VEVENT
BEGIN:VEVENT
DTSTAMP:20260422T213227Z
UID:816857a7-c267-40c4-bb38-12b634560f1b
DTSTART:20260519T111500
DTEND:20260519T125000
DESCRIPTION:<p>At Perdew Elementary Trimester 3 VIP Lunches.</p><p>VIP lunc
 h is from 11:15a - 12:50pm</p>
LOCATION:
SUMMARY:Trimester 3 VIP lunches
END:VEVENT
BEGIN:VEVENT
DTSTAMP:20260422T213227Z
UID:e971b341-fc02-48ab-a7d4-8d22a18c961b
DTSTART;VALUE=DATE:20260521
DTEND;VALUE=DATE:20260522
DESCRIPTION:<p>Enjoy your Summer Break!</p>
LOCATION:
SUMMARY:Last Day of School- Minimum Day Dismissal 1:15pm
END:VEVENT
BEGIN:VEVENT
DTSTAMP:20260422T213227Z
UID:3196ac6b-7d8f-410f-b9f0-1cbb6edb9300
DTSTART:20260806T081500
DTEND:20260806T090000
DESCRIPTION:<p>Happy First Day of School! </p><p>Yes it is minimum day. </p
 >
LOCATION:
SUMMARY:First Day of School- Minimum Day K-5
END:VEVENT
BEGIN:VEVENT
DTSTAMP:20260422T213227Z
UID:d96c5fff-e4ae-4ed9-b82e-020fce7da6b4
DTSTART;VALUE=DATE:20260810
DTEND;VALUE=DATE:20260811
DESCRIPTION:
LOCATION:
SUMMARY:Minimum Day-1:15pm Dismissal Grades K-5
END:VEVENT
BEGIN:VEVENT
DTSTAMP:20260422T213227Z
UID:052444ca-1ee6-4e09-9485-0aa5113bfc1e
DTSTART;VALUE=DATE:20260817
DTEND;VALUE=DATE:20260818
DESCRIPTION:
LOCATION:
SUMMARY:Minimum Day-1:15pm Dismissal Grades K-5
END:VEVENT
BEGIN:VEVENT
DTSTAMP:20260422T213227Z
UID:4165cd11-56fc-4b01-9b35-efe8ba55b0ad
DTSTART;VALUE=DATE:20260824
DTEND;VALUE=DATE:20260825
DESCRIPTION:
LOCATION:
SUMMARY:Minimum Day-1:15pm Dismissal Grades K-5
END:VEVENT
BEGIN:VEVENT
DTSTAMP:20260422T213227Z
UID:8a8ea2d5-bee3-4261-a3e1-abd4a568866f
DTSTART;VALUE=DATE:20260831
DTEND;VALUE=DATE:20260901
DESCRIPTION:
LOCATION:
SUMMARY:Minimum Day-1:15pm Dismissal Grades K-5
END:VEVENT
BEGIN:VEVENT
DTSTAMP:20260422T213227Z
UID:8792bd79-6139-4de2-a9d6-60abee6693b0
DTSTART;VALUE=DATE:20260907
DTEND;VALUE=DATE:20260908
DESCRIPTION:
LOCATION:
SUMMARY:No School- Labor Day
END:VEVENT
BEGIN:VEVENT
DTSTAMP:20260422T213227Z
UID:5dd7eb6e-c0bc-4acc-83c0-8abcb093850d
DTSTART;VALUE=DATE:20260914
DTEND;VALUE=DATE:20260915
DESCRIPTION:
LOCATION:
SUMMARY:Minimum Day-1:15pm Dismissal Grades K-5
END:VEVENT
BEGIN:VEVENT
DTSTAMP:20260422T213227Z
UID:c40d02f8-6a6f-4df0-b863-def8e6242f10
DTSTART;VALUE=DATE:20260918
DTEND;VALUE=DATE:20260919
DESCRIPTION:
LOCATION:
SUMMARY:No School-Non-Student Day
END:VEVENT
BEGIN:VEVENT
DTSTAMP:20260422T213227Z
UID:90e68b7c-6fbd-40fe-bb5b-063470bec0bb
DTSTART;VALUE=DATE:20260921
DTEND;VALUE=DATE:20260922
DESCRIPTION:
LOCATION:
SUMMARY:Minimum Day-1:15pm Dismissal Grades K-5
END:VEVENT
BEGIN:VEVENT
DTSTAMP:20260422T213227Z
UID:b10893b4-be9b-41eb-8ab0-47308029313a
DTSTART;VALUE=DATE:20260928
DTEND;VALUE=DATE:20261003
DESCRIPTION:<h5 style="text-align: left"><strong>Family Conference Week</st
 rong></h5><p></p>
LOCATION:
SUMMARY:Minimum Day-1:15pm Dismissal Grades K-5 
END:VEVENT
END:VCALENDAR
