BEGIN:VCALENDAR
VERSION:2.0
PRODID:icalendar-ruby
CALSCALE:GREGORIAN
BEGIN:VTIMEZONE
TZID:America/Los_Angeles
BEGIN:DAYLIGHT
DTSTART:20260308T030000
TZOFFSETFROM:-0800
TZOFFSETTO:-0700
RRULE:FREQ=YEARLY;BYDAY=2SU;BYMONTH=3
TZNAME:PDT
END:DAYLIGHT
BEGIN:STANDARD
DTSTART:20261101T010000
TZOFFSETFROM:-0700
TZOFFSETTO:-0800
RRULE:FREQ=YEARLY;BYDAY=1SU;BYMONTH=11
TZNAME:PST
END:STANDARD
END:VTIMEZONE
BEGIN:VEVENT
DTSTAMP:20260424T083552Z
UID:48cf8ad7-aee9-4d15-ab48-1b15bdf948f1
DTSTART;VALUE=DATE:20260427
DTEND;VALUE=DATE:20260428
DESCRIPTION:
LOCATION:
SUMMARY:Minimum Day-1:15pm Dismissal Grades K-5
END:VEVENT
BEGIN:VEVENT
DTSTAMP:20260424T083552Z
UID:c8d8d452-7695-4b7d-a728-dfbefcb04834
DTSTART;VALUE=DATE:20260504
DTEND;VALUE=DATE:20260505
DESCRIPTION:
LOCATION:
SUMMARY:Minimum Day-1:15pm Dismissal Grades K-5
END:VEVENT
BEGIN:VEVENT
DTSTAMP:20260424T083552Z
UID:f1ffc361-dae0-422a-9fc4-dcd5f5811620
DTSTART;VALUE=DATE:20260504
DTEND;VALUE=DATE:20260509
DESCRIPTION:<p>TBA-Flyer</p>
LOCATION:
SUMMARY:Teachers Appreciation Week 
END:VEVENT
BEGIN:VEVENT
DTSTAMP:20260424T083552Z
UID:8a109c4d-0c69-476a-b997-e5c7cfe94016
DTSTART;VALUE=DATE:20260507
DTEND;VALUE=DATE:20260508
DESCRIPTION:
LOCATION:
SUMMARY:AR Reward Trip: Chuck E Cheese
END:VEVENT
BEGIN:VEVENT
DTSTAMP:20260424T083552Z
UID:3c80642e-cc22-4665-a696-a11353b6656a
DTSTART;VALUE=DATE:20260508
DTEND;VALUE=DATE:20260509
DESCRIPTION:
LOCATION:
SUMMARY:End of AR Goal #6
END:VEVENT
BEGIN:VEVENT
DTSTAMP:20260424T083552Z
UID:0472a9ca-0a3c-4e5d-b4e3-5ab235c07bee
DTSTART;VALUE=DATE:20260511
DTEND;VALUE=DATE:20260512
DESCRIPTION:
LOCATION:
SUMMARY:Minimum Day-1:15pm Dismissal Grades K-5
END:VEVENT
BEGIN:VEVENT
DTSTAMP:20260424T083552Z
UID:bb7b4a41-8b72-405a-bb89-a02d08adbc4d
DTSTART;VALUE=DATE:20260512
DTEND;VALUE=DATE:20260513
DESCRIPTION:<p>TBA-Flyer</p>
LOCATION:
SUMMARY:PTA- Association Meeting F3
END:VEVENT
BEGIN:VEVENT
DTSTAMP:20260424T083552Z
UID:fa3732b8-0448-40bc-97d0-83ccecee9310
DTSTART;VALUE=DATE:20260514
DTEND;VALUE=DATE:20260515
DESCRIPTION:
LOCATION:
SUMMARY:Student of the Month 
END:VEVENT
BEGIN:VEVENT
DTSTAMP:20260424T083552Z
UID:5d0926af-4c66-4f0d-a375-68422c733e62
DTSTART;VALUE=DATE:20260518
DTEND;VALUE=DATE:20260519
DESCRIPTION:
LOCATION:
SUMMARY:Minimum Day-1:15pm Dismissal Grades K-5
END:VEVENT
BEGIN:VEVENT
DTSTAMP:20260424T083552Z
UID:48b0bb9e-ef15-42ab-b950-50b65c190f74
DTSTART;VALUE=DATE:20260521
DTEND;VALUE=DATE:20260522
DESCRIPTION:
LOCATION:
SUMMARY:Last Day of School- Minimum Day Dismissal 1:15pm
END:VEVENT
BEGIN:VEVENT
DTSTAMP:20260424T083552Z
UID:ef0ad93c-620c-480f-be46-63ad62d1b2a8
DTSTART;VALUE=DATE:20260806
DTEND;VALUE=DATE:20260807
DESCRIPTION:
LOCATION:
SUMMARY:First Day of School- Minimum Day K-5
END:VEVENT
BEGIN:VEVENT
DTSTAMP:20260424T083552Z
UID:2ea8e7a5-e6a5-47bc-a5aa-3f158357d898
DTSTART;VALUE=DATE:20260810
DTEND;VALUE=DATE:20260811
DESCRIPTION:
LOCATION:
SUMMARY:Minimum Day-1:15pm Dismissal Grades K-5
END:VEVENT
BEGIN:VEVENT
DTSTAMP:20260424T083552Z
UID:e237f857-29f5-459d-a890-e21bc7aeff51
DTSTART;VALUE=DATE:20260817
DTEND;VALUE=DATE:20260818
DESCRIPTION:
LOCATION:
SUMMARY:Minimum Day-1:15pm Dismissal Grades K-5
END:VEVENT
BEGIN:VEVENT
DTSTAMP:20260424T083552Z
UID:31167dd4-856d-4862-b34a-d823c86b0c45
DTSTART;VALUE=DATE:20260824
DTEND;VALUE=DATE:20260825
DESCRIPTION:
LOCATION:
SUMMARY:Minimum Day-1:15pm Dismissal Grades K-5
END:VEVENT
BEGIN:VEVENT
DTSTAMP:20260424T083552Z
UID:9560f33e-6c87-4e50-87c4-8d414017a669
DTSTART;VALUE=DATE:20260831
DTEND;VALUE=DATE:20260901
DESCRIPTION:
LOCATION:
SUMMARY:Minimum Day-1:15pm Dismissal Grades K-5
END:VEVENT
BEGIN:VEVENT
DTSTAMP:20260424T083552Z
UID:7e413902-2642-4349-87ec-f0bbad8e9fb8
DTSTART;VALUE=DATE:20260907
DTEND;VALUE=DATE:20260908
DESCRIPTION:
LOCATION:
SUMMARY:No School- Labor Day
END:VEVENT
BEGIN:VEVENT
DTSTAMP:20260424T083552Z
UID:094df15f-cff4-426f-a3a2-4a71b0ce2f6c
DTSTART;VALUE=DATE:20260914
DTEND;VALUE=DATE:20260915
DESCRIPTION:
LOCATION:
SUMMARY:Minimum Day-1:15pm Dismissal Grades K-5
END:VEVENT
BEGIN:VEVENT
DTSTAMP:20260424T083552Z
UID:9f22d359-bfbb-4667-aed4-356e3b8c2203
DTSTART;VALUE=DATE:20260918
DTEND;VALUE=DATE:20260919
DESCRIPTION:
LOCATION:
SUMMARY:No School-Non-Student Day
END:VEVENT
BEGIN:VEVENT
DTSTAMP:20260424T083552Z
UID:c48aa7ce-d4c2-4e8c-88c7-42c588ad1b75
DTSTART;VALUE=DATE:20260921
DTEND;VALUE=DATE:20260922
DESCRIPTION:
LOCATION:
SUMMARY:Minimum Day-1:15pm Dismissal Grades K-5
END:VEVENT
BEGIN:VEVENT
DTSTAMP:20260424T083552Z
UID:3669b332-865e-46b5-aa05-8344609218e0
DTSTART;VALUE=DATE:20260928
DTEND;VALUE=DATE:20261003
DESCRIPTION:
LOCATION:
SUMMARY:Family Conferences- 1:15pm Dismissal  all week 
END:VEVENT
BEGIN:VEVENT
DTSTAMP:20260424T083552Z
UID:21fa4cee-ccb6-48a9-a7e3-e7693446122b
DTSTART;VALUE=DATE:20261005
DTEND;VALUE=DATE:20261006
DESCRIPTION:
LOCATION:
SUMMARY:No School- Student Recess
END:VEVENT
BEGIN:VEVENT
DTSTAMP:20260424T083552Z
UID:7479edd5-03b5-442d-ac43-870a99e59358
DTSTART;VALUE=DATE:20261012
DTEND;VALUE=DATE:20261013
DESCRIPTION:
LOCATION:
SUMMARY:Minimum Day-1:15pm Dismissal Grades K-5
END:VEVENT
BEGIN:VEVENT
DTSTAMP:20260424T083552Z
UID:a401a1af-fecd-492c-be1a-366f0927779e
DTSTART;VALUE=DATE:20261019
DTEND;VALUE=DATE:20261020
DESCRIPTION:
LOCATION:
SUMMARY:Minimum Day-1:15pm Dismissal Grades K-5
END:VEVENT
BEGIN:VEVENT
DTSTAMP:20260424T083552Z
UID:aa5c3397-c463-49d7-88ce-f3124d8aefac
DTSTART;VALUE=DATE:20261026
DTEND;VALUE=DATE:20261027
DESCRIPTION:
LOCATION:
SUMMARY:Minimum Day-1:15pm Dismissal Grades K-5
END:VEVENT
BEGIN:VEVENT
DTSTAMP:20260424T083552Z
UID:96058e50-9347-4151-873e-7a5b26c3373a
DTSTART;VALUE=DATE:20261102
DTEND;VALUE=DATE:20261103
DESCRIPTION:
LOCATION:
SUMMARY:Minimum Day-1:15pm Dismissal Grades K-5
END:VEVENT
BEGIN:VEVENT
DTSTAMP:20260424T083552Z
UID:e655cf97-6c46-41da-85ff-2997bab1c48c
DTSTART;VALUE=DATE:20261109
DTEND;VALUE=DATE:20261110
DESCRIPTION:
LOCATION:
SUMMARY:Minimum Day-1:15pm Dismissal Grades K-5
END:VEVENT
BEGIN:VEVENT
DTSTAMP:20260424T083552Z
UID:f6fb3673-56ed-42ec-acfb-c38e7367e53e
DTSTART;VALUE=DATE:20261111
DTEND;VALUE=DATE:20261112
DESCRIPTION:
LOCATION:
SUMMARY:No School- Veterans Day
END:VEVENT
BEGIN:VEVENT
DTSTAMP:20260424T083552Z
UID:d8a63cff-bd1b-4c06-928e-540d4ed0db47
DTSTART:20261116T080000
DTEND:20261116T090000
DESCRIPTION:
LOCATION:
SUMMARY:Minimum Day-1:15pm Dismissal Grades K-5
END:VEVENT
BEGIN:VEVENT
DTSTAMP:20260424T083552Z
UID:7aca14b4-d607-4d49-b6ab-262de46a68b1
DTSTART;VALUE=DATE:20261120
DTEND;VALUE=DATE:20261121
DESCRIPTION:
LOCATION:
SUMMARY:Minimum Day-1:15pm Dismissal Grades K-5
END:VEVENT
BEGIN:VEVENT
DTSTAMP:20260424T083552Z
UID:bc2ffb13-c589-43f7-bb71-47c9cf83ec4e
DTSTART;VALUE=DATE:20261123
DTEND;VALUE=DATE:20261128
DESCRIPTION:
LOCATION:
SUMMARY:No School- Thanksgiving Break
END:VEVENT
BEGIN:VEVENT
DTSTAMP:20260424T083552Z
UID:55612cfd-239d-4dfb-90f2-d8a8e0cd44c4
DTSTART;VALUE=DATE:20261130
DTEND;VALUE=DATE:20261201
DESCRIPTION:
LOCATION:
SUMMARY:Minimum Day-1:15pm Dismissal Grades K-5
END:VEVENT
BEGIN:VEVENT
DTSTAMP:20260424T083552Z
UID:7c0c6cc5-a875-48f7-a65b-e519251c75bc
DTSTART;VALUE=DATE:20261207
DTEND;VALUE=DATE:20261208
DESCRIPTION:
LOCATION:
SUMMARY:Minimum Day-1:15pm Dismissal Grades K-5
END:VEVENT
BEGIN:VEVENT
DTSTAMP:20260424T083552Z
UID:4cb5fa4b-f5fa-41b2-8efb-b382e03e7918
DTSTART;VALUE=DATE:20261214
DTEND;VALUE=DATE:20261215
DESCRIPTION:
LOCATION:
SUMMARY:Minimum Day-1:15pm Dismissal Grades K-5
END:VEVENT
BEGIN:VEVENT
DTSTAMP:20260424T083552Z
UID:b5f42b1d-4385-409f-975d-45423d2332fa
DTSTART;VALUE=DATE:20261218
DTEND;VALUE=DATE:20261219
DESCRIPTION:
LOCATION:
SUMMARY:Minimum Day-1:15pm Dismissal Grades K-5
END:VEVENT
BEGIN:VEVENT
DTSTAMP:20260424T083552Z
UID:154cc19e-6176-4e20-b62b-a160322c5689
DTSTART;VALUE=DATE:20261221
DTEND;VALUE=DATE:20270102
DESCRIPTION:
LOCATION:
SUMMARY:No School- Winter Break
END:VEVENT
BEGIN:VEVENT
DTSTAMP:20260424T083552Z
UID:0edfa874-ff47-4b05-a0d4-eb873242d24b
DTSTART;VALUE=DATE:20270104
DTEND;VALUE=DATE:20270105
DESCRIPTION:
LOCATION:
SUMMARY:Minimum Day-1:15pm Dismissal Grades K-5
END:VEVENT
BEGIN:VEVENT
DTSTAMP:20260424T083552Z
UID:8dee26f3-d5f0-4f30-8fae-1245b92913cc
DTSTART;VALUE=DATE:20270111
DTEND;VALUE=DATE:20270112
DESCRIPTION:
LOCATION:
SUMMARY:Minimum Day-1:15pm Dismissal Grades K-5
END:VEVENT
BEGIN:VEVENT
DTSTAMP:20260424T083552Z
UID:6d72e179-6f8a-41a2-af16-fb4628a43ce5
DTSTART;VALUE=DATE:20270118
DTEND;VALUE=DATE:20270119
DESCRIPTION:
LOCATION:
SUMMARY:No School- Dr. Martin Luther King Jr. Day
END:VEVENT
BEGIN:VEVENT
DTSTAMP:20260424T083552Z
UID:58d41b97-6aee-4de1-aa93-ab79a73b27c5
DTSTART;VALUE=DATE:20270125
DTEND;VALUE=DATE:20270126
DESCRIPTION:
LOCATION:
SUMMARY:Minimum Day-1:15pm Dismissal Grades K-5
END:VEVENT
BEGIN:VEVENT
DTSTAMP:20260424T083552Z
UID:8d51f365-adef-40e9-9a5a-86e173cf74f8
DTSTART;VALUE=DATE:20270129
DTEND;VALUE=DATE:20270130
DESCRIPTION:
LOCATION:
SUMMARY:No School-Non-Student Day
END:VEVENT
BEGIN:VEVENT
DTSTAMP:20260424T083552Z
UID:2ec4eeaa-a875-4fc1-b6b2-605bb566ce53
DTSTART;VALUE=DATE:20270201
DTEND;VALUE=DATE:20270202
DESCRIPTION:
LOCATION:
SUMMARY:Minimum Day-1:15pm Dismissal Grades K-5
END:VEVENT
BEGIN:VEVENT
DTSTAMP:20260424T083552Z
UID:c0a8850a-0164-4d3f-8b5c-469636cb6b5b
DTSTART;VALUE=DATE:20270208
DTEND;VALUE=DATE:20270209
DESCRIPTION:
LOCATION:
SUMMARY:Minimum Day-1:15pm Dismissal Grades K-5
END:VEVENT
BEGIN:VEVENT
DTSTAMP:20260424T083552Z
UID:42362072-9565-4904-aa6f-88917b44a3cb
DTSTART;VALUE=DATE:20270212
DTEND;VALUE=DATE:20270213
DESCRIPTION:
LOCATION:
SUMMARY:No School- Lincoln Day
END:VEVENT
BEGIN:VEVENT
DTSTAMP:20260424T083552Z
UID:88a8fbe2-fc5a-434b-9fb1-e69e564d807d
DTSTART;VALUE=DATE:20270215
DTEND;VALUE=DATE:20270216
DESCRIPTION:
LOCATION:
SUMMARY:No School- Presidents' Day
END:VEVENT
BEGIN:VEVENT
DTSTAMP:20260424T083552Z
UID:043377f7-58ed-47d5-b1b7-0830845a94ad
DTSTART;VALUE=DATE:20270222
DTEND;VALUE=DATE:20270223
DESCRIPTION:
LOCATION:
SUMMARY:Minimum Day-1:15pm Dismissal Grades K-5
END:VEVENT
BEGIN:VEVENT
DTSTAMP:20260424T083552Z
UID:14b2dfd3-479c-49da-9c86-199bb80ebff7
DTSTART;VALUE=DATE:20270301
DTEND;VALUE=DATE:20270302
DESCRIPTION:
LOCATION:
SUMMARY:Minimum Day-1:15pm Dismissal Grades K-5
END:VEVENT
BEGIN:VEVENT
DTSTAMP:20260424T083552Z
UID:ee0d3a95-fba9-43d7-86c3-4bce444e0e53
DTSTART;VALUE=DATE:20270308
DTEND;VALUE=DATE:20270309
DESCRIPTION:
LOCATION:
SUMMARY:Minimum Day-1:15pm Dismissal Grades K-5
END:VEVENT
BEGIN:VEVENT
DTSTAMP:20260424T083552Z
UID:85fa3cec-1299-4060-9330-efc8a6268816
DTSTART;VALUE=DATE:20270315
DTEND;VALUE=DATE:20270316
DESCRIPTION:
LOCATION:
SUMMARY:Minimum Day-1:15pm Dismissal Grades K-5
END:VEVENT
BEGIN:VEVENT
DTSTAMP:20260424T083552Z
UID:af9237f9-cd21-4472-884c-3e905b259321
DTSTART;VALUE=DATE:20270322
DTEND;VALUE=DATE:20270323
DESCRIPTION:
LOCATION:
SUMMARY:Minimum Day-1:15pm Dismissal Grades K-5
END:VEVENT
BEGIN:VEVENT
DTSTAMP:20260424T083552Z
UID:d8bd2df5-2aa9-41e0-aa03-d6682e60af1a
DTSTART;VALUE=DATE:20270325
DTEND;VALUE=DATE:20270326
DESCRIPTION:
LOCATION:
SUMMARY:Minimum Day-1:15pm Dismissal Grades K-5
END:VEVENT
BEGIN:VEVENT
DTSTAMP:20260424T083552Z
UID:fb1af7d8-d361-4cda-801a-c5629e09c488
DTSTART;VALUE=DATE:20270326
DTEND;VALUE=DATE:20270403
DESCRIPTION:
LOCATION:
SUMMARY:No School- Spring Break
END:VEVENT
BEGIN:VEVENT
DTSTAMP:20260424T083552Z
UID:5e8e8c45-e0f7-4547-9961-31aeb7e38eab
DTSTART;VALUE=DATE:20270405
DTEND;VALUE=DATE:20270406
DESCRIPTION:
LOCATION:
SUMMARY:Minimum Day-1:15pm Dismissal Grades K-5
END:VEVENT
BEGIN:VEVENT
DTSTAMP:20260424T083552Z
UID:31d43c60-3c28-4643-ba22-9f1fcd1b105d
DTSTART;VALUE=DATE:20270412
DTEND;VALUE=DATE:20270413
DESCRIPTION:
LOCATION:
SUMMARY:Minimum Day-1:15pm Dismissal Grades K-5
END:VEVENT
BEGIN:VEVENT
DTSTAMP:20260424T083552Z
UID:72d41f59-0b23-4718-a67a-1a16dbb9adf6
DTSTART;VALUE=DATE:20270419
DTEND;VALUE=DATE:20270420
DESCRIPTION:
LOCATION:
SUMMARY:Minimum Day-1:15pm Dismissal Grades K-5
END:VEVENT
BEGIN:VEVENT
DTSTAMP:20260424T083552Z
UID:5bfef256-3693-4c19-8fae-a4303dee782a
DTSTART;VALUE=DATE:20270426
DTEND;VALUE=DATE:20270427
DESCRIPTION:
LOCATION:
SUMMARY:Minimum Day-1:15pm Dismissal Grades K-5
END:VEVENT
BEGIN:VEVENT
DTSTAMP:20260424T083552Z
UID:b8ea8af6-8da9-4fe9-8576-6a5d3b2f1174
DTSTART;VALUE=DATE:20270503
DTEND;VALUE=DATE:20270504
DESCRIPTION:
LOCATION:
SUMMARY:Minimum Day-1:15pm Dismissal Grades K-5
END:VEVENT
BEGIN:VEVENT
DTSTAMP:20260424T083552Z
UID:c869db69-85ba-4fff-9634-1874f6386c5d
DTSTART;VALUE=DATE:20270510
DTEND;VALUE=DATE:20270511
DESCRIPTION:
LOCATION:
SUMMARY:Minimum Day-1:15pm Dismissal Grades K-5
END:VEVENT
BEGIN:VEVENT
DTSTAMP:20260424T083552Z
UID:fced3a9c-5d1e-47d9-b471-e533b98cd509
DTSTART;VALUE=DATE:20270517
DTEND;VALUE=DATE:20270518
DESCRIPTION:
LOCATION:
SUMMARY:Minimum Day-1:15pm Dismissal Grades K-5
END:VEVENT
BEGIN:VEVENT
DTSTAMP:20260424T083552Z
UID:87ea93fd-0db7-419b-8189-945dd9afe7fe
DTSTART;VALUE=DATE:20270524
DTEND;VALUE=DATE:20270525
DESCRIPTION:
LOCATION:
SUMMARY:Minimum Day-1:15pm Dismissal Grades K-5
END:VEVENT
BEGIN:VEVENT
DTSTAMP:20260424T083552Z
UID:46d0c788-7c6b-442e-b31e-34bca94de52e
DTSTART;VALUE=DATE:20270525
DTEND;VALUE=DATE:20270526
DESCRIPTION:
LOCATION:
SUMMARY: LAST DAY OF SCHOOL- Minimum Day-1:15pm Dismissal Grades K-5
END:VEVENT
END:VCALENDAR
