BEGIN:VCALENDAR
VERSION:2.0
PRODID:icalendar-ruby
CALSCALE:GREGORIAN
BEGIN:VTIMEZONE
TZID:America/New_York
BEGIN:DAYLIGHT
DTSTART:20260308T030000
TZOFFSETFROM:-0500
TZOFFSETTO:-0400
RRULE:FREQ=YEARLY;BYDAY=2SU;BYMONTH=3
TZNAME:EDT
END:DAYLIGHT
BEGIN:STANDARD
DTSTART:20261101T010000
TZOFFSETFROM:-0400
TZOFFSETTO:-0500
RRULE:FREQ=YEARLY;BYDAY=1SU;BYMONTH=11
TZNAME:EST
END:STANDARD
END:VTIMEZONE
BEGIN:VEVENT
DTSTAMP:20260423T170617Z
UID:57e51051-6802-478f-81eb-de8d2fd8cb31
DTSTART;VALUE=DATE:20260424
DTEND;VALUE=DATE:20260425
DESCRIPTION:
LOCATION:
SUMMARY:Kindergarten Field Trip 
END:VEVENT
BEGIN:VEVENT
DTSTAMP:20260423T170617Z
UID:c6ef87d6-2cb9-41c6-b108-96756959d885
DTSTART;VALUE=DATE:20260428
DTEND;VALUE=DATE:20260429
DESCRIPTION:
LOCATION:
SUMMARY:Grades 3–5 End-of-Grade (EOG) Assessment: ELA 1
END:VEVENT
BEGIN:VEVENT
DTSTAMP:20260423T170617Z
UID:c8f5e8d1-4082-4f43-9433-cffcdb9f89a2
DTSTART;VALUE=DATE:20260429
DTEND;VALUE=DATE:20260430
DESCRIPTION:
LOCATION:
SUMMARY:Grades 3–5 End-of-Grade (EOG) Assessment: ELA 2
END:VEVENT
BEGIN:VEVENT
DTSTAMP:20260423T170617Z
UID:bb260089-0502-44b1-9d84-f30eaaf3fef5
DTSTART;VALUE=DATE:20260430
DTEND;VALUE=DATE:20260501
DESCRIPTION:
LOCATION:
SUMMARY:Grades 3–5 End-of-Grade (EOG) Assessment: ELA 3
END:VEVENT
BEGIN:VEVENT
DTSTAMP:20260423T170617Z
UID:dd3c63a0-a0e6-4203-84e8-736b42feb845
DTSTART;VALUE=DATE:20260501
DTEND;VALUE=DATE:20260502
DESCRIPTION:
LOCATION:
SUMMARY:Student At-Home Learning Day / PL Day for Teachers 
END:VEVENT
BEGIN:VEVENT
DTSTAMP:20260423T170617Z
UID:1f8ee90a-0efd-49e7-aeda-6cbdff659054
DTSTART;VALUE=DATE:20260504
DTEND;VALUE=DATE:20260505
DESCRIPTION:
LOCATION:
SUMMARY:Grades 3–5 End-of-Grade (EOG) Assessment: Math 1
END:VEVENT
BEGIN:VEVENT
DTSTAMP:20260423T170617Z
UID:c471ccd4-211e-4e90-87f1-01d21ed2d80d
DTSTART;VALUE=DATE:20260504
DTEND;VALUE=DATE:20260509
DESCRIPTION:
LOCATION:
SUMMARY:Teacher Appreciation Week
END:VEVENT
BEGIN:VEVENT
DTSTAMP:20260423T170617Z
UID:66f1b6ea-57e0-4754-8307-3f6abef8d119
DTSTART;VALUE=DATE:20260505
DTEND;VALUE=DATE:20260506
DESCRIPTION:
LOCATION:
SUMMARY:Grades 3–5 End-of-Grade (EOG) Assessment: Math 2
END:VEVENT
BEGIN:VEVENT
DTSTAMP:20260423T170617Z
UID:f25125e0-e0bd-4057-8bb9-573020421dde
DTSTART:20260506T080000
DTEND:20260506T090000
DESCRIPTION:
LOCATION:
SUMMARY:Grades 3–5 End-of-Grade (EOG) Assessment: Science 1 & 2
END:VEVENT
BEGIN:VEVENT
DTSTAMP:20260423T170617Z
UID:a80bd90b-6401-4474-8ecf-cd46b8bf9e5e
DTSTART:20260507T093000
DTEND:20260507T110000
DESCRIPTION:
LOCATION:
SUMMARY:Champs Graduation
END:VEVENT
BEGIN:VEVENT
DTSTAMP:20260423T170617Z
UID:6b4d8ec3-f2c0-4fc0-a5cd-52cd744a685d
DTSTART;VALUE=DATE:20260512
DTEND;VALUE=DATE:20260513
DESCRIPTION:
LOCATION:
SUMMARY:Career Day
END:VEVENT
BEGIN:VEVENT
DTSTAMP:20260423T170617Z
UID:d3200936-14f2-4d1e-beee-ad4a3e55edba
DTSTART;VALUE=DATE:20260513
DTEND;VALUE=DATE:20260514
DESCRIPTION:
LOCATION:
SUMMARY:Field Day PreK-2nd
END:VEVENT
BEGIN:VEVENT
DTSTAMP:20260423T170617Z
UID:9a348e88-3fac-46d1-8e9c-483f0cf1c4b2
DTSTART;VALUE=DATE:20260514
DTEND;VALUE=DATE:20260515
DESCRIPTION:
LOCATION:
SUMMARY:Field Day 3rd-5th 
END:VEVENT
BEGIN:VEVENT
DTSTAMP:20260423T170617Z
UID:f42cc318-5dab-4542-850f-a36804eedbce
DTSTART:20260519T081500
DTEND:20260519T091500
DESCRIPTION:
LOCATION:
SUMMARY:Pre-K Completion Ceremony
END:VEVENT
BEGIN:VEVENT
DTSTAMP:20260423T170617Z
UID:7e2236dd-c3dc-45c8-8e7f-ed36e9b911f1
DTSTART:20260519T094500
DTEND:20260519T104500
DESCRIPTION:
LOCATION:
SUMMARY:Kindergarten Completion Ceremony
END:VEVENT
BEGIN:VEVENT
DTSTAMP:20260423T170617Z
UID:342c6f41-d64e-405e-bc1f-fc2d85751592
DTSTART:20260520T081500
DTEND:20260520T091500
DESCRIPTION:
LOCATION:
SUMMARY:Second Grade Honors Program (By Invitation Only)
END:VEVENT
BEGIN:VEVENT
DTSTAMP:20260423T170617Z
UID:72829d52-417a-4780-8e76-ee4d2ed41097
DTSTART:20260520T094500
DTEND:20260520T104500
DESCRIPTION:
LOCATION:
SUMMARY:First Grade Honors Program (By Invitation Only)
END:VEVENT
BEGIN:VEVENT
DTSTAMP:20260423T170617Z
UID:a9cd0926-bc16-4d5b-9326-1de481aa56bc
DTSTART:20260521T081500
DTEND:20260521T091500
DESCRIPTION:
LOCATION:
SUMMARY:Fourth Grade Honors Program (By Invitation Only)
END:VEVENT
BEGIN:VEVENT
DTSTAMP:20260423T170617Z
UID:ee5be16c-fcb1-48ea-b9b6-0e24a3b6ed88
DTSTART:20260521T094500
DTEND:20260521T104500
DESCRIPTION:
LOCATION:
SUMMARY:Third Grade Honors Program (By Invitation Only)
END:VEVENT
BEGIN:VEVENT
DTSTAMP:20260423T170617Z
UID:80b5751a-7a44-4a74-b8f2-615b8efd3edf
DTSTART;VALUE=DATE:20260522
DTEND;VALUE=DATE:20260523
DESCRIPTION:<p>Elementary Students Release at 11:30 AM</p>
LOCATION:
SUMMARY:Last Day of School / Student Early Release Day 
END:VEVENT
BEGIN:VEVENT
DTSTAMP:20260423T170617Z
UID:ca09d4cc-9433-4535-9396-a7d28a74867f
DTSTART:20260522T083000
DTEND:20260522T093000
DESCRIPTION:
LOCATION:
SUMMARY:Fifth Grade Completion Ceremony\, followed by a reception
END:VEVENT
END:VCALENDAR
