BEGIN:VCALENDAR
VERSION:2.0
PRODID:icalendar-ruby
CALSCALE:GREGORIAN
BEGIN:VTIMEZONE
TZID:America/New_York
BEGIN:DAYLIGHT
DTSTART:20260308T030000
TZOFFSETFROM:-0500
TZOFFSETTO:-0400
RRULE:FREQ=YEARLY;BYDAY=2SU;BYMONTH=3
TZNAME:EDT
END:DAYLIGHT
BEGIN:STANDARD
DTSTART:20261101T010000
TZOFFSETFROM:-0400
TZOFFSETTO:-0500
RRULE:FREQ=YEARLY;BYDAY=1SU;BYMONTH=11
TZNAME:EST
END:STANDARD
END:VTIMEZONE
BEGIN:VEVENT
DTSTAMP:20260423T170749Z
UID:eaf09b72-6ade-4dbf-a345-4e977f7de9fa
DTSTART:20260423T163000
DTEND:20260423T183000
DESCRIPTION:
LOCATION:
SUMMARY:Soccer Finals Girls/Boys @ Adairsville
END:VEVENT
BEGIN:VEVENT
DTSTAMP:20260423T170749Z
UID:1d5977c5-3cb7-4fc7-a73d-9623afb75a5f
DTSTART:20260501T080000
DTEND:20260501T090000
DESCRIPTION:
LOCATION:
SUMMARY:Teacher PL Day -- At-Home Learning for Students
END:VEVENT
BEGIN:VEVENT
DTSTAMP:20260423T170749Z
UID:f6ad4d67-caaf-4535-a121-7640d6e36a01
DTSTART:20260522T080000
DTEND:20260522T090000
DESCRIPTION:
LOCATION:
SUMMARY:Last Day of School -- Early Release
END:VEVENT
END:VCALENDAR
