BEGIN:VCALENDAR
VERSION:2.0
PRODID:icalendar-ruby
CALSCALE:GREGORIAN
BEGIN:VTIMEZONE
TZID:America/New_York
BEGIN:DAYLIGHT
DTSTART:20260308T030000
TZOFFSETFROM:-0500
TZOFFSETTO:-0400
RRULE:FREQ=YEARLY;BYDAY=2SU;BYMONTH=3
TZNAME:EDT
END:DAYLIGHT
BEGIN:STANDARD
DTSTART:20261101T010000
TZOFFSETFROM:-0400
TZOFFSETTO:-0500
RRULE:FREQ=YEARLY;BYDAY=1SU;BYMONTH=11
TZNAME:EST
END:STANDARD
END:VTIMEZONE
BEGIN:VEVENT
DTSTAMP:20260424T024247Z
UID:90b6effc-a661-4f33-8807-9bf13c532ced
DTSTART;VALUE=DATE:20260501
DTEND;VALUE=DATE:20260502
DESCRIPTION:
LOCATION:
SUMMARY:At Home Learning Day
END:VEVENT
BEGIN:VEVENT
DTSTAMP:20260424T024247Z
UID:a710812f-c2fe-4afb-862c-7d2d2b100622
DTSTART;VALUE=DATE:20260504
DTEND;VALUE=DATE:20260509
DESCRIPTION:
LOCATION:
SUMMARY:Teacher Appreciation  Week 
END:VEVENT
BEGIN:VEVENT
DTSTAMP:20260424T024247Z
UID:dc0b911e-9947-4cf7-8db2-312d77a2e813
DTSTART:20260512T160000
DTEND:20260512T200000
DESCRIPTION:
LOCATION:
SUMMARY:Sonic Spirit Night
END:VEVENT
BEGIN:VEVENT
DTSTAMP:20260424T024247Z
UID:10f525c7-4109-40d7-a10c-26c6ddc39301
DTSTART;VALUE=DATE:20260514
DTEND;VALUE=DATE:20260515
DESCRIPTION:
LOCATION:
SUMMARY:Field Day  (Makeup Day May 15)
END:VEVENT
BEGIN:VEVENT
DTSTAMP:20260424T024247Z
UID:dff3e8fd-82ef-4fc8-a2b3-0d10c4ef4ca5
DTSTART:20260519T080000
DTEND:20260519T090000
DESCRIPTION:
LOCATION:
SUMMARY:Pre-K Awards Program
END:VEVENT
BEGIN:VEVENT
DTSTAMP:20260424T024247Z
UID:500b4495-df40-458c-a706-7e29925420c6
DTSTART:20260519T093000
DTEND:20260519T103000
DESCRIPTION:
LOCATION:
SUMMARY:Kindergarten Awards Program
END:VEVENT
BEGIN:VEVENT
DTSTAMP:20260424T024247Z
UID:1dda1bec-f2e3-4fb6-8ccb-1cd1eb5d0a9e
DTSTART:20260519T130000
DTEND:20260519T140000
DESCRIPTION:
LOCATION:
SUMMARY:1st Grade Awards Program
END:VEVENT
BEGIN:VEVENT
DTSTAMP:20260424T024247Z
UID:4e168378-688f-422a-b909-5d3a7553ae9c
DTSTART:20260520T080000
DTEND:20260520T090000
DESCRIPTION:
LOCATION:
SUMMARY:2nd Grade Awards Program 
END:VEVENT
BEGIN:VEVENT
DTSTAMP:20260424T024247Z
UID:8c89c7c8-5cea-4204-982a-3adf4e065f62
DTSTART:20260520T093000
DTEND:20260520T103000
DESCRIPTION:
LOCATION:
SUMMARY:4th Grade Awards Program
END:VEVENT
BEGIN:VEVENT
DTSTAMP:20260424T024247Z
UID:d28c4710-35d5-4d84-aa36-ac1ac05ef65e
DTSTART:20260520T130000
DTEND:20260520T140000
DESCRIPTION:
LOCATION:
SUMMARY:3rd Grade Awards Program 
END:VEVENT
BEGIN:VEVENT
DTSTAMP:20260424T024247Z
UID:9952106a-8df2-4a8e-8b44-71b6f4ba590d
DTSTART:20260521T080000
DTEND:20260521T090000
DESCRIPTION:
LOCATION:
SUMMARY:5th Grade Awards Program followed by reception
END:VEVENT
BEGIN:VEVENT
DTSTAMP:20260424T024247Z
UID:2a0c4e3a-fd73-4554-b7bb-e87f7828a5ac
DTSTART;VALUE=DATE:20260522
DTEND;VALUE=DATE:20260523
DESCRIPTION:
LOCATION:
SUMMARY:Last day for students/Early Release
END:VEVENT
END:VCALENDAR
