BEGIN:VCALENDAR
VERSION:2.0
PRODID:icalendar-ruby
CALSCALE:GREGORIAN
BEGIN:VTIMEZONE
TZID:America/New_York
BEGIN:DAYLIGHT
DTSTART:20260308T030000
TZOFFSETFROM:-0500
TZOFFSETTO:-0400
RRULE:FREQ=YEARLY;BYDAY=2SU;BYMONTH=3
TZNAME:EDT
END:DAYLIGHT
BEGIN:STANDARD
DTSTART:20261101T010000
TZOFFSETFROM:-0400
TZOFFSETTO:-0500
RRULE:FREQ=YEARLY;BYDAY=1SU;BYMONTH=11
TZNAME:EST
END:STANDARD
END:VTIMEZONE
BEGIN:VEVENT
DTSTAMP:20260422T150736Z
UID:e6e68220-79a1-4e5a-bf8f-7eb875d842a7
DTSTART;VALUE=DATE:20260415
DTEND;VALUE=DATE:20260425
DESCRIPTION:
LOCATION:
SUMMARY:Fun Run
END:VEVENT
BEGIN:VEVENT
DTSTAMP:20260422T150736Z
UID:69cff594-9e7a-48af-a78e-dcdb077dc766
DTSTART;VALUE=DATE:20260501
DTEND;VALUE=DATE:20260502
DESCRIPTION:
LOCATION:
SUMMARY:Student At-Home Learning Day
END:VEVENT
BEGIN:VEVENT
DTSTAMP:20260422T150736Z
UID:a9c54798-0269-4a94-9ede-5517ea4d90a1
DTSTART;VALUE=DATE:20260518
DTEND;VALUE=DATE:20260519
DESCRIPTION:<p>Subject to Change</p>
LOCATION:
SUMMARY:Field Day
END:VEVENT
BEGIN:VEVENT
DTSTAMP:20260422T150736Z
UID:1d497d92-2561-4b8d-bc50-a54a815c9a88
DTSTART:20260519T081500
DTEND:20260519T090000
DESCRIPTION:
LOCATION:
SUMMARY:Pre-K Award Celebration
END:VEVENT
BEGIN:VEVENT
DTSTAMP:20260422T150736Z
UID:191a2da2-b2b3-4b5e-a2d9-b0f7454d449f
DTSTART:20260519T110000
DTEND:20260519T120000
DESCRIPTION:
LOCATION:Gym
SUMMARY:5th Grade CHAMPS Graduation
END:VEVENT
BEGIN:VEVENT
DTSTAMP:20260422T150736Z
UID:c0118c84-21b3-476b-8c7e-95dfa66df6de
DTSTART:20260519T120000
DTEND:20260519T130000
DESCRIPTION:
LOCATION:
SUMMARY:5th Grade Luncheon
END:VEVENT
BEGIN:VEVENT
DTSTAMP:20260422T150736Z
UID:b5af7d09-1bec-4844-bd5a-510d4ee223e3
DTSTART:20260520T080000
DTEND:20260520T090000
DESCRIPTION:
LOCATION:
SUMMARY:Kindergarten Award Celebration
END:VEVENT
BEGIN:VEVENT
DTSTAMP:20260422T150736Z
UID:f4770cbc-f914-447e-87f0-cbd8096d9afc
DTSTART:20260520T093000
DTEND:20260520T103000
DESCRIPTION:
LOCATION:
SUMMARY:1st Grade Award Celebration
END:VEVENT
BEGIN:VEVENT
DTSTAMP:20260422T150736Z
UID:1b67225d-6f2b-4bff-bb20-4172361e23bd
DTSTART:20260520T123000
DTEND:20260520T133000
DESCRIPTION:
LOCATION:
SUMMARY:2nd Grade Award Celebration
END:VEVENT
BEGIN:VEVENT
DTSTAMP:20260422T150736Z
UID:162300d8-5a14-43b0-b348-d8dce8a29dfe
DTSTART:20260521T080000
DTEND:20260521T090000
DESCRIPTION:
LOCATION:
SUMMARY:3rd Grade Award Celebration
END:VEVENT
BEGIN:VEVENT
DTSTAMP:20260422T150736Z
UID:c975eebc-d40a-43dc-8639-d7db695d5d35
DTSTART:20260521T100000
DTEND:20260521T110000
DESCRIPTION:
LOCATION:
SUMMARY:4th Grade Award Celebration
END:VEVENT
BEGIN:VEVENT
DTSTAMP:20260422T150736Z
UID:8f3a6321-23a0-4fad-a3b4-03561b467c6e
DTSTART;VALUE=DATE:20260522
DTEND;VALUE=DATE:20260523
DESCRIPTION:
LOCATION:
SUMMARY:Last Day of School & Early Release @11:30am
END:VEVENT
BEGIN:VEVENT
DTSTAMP:20260422T150736Z
UID:c8595846-c52b-4ed8-9d9f-739a0f94fc37
DTSTART;VALUE=DATE:20260522
DTEND;VALUE=DATE:20260523
DESCRIPTION:
LOCATION:
SUMMARY:Report Cards
END:VEVENT
BEGIN:VEVENT
DTSTAMP:20260422T150736Z
UID:95e9ecf3-7663-4b25-a2ac-f64987e26814
DTSTART:20260522T080000
DTEND:20260522T081500
DESCRIPTION:
LOCATION:
SUMMARY:5th Grade Walk
END:VEVENT
BEGIN:VEVENT
DTSTAMP:20260422T150736Z
UID:b3b38c6f-fd9e-498f-b893-ec96ab74fce6
DTSTART:20260522T081500
DTEND:20260522T100000
DESCRIPTION:
LOCATION:
SUMMARY:5th Grade Award Celebration
END:VEVENT
BEGIN:VEVENT
DTSTAMP:20260422T150736Z
UID:2ff3b0ac-48e5-496b-a2bd-496ba8ff39a4
DTSTART;VALUE=DATE:20260807
DTEND;VALUE=DATE:20260808
DESCRIPTION:
LOCATION:
SUMMARY:First Day of School
END:VEVENT
BEGIN:VEVENT
DTSTAMP:20260422T150736Z
UID:d00b8a27-64ff-419d-82fc-31bd85f62127
DTSTART;VALUE=DATE:20260907
DTEND;VALUE=DATE:20260908
DESCRIPTION:
LOCATION:
SUMMARY:School Holiday Labor Day
END:VEVENT
BEGIN:VEVENT
DTSTAMP:20260422T150736Z
UID:c89a84e6-99f3-4dab-a705-4792a10f0fb0
DTSTART;VALUE=DATE:20260918
DTEND;VALUE=DATE:20260919
DESCRIPTION:
LOCATION:
SUMMARY:Student At-Home Learning Day
END:VEVENT
BEGIN:VEVENT
DTSTAMP:20260422T150736Z
UID:a5c80d3e-24fe-4228-a920-1cfab23f6bbd
DTSTART;VALUE=DATE:20261012
DTEND;VALUE=DATE:20261017
DESCRIPTION:
LOCATION:
SUMMARY:Fall Break
END:VEVENT
BEGIN:VEVENT
DTSTAMP:20260422T150736Z
UID:1bea52c7-765e-43d2-b1cb-f9f39dfc1d7e
DTSTART;VALUE=DATE:20261106
DTEND;VALUE=DATE:20261107
DESCRIPTION:
LOCATION:
SUMMARY:Student At-Home Learning Day
END:VEVENT
BEGIN:VEVENT
DTSTAMP:20260422T150736Z
UID:dfffd3c6-b650-445d-9cf6-c46e94b17bbc
DTSTART;VALUE=DATE:20261123
DTEND;VALUE=DATE:20261128
DESCRIPTION:
LOCATION:
SUMMARY:Thanksgiving Break
END:VEVENT
BEGIN:VEVENT
DTSTAMP:20260422T150736Z
UID:4c8aa006-c121-47e5-bea7-0f7fe536edb1
DTSTART:20261218T113000
DTEND:20261218T113000
DESCRIPTION:
LOCATION:
SUMMARY:Early Release Day
END:VEVENT
BEGIN:VEVENT
DTSTAMP:20260422T150736Z
UID:6d0fe66c-d920-4f10-9084-e8667cb26095
DTSTART;VALUE=DATE:20261221
DTEND;VALUE=DATE:20270105
DESCRIPTION:
LOCATION:
SUMMARY:Winter Holidays/Christmas Break
END:VEVENT
BEGIN:VEVENT
DTSTAMP:20260422T150736Z
UID:51e6fbb7-90b4-4a0c-9ce3-462632a25aeb
DTSTART;VALUE=DATE:20270118
DTEND;VALUE=DATE:20270119
DESCRIPTION:
LOCATION:
SUMMARY:Student Holiday-MLK Day
END:VEVENT
BEGIN:VEVENT
DTSTAMP:20260422T150736Z
UID:a6ed38ee-bc09-409e-9f35-e841508994cd
DTSTART;VALUE=DATE:20270215
DTEND;VALUE=DATE:20270220
DESCRIPTION:
LOCATION:
SUMMARY:Winter Break
END:VEVENT
BEGIN:VEVENT
DTSTAMP:20260422T150736Z
UID:7b9fd7dc-3516-4fcf-bced-6e34b157e651
DTSTART;VALUE=DATE:20270312
DTEND;VALUE=DATE:20270313
DESCRIPTION:
LOCATION:
SUMMARY:Student At-Home Learning Day
END:VEVENT
BEGIN:VEVENT
DTSTAMP:20260422T150736Z
UID:d440f76b-99ed-4fa2-b28f-9d59bfb59dd6
DTSTART;VALUE=DATE:20270405
DTEND;VALUE=DATE:20270410
DESCRIPTION:
LOCATION:
SUMMARY:Spring Break
END:VEVENT
BEGIN:VEVENT
DTSTAMP:20260422T150736Z
UID:d47b05c4-0094-4d78-91b9-531ad92ffb73
DTSTART;VALUE=DATE:20270430
DTEND;VALUE=DATE:20270501
DESCRIPTION:
LOCATION:
SUMMARY:Student At-Home Learning Day
END:VEVENT
BEGIN:VEVENT
DTSTAMP:20260422T150736Z
UID:3535c078-c47a-4a01-80f1-884a51f5e875
DTSTART:20270521T113000
DTEND:20270521T113000
DESCRIPTION:
LOCATION:
SUMMARY:Last Day of School & Early Release
END:VEVENT
END:VCALENDAR
