BEGIN:VCALENDAR
VERSION:2.0
PRODID:icalendar-ruby
CALSCALE:GREGORIAN
BEGIN:VTIMEZONE
TZID:America/New_York
BEGIN:DAYLIGHT
DTSTART:20260308T030000
TZOFFSETFROM:-0500
TZOFFSETTO:-0400
RRULE:FREQ=YEARLY;BYDAY=2SU;BYMONTH=3
TZNAME:EDT
END:DAYLIGHT
BEGIN:STANDARD
DTSTART:20261101T010000
TZOFFSETFROM:-0400
TZOFFSETTO:-0500
RRULE:FREQ=YEARLY;BYDAY=1SU;BYMONTH=11
TZNAME:EST
END:STANDARD
END:VTIMEZONE
BEGIN:VEVENT
DTSTAMP:20260423T233052Z
UID:8625886e-433e-48f9-879d-712d6309f32e
DTSTART:20260423T154500
DTEND:20260423T173000
DESCRIPTION:
LOCATION:9227\, 333 Newtown Rd NE\, Calhoun\, GA 30701\, USA
SUMMARY:Cheerleading Tryouts
END:VEVENT
BEGIN:VEVENT
DTSTAMP:20260423T233052Z
UID:e519a09e-70c3-44eb-af46-deb7db3a1659
DTSTART:20260424T080000
DTEND:20260424T090000
DESCRIPTION:
LOCATION:
SUMMARY:FCA Huddle - All Grades
END:VEVENT
BEGIN:VEVENT
DTSTAMP:20260423T233052Z
UID:3c706c66-a7f7-45c7-8e92-b9b8d69f0120
DTSTART:20260424T160000
DTEND:20260424T190000
DESCRIPTION:
LOCATION:1014 Cave Spring Rd SW\, Rome\, GA 30161\, USA
SUMMARY:Track Area Meet @ Darlington
END:VEVENT
BEGIN:VEVENT
DTSTAMP:20260423T233052Z
UID:f80fe51f-ca11-4d45-9e58-335e540bc5fd
DTSTART;VALUE=DATE:20260428
DTEND;VALUE=DATE:20260429
DESCRIPTION:
LOCATION:
SUMMARY:EOG Milestones - ELA
END:VEVENT
BEGIN:VEVENT
DTSTAMP:20260423T233052Z
UID:752d9db3-739b-438a-b671-fbccf8d48245
DTSTART;VALUE=DATE:20260429
DTEND;VALUE=DATE:20260430
DESCRIPTION:
LOCATION:
SUMMARY:EOG Milestones - ELA
END:VEVENT
BEGIN:VEVENT
DTSTAMP:20260423T233052Z
UID:e77f9054-c7c4-47c7-bd67-d69898526f0a
DTSTART;VALUE=DATE:20260430
DTEND;VALUE=DATE:20260501
DESCRIPTION:
LOCATION:
SUMMARY:EOG Milestones - ELA
END:VEVENT
BEGIN:VEVENT
DTSTAMP:20260423T233052Z
UID:56e215d6-75c5-4492-9615-4b4c630fa851
DTSTART:20260501T080000
DTEND:20260501T160000
DESCRIPTION:
LOCATION:
SUMMARY:Student At-Home Learning Day/Teacher PL Day
END:VEVENT
BEGIN:VEVENT
DTSTAMP:20260423T233052Z
UID:59ccce8a-16ea-44cf-ae85-cf46c235cb2c
DTSTART;VALUE=DATE:20260504
DTEND;VALUE=DATE:20260505
DESCRIPTION:
LOCATION:
SUMMARY:EOG Milestones - Math
END:VEVENT
BEGIN:VEVENT
DTSTAMP:20260423T233052Z
UID:72196f21-6b89-43cc-8575-177ce54949df
DTSTART:20260504T153000
DTEND:20260504T173000
DESCRIPTION:
LOCATION:9227\, 333 Newtown Rd NE\, Calhoun\, GA 30701\, USA
SUMMARY:Lady Warrior Spring Open Gym
END:VEVENT
BEGIN:VEVENT
DTSTAMP:20260423T233052Z
UID:437f3575-09b7-48b2-ac1e-fafca6526a81
DTSTART;VALUE=DATE:20260505
DTEND;VALUE=DATE:20260506
DESCRIPTION:
LOCATION:
SUMMARY:EOG Milestones - Math
END:VEVENT
BEGIN:VEVENT
DTSTAMP:20260423T233052Z
UID:afb81466-081d-4045-8d78-2eddf44b393f
DTSTART:20260505T153000
DTEND:20260505T173000
DESCRIPTION:
LOCATION:9227\, 333 Newtown Rd NE\, Calhoun\, GA 30701\, USA
SUMMARY:Lady Warrior Spring Open Gym
END:VEVENT
BEGIN:VEVENT
DTSTAMP:20260423T233052Z
UID:05b6561b-06c1-42ae-9d09-16d3c8e88238
DTSTART;VALUE=DATE:20260506
DTEND;VALUE=DATE:20260507
DESCRIPTION:
LOCATION:
SUMMARY:EOG Milestones - Science (8th grade only)
END:VEVENT
BEGIN:VEVENT
DTSTAMP:20260423T233052Z
UID:9d85b833-a243-40d1-8571-032b7caa5408
DTSTART:20260506T153000
DTEND:20260506T173000
DESCRIPTION:
LOCATION:9227\, 333 Newtown Rd NE\, Calhoun\, GA 30701\, USA
SUMMARY:Lady Warrior Spring Open Gym
END:VEVENT
BEGIN:VEVENT
DTSTAMP:20260423T233052Z
UID:aa5b2c25-eb64-407e-b4f1-2ccaae3983c7
DTSTART;VALUE=DATE:20260507
DTEND;VALUE=DATE:20260508
DESCRIPTION:
LOCATION:
SUMMARY:EOG Milestones - Social Studies (8th grade only)
END:VEVENT
BEGIN:VEVENT
DTSTAMP:20260423T233052Z
UID:8ecbd578-15f2-4eed-8fb9-84c88e7ed7b9
DTSTART;VALUE=DATE:20260511
DTEND;VALUE=DATE:20260512
DESCRIPTION:
LOCATION:
SUMMARY:EOC Algebra 1 
END:VEVENT
BEGIN:VEVENT
DTSTAMP:20260423T233052Z
UID:1775bb7d-7654-42eb-8529-c5f20dd0af65
DTSTART:20260511T161500
DTEND:20260511T191500
DESCRIPTION:
LOCATION:100 Match Point Way NE\, Rome\, GA 30165\, USA
SUMMARY:Tennis Region @ Rome Tennis Center
END:VEVENT
BEGIN:VEVENT
DTSTAMP:20260423T233052Z
UID:c1ed1e2e-3cde-4ee1-9e95-d18844db4960
DTSTART;VALUE=DATE:20260512
DTEND;VALUE=DATE:20260513
DESCRIPTION:
LOCATION:
SUMMARY:EOC Algebra 1 
END:VEVENT
BEGIN:VEVENT
DTSTAMP:20260423T233052Z
UID:6deb60aa-4bd5-4ab7-9781-c1ccc3760851
DTSTART;VALUE=DATE:20260514
DTEND;VALUE=DATE:20260515
DESCRIPTION:
LOCATION:
SUMMARY:6th Grade Field Day
END:VEVENT
BEGIN:VEVENT
DTSTAMP:20260423T233052Z
UID:ef76af5a-c8fc-41ee-b4e8-155e772a5c85
DTSTART;VALUE=DATE:20260514
DTEND;VALUE=DATE:20260515
DESCRIPTION:
LOCATION:
SUMMARY:GC Senior Walk
END:VEVENT
BEGIN:VEVENT
DTSTAMP:20260423T233052Z
UID:fc33bcdc-b047-49d3-9773-df86271dbe7e
DTSTART;VALUE=DATE:20260515
DTEND;VALUE=DATE:20260516
DESCRIPTION:
LOCATION:
SUMMARY:7th Grade Field Day
END:VEVENT
BEGIN:VEVENT
DTSTAMP:20260423T233052Z
UID:ea8666dc-01ab-4ade-af93-0af63f0453a7
DTSTART;VALUE=DATE:20260518
DTEND;VALUE=DATE:20260519
DESCRIPTION:
LOCATION:
SUMMARY:8th Grade Field Day
END:VEVENT
BEGIN:VEVENT
DTSTAMP:20260423T233052Z
UID:5824e368-3ee1-46a2-abf7-fa8a3c5c4a86
DTSTART:20260520T093000
DTEND:20260520T103000
DESCRIPTION:
LOCATION:
SUMMARY:6th Grade Awards Day
END:VEVENT
BEGIN:VEVENT
DTSTAMP:20260423T233052Z
UID:f2663843-1a00-4a1e-af13-b021091210b6
DTSTART:20260520T121000
DTEND:20260520T131500
DESCRIPTION:
LOCATION:9227\, 333 Newtown Rd NE\, Calhoun\, GA 30701\, USA
SUMMARY:7th Grade Awards Day
END:VEVENT
BEGIN:VEVENT
DTSTAMP:20260423T233052Z
UID:4dd4fc33-690d-44db-8761-0a617a382a6c
DTSTART:20260521T093000
DTEND:20260521T103000
DESCRIPTION:
LOCATION:
SUMMARY:8th Grade Awards Day
END:VEVENT
BEGIN:VEVENT
DTSTAMP:20260423T233052Z
UID:47907e94-c479-44c1-904b-518c6a055cd0
DTSTART:20260522T074500
DTEND:20260522T123000
DESCRIPTION:
LOCATION:
SUMMARY:Last Day of School/Early Release
END:VEVENT
BEGIN:VEVENT
DTSTAMP:20260423T233052Z
UID:e48942c5-c3ad-45f6-a71d-fca0ea3d5bc3
DTSTART;VALUE=DATE:20260525
DTEND;VALUE=DATE:20260526
DESCRIPTION:
LOCATION:
SUMMARY:Memorial Day Holiday
END:VEVENT
BEGIN:VEVENT
DTSTAMP:20260423T233052Z
UID:4f974e91-0384-49fe-bf50-704cbdd002d4
DTSTART:20260526T080000
DTEND:20260526T160000
DESCRIPTION:
LOCATION:
SUMMARY:Post-Planning
END:VEVENT
BEGIN:VEVENT
DTSTAMP:20260423T233052Z
UID:7b524eb5-c01c-4a13-b70f-74f1287a55c2
DTSTART:20260527T080000
DTEND:20260527T160000
DESCRIPTION:
LOCATION:
SUMMARY:Post-Planning
END:VEVENT
BEGIN:VEVENT
DTSTAMP:20260423T233052Z
UID:5b166042-656a-4e54-9c59-9b9282043257
DTSTART:20260528T080000
DTEND:20260528T160000
DESCRIPTION:
LOCATION:
SUMMARY:Flex Days for Staff
END:VEVENT
BEGIN:VEVENT
DTSTAMP:20260423T233052Z
UID:5bf5d5e7-ff24-4048-9de9-e7e77aed7ae3
DTSTART:20260529T080000
DTEND:20260529T160000
DESCRIPTION:
LOCATION:
SUMMARY:Flex Days for Staff
END:VEVENT
BEGIN:VEVENT
DTSTAMP:20260423T233052Z
UID:489025f9-b35f-4a20-8b51-48b2ae12cf69
DTSTART:20260601T080000
DTEND:20260601T160000
DESCRIPTION:
LOCATION:
SUMMARY:Flex Days for Staff
END:VEVENT
BEGIN:VEVENT
DTSTAMP:20260423T233052Z
UID:ab315268-8510-463c-be34-42d4c4b3dbfb
DTSTART:20260602T080000
DTEND:20260602T160000
DESCRIPTION:
LOCATION:
SUMMARY:Flex Days for Staff
END:VEVENT
BEGIN:VEVENT
DTSTAMP:20260423T233052Z
UID:f9bfeb1d-7d88-47a9-8396-b31f6356025c
DTSTART:20260603T080000
DTEND:20260603T160000
DESCRIPTION:
LOCATION:
SUMMARY:Flex Days for Staff
END:VEVENT
BEGIN:VEVENT
DTSTAMP:20260423T233052Z
UID:70ce7d9c-fe1d-4806-941c-8fa29972cb2e
DTSTART:20260604T080000
DTEND:20260604T160000
DESCRIPTION:
LOCATION:
SUMMARY:Flex Days for Staff
END:VEVENT
BEGIN:VEVENT
DTSTAMP:20260423T233052Z
UID:1445deb1-8967-40ef-bd32-2e9dfa5181e3
DTSTART:20260605T080000
DTEND:20260605T160000
DESCRIPTION:
LOCATION:
SUMMARY:Flex Days for Staff
END:VEVENT
BEGIN:VEVENT
DTSTAMP:20260423T233052Z
UID:dc484697-f100-403e-87e0-7167f2e5909a
DTSTART:20260608T083000
DTEND:20260608T123000
DESCRIPTION:
LOCATION:335 Warrior Path NE #9266\, Calhoun\, GA 30701\, USA
SUMMARY:GCPAA Theatre Camp
END:VEVENT
BEGIN:VEVENT
DTSTAMP:20260423T233052Z
UID:7b0ef549-8265-4a5d-89c8-2782f35c589f
DTSTART:20260609T083000
DTEND:20260609T123000
DESCRIPTION:
LOCATION:335 Warrior Path NE #9266\, Calhoun\, GA 30701\, USA
SUMMARY:GCPAA Theatre Camp
END:VEVENT
BEGIN:VEVENT
DTSTAMP:20260423T233052Z
UID:d4c1aefa-8173-4072-92b3-1fae8c3bfcdd
DTSTART:20260610T083000
DTEND:20260610T113000
DESCRIPTION:<p>K-8 Ashworth Summer Basketball Camp</p><p>JUNE 10 &amp\; 11\
 , 2026</p><p>8:30 - 11:30 AM Ashworth Middle School Gym</p><p>- Work on fu
 ndamentals </p><p>- Meet the players Dribbing and shooting games</p><p>- S
 crimmages</p><p>- Awards</p><p>- Concessions will be sold</p><p>$50 for ea
 rly registration</p><p>$55 for registration at the door</p><p>MORE INFORMA
 TION:</p><p>Please scan the QR code or use this link to make your payment 
 online! </p><p><a target="_blank" rel="noopener noreferrer nofollow" href=
 "https://gordoncountyga.schoolwindow.com/estore/ams/girls-and-boys-basketb
 all.html">https://gordoncountyga.schoolwindow.com/estore/ams/girls-and-boy
 s-basketball.html</a></p><p>Parents MUST complete this waiver on FIRST DAY
  of camp: <a target="_blank" rel="noopener noreferrer nofollow" href="http
 s://aptg.co/kJmV4N">https://aptg.co/kJmV4N</a></p><p>If you have any quest
 ions please feel free to reach out to the coaches! </p><p>- Melanie Moore 
 - <a target="_blank" rel="noopener noreferrer nofollow" href="mailto:mmoor
 e@gcbe.org">mmoore@gcbe.org</a></p><p>- Cara Crump - <a target="_blank" re
 l="noopener noreferrer nofollow" href="mailto:ccrump@gcbe.org">ccrump@gcbe
 .org</a></p>
LOCATION:9227\, 333 Newtown Rd NE\, Calhoun\, GA 30701\, USA
SUMMARY:AMS  K-8 Basketball Camp
END:VEVENT
BEGIN:VEVENT
DTSTAMP:20260423T233052Z
UID:cb6529f4-82d2-4801-9de1-25f3a1bee860
DTSTART:20260610T083000
DTEND:20260610T123000
DESCRIPTION:
LOCATION:335 Warrior Path NE #9266\, Calhoun\, GA 30701\, USA
SUMMARY:GCPAA Theatre Camp
END:VEVENT
BEGIN:VEVENT
DTSTAMP:20260423T233052Z
UID:9eb1a1f4-4816-4427-bbfa-915621e48287
DTSTART:20260611T083000
DTEND:20260611T113000
DESCRIPTION:<p>K-8 Ashworth Summer Basketball Camp</p><p>JUNE 10 &amp\; 11\
 , 2026</p><p>8:30 - 11:30 AM Ashworth Middle School Gym</p><p>- Work on fu
 ndamentals </p><p>- Meet the players Dribbing and shooting games</p><p>- S
 crimmages</p><p>- Awards</p><p>- Concessions will be sold</p><p>$50 for ea
 rly registration</p><p>$55 for registration at the door</p><p>MORE INFORMA
 TION:</p><p>Please scan the QR code or use this link to make your payment 
 online! </p><p><a target="_blank" rel="noopener noreferrer nofollow" href=
 "https://gordoncountyga.schoolwindow.com/estore/ams/girls-and-boys-basketb
 all.html">https://gordoncountyga.schoolwindow.com/estore/ams/girls-and-boy
 s-basketball.html</a></p><p>Parents MUST complete this waiver on FIRST DAY
  of camp: <a target="_blank" rel="noopener noreferrer nofollow" href="http
 s://aptg.co/kJmV4N">https://aptg.co/kJmV4N</a></p><p>If you have any quest
 ions please feel free to reach out to the coaches! </p><p>- Melanie Moore 
 - <a target="_blank" rel="noopener noreferrer nofollow" href="mailto:mmoor
 e@gcbe.org">mmoore@gcbe.org</a></p><p>- Cara Crump - <a target="_blank" re
 l="noopener noreferrer nofollow" href="mailto:ccrump@gcbe.org">ccrump@gcbe
 .org</a></p>
LOCATION:9227\, 333 Newtown Rd NE\, Calhoun\, GA 30701\, USA
SUMMARY:AMS  K-8 Basketball Camp
END:VEVENT
BEGIN:VEVENT
DTSTAMP:20260423T233052Z
UID:cfb21bf0-ba5d-46da-8ba6-b12b247f6c65
DTSTART:20260611T083000
DTEND:20260611T123000
DESCRIPTION:
LOCATION:335 Warrior Path NE #9266\, Calhoun\, GA 30701\, USA
SUMMARY:GCPAA Theatre Camp
END:VEVENT
BEGIN:VEVENT
DTSTAMP:20260423T233052Z
UID:d00eaec0-3f21-44a4-9e19-a08c00f33a2c
DTSTART:20260713T190000
DTEND:20260713T200000
DESCRIPTION:
LOCATION:
SUMMARY:Summer Golf
END:VEVENT
BEGIN:VEVENT
DTSTAMP:20260423T233052Z
UID:83d30dfe-638a-4cc8-b164-121f49251dbd
DTSTART:20260716T190000
DTEND:20260716T200000
DESCRIPTION:
LOCATION:
SUMMARY:Summer Golf
END:VEVENT
BEGIN:VEVENT
DTSTAMP:20260423T233052Z
UID:2052d5d0-7660-4b38-8074-d6a4454336d4
DTSTART:20260720T190000
DTEND:20260720T200000
DESCRIPTION:
LOCATION:
SUMMARY:Summer Golf
END:VEVENT
BEGIN:VEVENT
DTSTAMP:20260423T233052Z
UID:cd9cf9c8-8fa2-4385-b5a7-cc0a7a24d4f8
DTSTART:20260723T190000
DTEND:20260723T200000
DESCRIPTION:
LOCATION:
SUMMARY:Summer Golf
END:VEVENT
BEGIN:VEVENT
DTSTAMP:20260423T233052Z
UID:970a0b26-a60e-47b5-8838-71d9e8cad3a9
DTSTART:20260727T190000
DTEND:20260727T200000
DESCRIPTION:
LOCATION:
SUMMARY:Summer Golf
END:VEVENT
BEGIN:VEVENT
DTSTAMP:20260423T233052Z
UID:5fce3dd3-70dc-4f41-8a52-63456b53602c
DTSTART:20260730T190000
DTEND:20260730T200000
DESCRIPTION:
LOCATION:
SUMMARY:Summer Golf
END:VEVENT
BEGIN:VEVENT
DTSTAMP:20260423T233052Z
UID:a8dbde97-c52c-4be5-89e5-b9dc34ef2a4c
DTSTART:20260803T190000
DTEND:20260803T200000
DESCRIPTION:
LOCATION:
SUMMARY:Summer Golf
END:VEVENT
BEGIN:VEVENT
DTSTAMP:20260423T233052Z
UID:cf94655d-8c7d-4343-8af1-c67ef6a89cf3
DTSTART:20260806T190000
DTEND:20260806T200000
DESCRIPTION:
LOCATION:
SUMMARY:Summer Golf
END:VEVENT
BEGIN:VEVENT
DTSTAMP:20260423T233052Z
UID:fc3cddac-bcf7-430b-81a3-6ca3efabd15b
DTSTART;VALUE=DATE:20260810
DTEND;VALUE=DATE:20260812
DESCRIPTION:
LOCATION:
SUMMARY:Golf Tryouts
END:VEVENT
END:VCALENDAR
