BEGIN:VCALENDAR
VERSION:2.0
PRODID:icalendar-ruby
CALSCALE:GREGORIAN
BEGIN:VTIMEZONE
TZID:America/Los_Angeles
BEGIN:DAYLIGHT
DTSTART:20260308T030000
TZOFFSETFROM:-0800
TZOFFSETTO:-0700
RRULE:FREQ=YEARLY;BYDAY=2SU;BYMONTH=3
TZNAME:PDT
END:DAYLIGHT
BEGIN:STANDARD
DTSTART:20261101T010000
TZOFFSETFROM:-0700
TZOFFSETTO:-0800
RRULE:FREQ=YEARLY;BYDAY=1SU;BYMONTH=11
TZNAME:PST
END:STANDARD
END:VTIMEZONE
BEGIN:VEVENT
DTSTAMP:20260419T230510Z
UID:78e038ad-cb20-470b-bd5e-c853ec4907d2
DTSTART;VALUE=DATE:20260422
DTEND;VALUE=DATE:20260423
DESCRIPTION:<html><head><meta http-equiv="Content-Type" content="text/html\
 ; charset=utf-8"><meta name="Generator" content="Microsoft Exchange Server
 "><!-- converted from rtf --><style><!-- .EmailQuote { margin-left: 1pt\; 
 padding-left: 4pt\; border-left: #800000 2px solid\; } --></style></head><
 body><font face="Times New Roman" size="3"><span style="font-size:12pt\;">
 <a name="BM_BEGIN"></a></span></font></body></html>
LOCATION:United States
SUMMARY:Administrative Professionals Day
END:VEVENT
BEGIN:VEVENT
DTSTAMP:20260419T230510Z
UID:e2940458-a9a5-4db0-b30e-207febd704dc
DTSTART;VALUE=DATE:20260510
DTEND;VALUE=DATE:20260511
DESCRIPTION:<html><head><meta http-equiv="Content-Type" content="text/html\
 ; charset=utf-8"><meta name="Generator" content="Microsoft Exchange Server
 "><!-- converted from rtf --><style><!-- .EmailQuote { margin-left: 1pt\; 
 padding-left: 4pt\; border-left: #800000 2px solid\; } --></style></head><
 body><font face="Times New Roman" size="3"><span style="font-size:12pt\;">
 <a name="BM_BEGIN"></a></span></font></body></html>
LOCATION:United States
SUMMARY:Mother's Day
END:VEVENT
BEGIN:VEVENT
DTSTAMP:20260419T230510Z
UID:9ffebd4f-f89a-40fb-a9e5-31d292fb6eb7
DTSTART;VALUE=DATE:20260515
DTEND;VALUE=DATE:20260516
DESCRIPTION:<html><head><meta http-equiv="Content-Type" content="text/html\
 ; charset=utf-8"><meta name="Generator" content="Microsoft Exchange Server
 "><!-- converted from rtf --><style><!-- .EmailQuote { margin-left: 1pt\; 
 padding-left: 4pt\; border-left: #800000 2px solid\; } --></style></head><
 body><font face="Times New Roman" size="3"><span style="font-size:12pt\;">
 <a name="BM_BEGIN"></a></span></font></body></html>
LOCATION:United States
SUMMARY:Peace Officers Memorial Day
END:VEVENT
BEGIN:VEVENT
DTSTAMP:20260419T230510Z
UID:a53fdfa0-338a-4ab3-86f3-8d7767ed94e2
DTSTART;VALUE=DATE:20260525
DTEND;VALUE=DATE:20260526
DESCRIPTION:<html><head><meta http-equiv="Content-Type" content="text/html\
 ; charset=utf-8"><meta name="Generator" content="Microsoft Exchange Server
 "><!-- converted from rtf --><style><!-- .EmailQuote { margin-left: 1pt\; 
 padding-left: 4pt\; border-left: #800000 2px solid\; } --></style></head><
 body><font face="Times New Roman" size="3"><span style="font-size:12pt\;">
 <a name="BM_BEGIN"></a></span></font></body></html>
LOCATION:United States
SUMMARY:Memorial Day
END:VEVENT
BEGIN:VEVENT
DTSTAMP:20260419T230510Z
UID:6a9254c0-283b-4187-9527-de8cd2204623
DTSTART;VALUE=DATE:20260614
DTEND;VALUE=DATE:20260615
DESCRIPTION:<html><head><meta http-equiv="Content-Type" content="text/html\
 ; charset=utf-8"><meta name="Generator" content="Microsoft Exchange Server
 "><!-- converted from rtf --><style><!-- .EmailQuote { margin-left: 1pt\; 
 padding-left: 4pt\; border-left: #800000 2px solid\; } --></style></head><
 body><font face="Times New Roman" size="3"><span style="font-size:12pt\;">
 <a name="BM_BEGIN"></a></span></font></body></html>
LOCATION:United States
SUMMARY:Flag Day
END:VEVENT
BEGIN:VEVENT
DTSTAMP:20260419T230510Z
UID:36ec0a06-72ee-412c-a34a-aa3c64b8247a
DTSTART;VALUE=DATE:20260619
DTEND;VALUE=DATE:20260620
DESCRIPTION:<html><head><meta http-equiv="Content-Type" content="text/html\
 ; charset=utf-8"><meta name="Generator" content="Microsoft Exchange Server
 "><!-- converted from rtf --><style><!-- .EmailQuote { margin-left: 1pt\; 
 padding-left: 4pt\; border-left: #800000 2px solid\; } --></style></head><
 body><font face="Times New Roman" size="3"><span style="font-size:12pt\;">
 <a name="BM_BEGIN"></a></span></font></body></html>
LOCATION:United States
SUMMARY:Juneteenth
END:VEVENT
BEGIN:VEVENT
DTSTAMP:20260419T230510Z
UID:bba8f7bd-bc3a-4f13-a739-e21b23b3043b
DTSTART;VALUE=DATE:20260621
DTEND;VALUE=DATE:20260622
DESCRIPTION:<html><head><meta http-equiv="Content-Type" content="text/html\
 ; charset=utf-8"><meta name="Generator" content="Microsoft Exchange Server
 "><!-- converted from rtf --><style><!-- .EmailQuote { margin-left: 1pt\; 
 padding-left: 4pt\; border-left: #800000 2px solid\; } --></style></head><
 body><font face="Times New Roman" size="3"><span style="font-size:12pt\;">
 <a name="BM_BEGIN"></a></span></font></body></html>
LOCATION:United States
SUMMARY:Father's Day
END:VEVENT
BEGIN:VEVENT
DTSTAMP:20260419T230510Z
UID:fc729942-fc5e-47bf-93db-2f07ad2479f1
DTSTART;VALUE=DATE:20260703
DTEND;VALUE=DATE:20260704
DESCRIPTION:<html><head><meta http-equiv="Content-Type" content="text/html\
 ; charset=utf-8"><meta name="Generator" content="Microsoft Exchange Server
 "><!-- converted from rtf --><style><!-- .EmailQuote { margin-left: 1pt\; 
 padding-left: 4pt\; border-left: #800000 2px solid\; } --></style></head><
 body><font face="Times New Roman" size="3"><span style="font-size:12pt\;">
 <a name="BM_BEGIN"></a></span></font></body></html>
LOCATION:United States
SUMMARY:Independence Day (Observed)
END:VEVENT
BEGIN:VEVENT
DTSTAMP:20260419T230510Z
UID:56e7dae4-8207-4b08-bf6f-48d5bebe6665
DTSTART;VALUE=DATE:20260704
DTEND;VALUE=DATE:20260705
DESCRIPTION:<html><head><meta http-equiv="Content-Type" content="text/html\
 ; charset=utf-8"><meta name="Generator" content="Microsoft Exchange Server
 "><!-- converted from rtf --><style><!-- .EmailQuote { margin-left: 1pt\; 
 padding-left: 4pt\; border-left: #800000 2px solid\; } --></style></head><
 body><font face="Times New Roman" size="3"><span style="font-size:12pt\;">
 <a name="BM_BEGIN"></a></span></font></body></html>
LOCATION:United States
SUMMARY:Independence Day
END:VEVENT
BEGIN:VEVENT
DTSTAMP:20260419T230510Z
UID:b662af4a-d589-4072-b9d2-da1b3f57d4c2
DTSTART;VALUE=DATE:20260907
DTEND;VALUE=DATE:20260908
DESCRIPTION:<html><head><meta http-equiv="Content-Type" content="text/html\
 ; charset=utf-8"><meta name="Generator" content="Microsoft Exchange Server
 "><!-- converted from rtf --><style><!-- .EmailQuote { margin-left: 1pt\; 
 padding-left: 4pt\; border-left: #800000 2px solid\; } --></style></head><
 body><font face="Times New Roman" size="3"><span style="font-size:12pt\;">
 <a name="BM_BEGIN"></a></span></font></body></html>
LOCATION:United States
SUMMARY:Labor Day
END:VEVENT
BEGIN:VEVENT
DTSTAMP:20260419T230510Z
UID:ceff0a82-f3a0-461f-99f0-cb589028ca15
DTSTART;VALUE=DATE:20261012
DTEND;VALUE=DATE:20261013
DESCRIPTION:<html><head><meta http-equiv="Content-Type" content="text/html\
 ; charset=utf-8"><meta name="Generator" content="Microsoft Exchange Server
 "><!-- converted from rtf --><style><!-- .EmailQuote { margin-left: 1pt\; 
 padding-left: 4pt\; border-left: #800000 2px solid\; } --></style></head><
 body><font face="Times New Roman" size="3"><span style="font-size:12pt\;">
 <a name="BM_BEGIN"></a></span></font></body></html>
LOCATION:United States
SUMMARY:Columbus Day
END:VEVENT
BEGIN:VEVENT
DTSTAMP:20260419T230510Z
UID:e5b8dd0d-66e5-4760-a8a6-74b6021c8451
DTSTART;VALUE=DATE:20261031
DTEND;VALUE=DATE:20261101
DESCRIPTION:<html><head><meta http-equiv="Content-Type" content="text/html\
 ; charset=utf-8"><meta name="Generator" content="Microsoft Exchange Server
 "><!-- converted from rtf --><style><!-- .EmailQuote { margin-left: 1pt\; 
 padding-left: 4pt\; border-left: #800000 2px solid\; } --></style></head><
 body><font face="Times New Roman" size="3"><span style="font-size:12pt\;">
 <a name="BM_BEGIN"></a></span></font></body></html>
LOCATION:United States
SUMMARY:Halloween
END:VEVENT
BEGIN:VEVENT
DTSTAMP:20260419T230510Z
UID:e97b0cb4-c33b-4a87-a024-b2af9c94a955
DTSTART;VALUE=DATE:20261103
DTEND;VALUE=DATE:20261104
DESCRIPTION:<html><head><meta http-equiv="Content-Type" content="text/html\
 ; charset=utf-8"><meta name="Generator" content="Microsoft Exchange Server
 "><!-- converted from rtf --><style><!-- .EmailQuote { margin-left: 1pt\; 
 padding-left: 4pt\; border-left: #800000 2px solid\; } --></style></head><
 body><font face="Times New Roman" size="3"><span style="font-size:12pt\;">
 <a name="BM_BEGIN"></a></span></font></body></html>
LOCATION:United States
SUMMARY:Election Day
END:VEVENT
BEGIN:VEVENT
DTSTAMP:20260419T230510Z
UID:a3c414f8-3db9-458e-8c41-a984d3b092cf
DTSTART;VALUE=DATE:20261111
DTEND;VALUE=DATE:20261112
DESCRIPTION:<html><head><meta http-equiv="Content-Type" content="text/html\
 ; charset=utf-8"><meta name="Generator" content="Microsoft Exchange Server
 "><!-- converted from rtf --><style><!-- .EmailQuote { margin-left: 1pt\; 
 padding-left: 4pt\; border-left: #800000 2px solid\; } --></style></head><
 body><font face="Times New Roman" size="3"><span style="font-size:12pt\;">
 <a name="BM_BEGIN"></a></span></font></body></html>
LOCATION:United States
SUMMARY:Veterans Day
END:VEVENT
BEGIN:VEVENT
DTSTAMP:20260419T230510Z
UID:82485f15-54b9-41f5-afb3-960c4e076077
DTSTART;VALUE=DATE:20261126
DTEND;VALUE=DATE:20261127
DESCRIPTION:<html><head><meta http-equiv="Content-Type" content="text/html\
 ; charset=utf-8"><meta name="Generator" content="Microsoft Exchange Server
 "><!-- converted from rtf --><style><!-- .EmailQuote { margin-left: 1pt\; 
 padding-left: 4pt\; border-left: #800000 2px solid\; } --></style></head><
 body><font face="Times New Roman" size="3"><span style="font-size:12pt\;">
 <a name="BM_BEGIN"></a></span></font></body></html>
LOCATION:United States
SUMMARY:Thanksgiving Day
END:VEVENT
BEGIN:VEVENT
DTSTAMP:20260419T230510Z
UID:07562b51-eeb5-43e3-9c43-32f20e7bc999
DTSTART;VALUE=DATE:20261127
DTEND;VALUE=DATE:20261128
DESCRIPTION:<html><head><meta http-equiv="Content-Type" content="text/html\
 ; charset=utf-8"><meta name="Generator" content="Microsoft Exchange Server
 "><!-- converted from rtf --><style><!-- .EmailQuote { margin-left: 1pt\; 
 padding-left: 4pt\; border-left: #800000 2px solid\; } --></style></head><
 body><font face="Times New Roman" size="3"><span style="font-size:12pt\;">
 <a name="BM_BEGIN"></a></span></font></body></html>
LOCATION:United States
SUMMARY:Day After Thanksgiving Day
END:VEVENT
END:VCALENDAR
