BEGIN:VCALENDAR
VERSION:2.0
PRODID:icalendar-ruby
CALSCALE:GREGORIAN
BEGIN:VTIMEZONE
TZID:America/Chicago
BEGIN:DAYLIGHT
DTSTART:20260308T030000
TZOFFSETFROM:-0600
TZOFFSETTO:-0500
RRULE:FREQ=YEARLY;BYDAY=2SU;BYMONTH=3
TZNAME:CDT
END:DAYLIGHT
BEGIN:STANDARD
DTSTART:20261101T010000
TZOFFSETFROM:-0500
TZOFFSETTO:-0600
RRULE:FREQ=YEARLY;BYDAY=1SU;BYMONTH=11
TZNAME:CST
END:STANDARD
END:VTIMEZONE
BEGIN:VEVENT
DTSTAMP:20260423T175955Z
UID:44043c40-53e0-48bb-af0f-9a04939d5686
DTSTART:20260423T170000
DTEND:20260423T200000
DESCRIPTION:<html><head><meta http-equiv="Content-Type" content="text/html\
 ; charset=utf-8"></head><body><div class="elementToProof" style="font-fami
 ly:&quot\;Trebuchet MS&quot\;\,Trebuchet\,sans-serif\; font-size:11pt\; co
 lor:rgb(0\,0\,0)"><br></div></body></html>
LOCATION:DeLeon City Plaza\, 101 N Main St\, Victoria\, TX\, 77901
SUMMARY:Downtown Rhythms
END:VEVENT
BEGIN:VEVENT
DTSTAMP:20260423T175955Z
UID:9e433d50-59bf-4839-b9f5-45ccaa9c92e8
DTSTART:20260425T180000
DTEND:20260425T183000
DESCRIPTION:
LOCATION:Victoria East High School\, 4103 E Mockingbird Ln\, Victoria\, TX\
 , 77904
SUMMARY:Victoria East Theatre UIL One Act Play Team in Failure\, A Love Sto
 ry
END:VEVENT
BEGIN:VEVENT
DTSTAMP:20260423T175955Z
UID:9b4384b7-c46b-474b-86ab-49e3c7801f32
DTSTART:20260425T193000
DTEND:20260425T210000
DESCRIPTION:<html><head><meta http-equiv="Content-Type" content="text/html\
 ; charset=utf-8"></head><body><div class="elementToProof" style="font-fami
 ly:&quot\;Trebuchet MS&quot\;\,Trebuchet\,sans-serif\; font-size:11pt\; co
 lor:rgb(0\,0\,0)"><b>Presented by Victoria Symphony</b></div><div style="f
 ont-family:&quot\;Trebuchet MS&quot\;\,Trebuchet\,sans-serif\; font-size:1
 1pt\; color:rgb(0\,0\,0)"><b>Victoria Fine Arts Center does not sell or di
 stribute tickets for this event.</b></div></body></html>
LOCATION:Victoria Fine Arts Center\, 1002 Sam Houston Dr\, Victoria\, TX\, 
 77901
SUMMARY:Space & the Symphony\, the Final Frontier
END:VEVENT
BEGIN:VEVENT
DTSTAMP:20260423T175955Z
UID:42199636-6718-460b-bdce-d749bfdbc7d1
DTSTART:20260427T180000
DTEND:20260427T200000
DESCRIPTION:<html><head><meta http-equiv="Content-Type" content="text/html\
 ; charset=utf-8"></head><body><div class="elementToProof" style="font-fami
 ly:&quot\;Trebuchet MS&quot\;\,Trebuchet\,sans-serif\; font-size:11pt\; co
 lor:rgb(0\,0\,0)">STEM\, Howell and East Percussion Bands.</div></body></h
 tml>
LOCATION:Victoria East High School\, 4103 E Mockingbird Ln\, Victoria\, TX\
 , 77904
SUMMARY:East Band Cluster Percussion Concert
END:VEVENT
BEGIN:VEVENT
DTSTAMP:20260423T175955Z
UID:d4c99bae-383c-49c2-9c3f-0bef58bfa476
DTSTART:20260428T180000
DTEND:20260428T190000
DESCRIPTION:
LOCATION:Victoria East High School\, 4103 E Mockingbird Ln\, Victoria\, TX\
 , 77904
SUMMARY:Victoria ISD Jazz Concert
END:VEVENT
BEGIN:VEVENT
DTSTAMP:20260423T175955Z
UID:b6b847a9-d6b9-4b9d-a833-33c402abeb7b
DTSTART:20260429T180000
DTEND:20260429T183000
DESCRIPTION:<html><head><meta http-equiv="Content-Type" content="text/html\
 ; charset=utf-8"></head><body><div class="elementToProof" style="font-fami
 ly:&quot\;Trebuchet MS&quot\;\,Trebuchet\,sans-serif\; font-size:11pt\; co
 lor:rgb(0\,0\,0)">Cade\, Patti Welder and West Percussion Band.</div></bod
 y></html>
LOCATION:Victoria West High School\, 307 Tropical Dr\, Victoria\, TX\, 7790
 4
SUMMARY:West Band Cluster Percussion Concert
END:VEVENT
BEGIN:VEVENT
DTSTAMP:20260423T175955Z
UID:b76dfc1a-b177-4a2a-a650-0621e7dc2abb
DTSTART:20260501T170000
DTEND:20260501T210000
DESCRIPTION:
LOCATION:Victoria Community Center\, 2905 E North St\, Victoria\, TX\, 7790
 1
SUMMARY:Band Of Warriors Banquet
END:VEVENT
BEGIN:VEVENT
DTSTAMP:20260423T175955Z
UID:67c8d92e-078d-41a1-b2ae-1dfef344fb3f
DTSTART:20260502T180000
DTEND:20260502T210000
DESCRIPTION:
LOCATION:Victoria Fine Arts Center\, 1002 Sam Houston Dr\, Victoria\, TX\, 
 77901
SUMMARY:West Legacy Dance Spring Show
END:VEVENT
BEGIN:VEVENT
DTSTAMP:20260423T175955Z
UID:8394ab2f-0228-48d2-8bc0-b04bc1ef528a
DTSTART:20260505T190000
DTEND:20260505T200000
DESCRIPTION:
LOCATION:Victoria West High School\, 307 Tropical Dr\, Victoria\, TX\, 7790
 4
SUMMARY:Cade & P. Welder M.S Orchestra Spring Concert
END:VEVENT
BEGIN:VEVENT
DTSTAMP:20260423T175955Z
UID:5c70eba7-c462-49c4-b505-0741f094c16b
DTSTART:20260507T140000
DTEND:20260507T143000
DESCRIPTION:<html><head><meta http-equiv="Content-Type" content="text/html\
 ; charset=utf-8"></head><body><div class="elementToProof" style="font-fami
 ly:&quot\;Trebuchet MS&quot\;\,Trebuchet\,sans-serif\; font-size:11pt\; co
 lor:rgb(0\,0\,0)">Honor Choir and students will perform in Talent Show.</d
 iv></body></html>
LOCATION:Mission Valley Elementary School\, 12063 Fm 236\, Victoria\, TX\, 
 77905
SUMMARY:Mission Valley Elem. Talent Show
END:VEVENT
BEGIN:VEVENT
DTSTAMP:20260423T175955Z
UID:600de456-1616-4ebb-84c0-9bcdadc844b7
DTSTART:20260507T190000
DTEND:20260507T200000
DESCRIPTION:
LOCATION:Victoria East High School\, 4103 E Mockingbird Ln\, Victoria\, TX\
 , 77904
SUMMARY:East H.S Choir Spring Concert
END:VEVENT
BEGIN:VEVENT
DTSTAMP:20260423T175955Z
UID:b23e84de-c440-417c-ba4c-1bc52d3df9f8
DTSTART:20260507T190000
DTEND:20260507T200000
DESCRIPTION:
LOCATION:Victoria West High School\, 307 Tropical Dr\, Victoria\, TX\, 7790
 4
SUMMARY:West H.S. Orchestra Spring Concert
END:VEVENT
BEGIN:VEVENT
DTSTAMP:20260423T175955Z
UID:c65899d8-5b55-4145-88e7-47d3c65c7e96
DTSTART:20260508T090000
DTEND:20260508T103000
DESCRIPTION:<html><head><meta http-equiv="Content-Type" content="text/html\
 ; charset=utf-8"></head><body><div class="elementToProof" style="font-fami
 ly:&quot\;Trebuchet MS&quot\;\,Trebuchet\,sans-serif\; font-size:11pt\; co
 lor:rgb(0\,0\,0)"><b>Parent please arrive early and check in at the front 
 office.</b></div></body></html>
LOCATION:Victoria West High School\, 307 Tropical Dr\, Victoria\, TX\, 7790
 4
SUMMARY:West High School Talent Show
END:VEVENT
BEGIN:VEVENT
DTSTAMP:20260423T175955Z
UID:19a6823e-3a7f-43a7-811d-fa4f636542f8
DTSTART:20260508T190000
DTEND:20260508T203000
DESCRIPTION:<html><head><meta http-equiv="Content-Type" content="text/html\
 ; charset=utf-8"></head><body><div class="elementToProof" style="font-fami
 ly:&quot\;Trebuchet MS&quot\;\,Trebuchet\,sans-serif\; font-size:11pt\; co
 lor:rgb(0\,0\,0)">Doors open at 6:30 p.m.</div></body></html>
LOCATION:Victoria West High School\, 307 Tropical Dr\, Victoria\, TX\, 7790
 4
SUMMARY:Cade M.S. Theatre - Cade's Got Talent 3: Here we again!
END:VEVENT
BEGIN:VEVENT
DTSTAMP:20260423T175955Z
UID:993b561f-899e-4450-95d0-71f1053d1daf
DTSTART:20260508T190000
DTEND:20260508T193000
DESCRIPTION:
LOCATION:Victoria East High School\, 4103 E Mockingbird Ln\, Victoria\, TX\
 , 77904
SUMMARY:East H.S. Orchestra Spring Concert 
END:VEVENT
BEGIN:VEVENT
DTSTAMP:20260423T175955Z
UID:9e3cc407-faf8-41e4-85a8-e9d5995fac39
DTSTART:20260509T100000
DTEND:20260509T140000
DESCRIPTION:
LOCATION:Victoria Fine Arts Center\, 1002 Sam Houston Dr\, Victoria\, TX\, 
 77901
SUMMARY:VISD District Art Show
END:VEVENT
BEGIN:VEVENT
DTSTAMP:20260423T175955Z
UID:b95aba9b-171b-4484-b33f-a5e59f7eca10
DTSTART:20260509T173000
DTEND:20260509T193000
DESCRIPTION:
LOCATION:Victoria East High School\, 4103 E Mockingbird Ln\, Victoria\, TX\
 , 77904
SUMMARY:East Band Banquet
END:VEVENT
BEGIN:VEVENT
DTSTAMP:20260423T175955Z
UID:1a993662-22a7-4a2a-ade1-179cd4da80ff
DTSTART:20260511T180000
DTEND:20260511T193000
DESCRIPTION:
LOCATION:Victoria Fine Arts Center\, 1002 Sam Houston Dr\, Victoria\, TX\, 
 77901
SUMMARY:West Band Spring Concert
END:VEVENT
BEGIN:VEVENT
DTSTAMP:20260423T175955Z
UID:3f8fbeed-6eae-4860-bff7-2eb3537d86dc
DTSTART:20260512T180000
DTEND:20260512T200000
DESCRIPTION:
LOCATION:Victoria Fine Arts Center\, 1002 Sam Houston Dr\, Victoria\, TX\, 
 77901
SUMMARY:East Band Spring Concert
END:VEVENT
BEGIN:VEVENT
DTSTAMP:20260423T175955Z
UID:8b04d145-768d-4afc-b3ae-933bbe270604
DTSTART:20260512T183000
DTEND:20260512T193000
DESCRIPTION:<html><head><meta http-equiv="Content-Type" content="text/html\
 ; charset=utf-8"></head><body><div class="elementToProof" style="font-fami
 ly:&quot\;Trebuchet MS&quot\;\,Trebuchet\,sans-serif\; font-size:11pt\; co
 lor:rgb(0\,0\,0)">Doors open at 6:00 p.m.</div></body></html>
LOCATION:Victoria West High School\, 307 Tropical Dr\, Victoria\, TX\, 7790
 4
SUMMARY:West Choir Spring Show
END:VEVENT
BEGIN:VEVENT
DTSTAMP:20260423T175955Z
UID:f0672e17-322a-4d3c-b74b-1c39b1bc8072
DTSTART:20260513T080000
DTEND:20260513T083000
DESCRIPTION:<html><head><meta http-equiv="Content-Type" content="text/html\
 ; charset=utf-8"></head><body><div class="elementToProof" style="font-fami
 ly:&quot\;Trebuchet MS&quot\;\,Trebuchet\,sans-serif\; font-size:11pt\; co
 lor:rgb(0\,0\,0)">Banquet will be held in the cafeteria. Garden Party/Tea 
 Party theme.</div></body></html>
LOCATION:Victoria West High School\, 307 Tropical Dr\, Victoria\, TX\, 7790
 4
SUMMARY:West Choir Banquet
END:VEVENT
BEGIN:VEVENT
DTSTAMP:20260423T175955Z
UID:f236cad5-a370-460a-b8b7-b371c5e605fc
DTSTART:20260513T180000
DTEND:20260513T190000
DESCRIPTION:
LOCATION:Victoria Fine Arts Center\, 1002 Sam Houston Dr\, Victoria\, TX\, 
 77901
SUMMARY:Cade M.S Band Spring Band Concert
END:VEVENT
BEGIN:VEVENT
DTSTAMP:20260423T175955Z
UID:c18e9b2d-985b-455e-ab01-5900c1441f86
DTSTART:20260513T180000
DTEND:20260513T200000
DESCRIPTION:<html><head><meta http-equiv="Content-Type" content="text/html\
 ; charset=utf-8"></head><body><div class="elementToProof" style="font-fami
 ly:Calibri\,Helvetica\,sans-serif\; font-size:12pt\; color:rgb(0\,0\,0)"><
 br></div></body></html>
LOCATION:Victoria East High School\, 4103 E Mockingbird Ln\, Victoria\, TX\
 , 77904
SUMMARY:East HS Guitar Spring Concert
END:VEVENT
BEGIN:VEVENT
DTSTAMP:20260423T175955Z
UID:4675c35a-25d9-462d-8389-639c1fdf5836
DTSTART:20260514T180000
DTEND:20260514T193000
DESCRIPTION:
LOCATION:Victoria West High School\, 307 Tropical Dr\, Victoria\, TX\, 7790
 4
SUMMARY:Cade & P. Welder Choir Spring Show
END:VEVENT
BEGIN:VEVENT
DTSTAMP:20260423T175955Z
UID:1e06bcee-7a2e-48fc-bfdd-64fce4aff232
DTSTART:20260514T180000
DTEND:20260514T190000
DESCRIPTION:
LOCATION:Victoria Fine Arts Center\, 1002 Sam Houston Dr\, Victoria\, TX\, 
 77901
SUMMARY:Pattie Welder M.S. Band Spring concert
END:VEVENT
BEGIN:VEVENT
DTSTAMP:20260423T175955Z
UID:d63b7d92-a5af-4bfe-bb6d-0bb572a3f3a8
DTSTART:20260515T170000
DTEND:20260515T190000
DESCRIPTION:<html><head><meta http-equiv="Content-Type" content="text/html\
 ; charset=utf-8"></head><body><div class="elementToProof" style="font-fami
 ly:&quot\;Trebuchet MS&quot\;\,Trebuchet\,sans-serif\; font-size:11pt\; co
 lor:rgb(0\,0\,0)">Doors open @ 4:30 p.m.</div></body></html>
LOCATION:Victoria West High School\, 307 Tropical Dr\, Victoria\, TX\, 7790
 4
SUMMARY:West H.S. Film Festival
END:VEVENT
BEGIN:VEVENT
DTSTAMP:20260423T175955Z
UID:fa64e54c-94ab-4ba5-ac05-2e672e31bead
DTSTART:20260518T180000
DTEND:20260518T183000
DESCRIPTION:<html><head><meta http-equiv="Content-Type" content="text/html\
 ; charset=utf-8"></head><body><div class="elementToProof" style="font-fami
 ly:&quot\;Trebuchet MS&quot\;\,Trebuchet\,sans-serif\; font-size:11pt\; co
 lor:rgb(0\,0\,0)"><span style="color:rgb(200\,38\,19)"><b>Time to be deter
 mined</b></span></div></body></html>
LOCATION:Victoria West High School\, 307 Tropical Dr\, Victoria\, TX\, 7790
 4
SUMMARY:Aladdin Jr. by Cade Theatre
END:VEVENT
BEGIN:VEVENT
DTSTAMP:20260423T175955Z
UID:92549579-81b3-4802-99dc-f66776ddf0a2
DTSTART:20260518T180000
DTEND:20260518T190000
DESCRIPTION:
LOCATION:Victoria Fine Arts Center\, 1002 Sam Houston Dr\, Victoria\, TX\, 
 77901
SUMMARY:Howell M.S. Band Spring Concert
END:VEVENT
BEGIN:VEVENT
DTSTAMP:20260423T175955Z
UID:14b291b8-a9f2-4039-b07d-66bc13d8f6dd
DTSTART:20260519T180000
DTEND:20260519T183000
DESCRIPTION:<html><head><meta http-equiv="Content-Type" content="text/html\
 ; charset=utf-8"></head><body><div class="elementToProof" style="font-fami
 ly:&quot\;Trebuchet MS&quot\;\,Trebuchet\,sans-serif\; font-size:11pt\; co
 lor:rgb(0\,0\,0)"><span style="color:rgb(200\,38\,19)"><b>Time to be deter
 mined</b></span></div></body></html>
LOCATION:Victoria West High School\, 307 Tropical Dr\, Victoria\, TX\, 7790
 4
SUMMARY:Aladdin Jr. by Cade Theatre
END:VEVENT
BEGIN:VEVENT
DTSTAMP:20260423T175955Z
UID:45562b2f-2d2f-421f-a912-eba0b9564e69
DTSTART:20260519T180000
DTEND:20260519T190000
DESCRIPTION:
LOCATION:Hopkins Elementary School\, 110 Hopkins St\, Victoria\, TX\, 77901
SUMMARY:Superstars Ukulele Club Spring Concert.
END:VEVENT
BEGIN:VEVENT
DTSTAMP:20260423T175955Z
UID:e9e98901-a609-4070-b896-ddeb8cbb2cb3
DTSTART:20260519T190000
DTEND:20260519T200000
DESCRIPTION:
LOCATION:Victoria East High School\, 4103 E Mockingbird Ln\, Victoria\, TX\
 , 77904
SUMMARY:STEM & Howell M.S Orchestra Spring Concert
END:VEVENT
BEGIN:VEVENT
DTSTAMP:20260423T175955Z
UID:5a4bfc1f-d805-4031-b1de-d70052ca981c
DTSTART:20260520T180000
DTEND:20260520T190000
DESCRIPTION:
LOCATION:Victoria Fine Arts Center\, 1002 Sam Houston Dr\, Victoria\, TX\, 
 77901
SUMMARY:STEM M.S. Band Spring Concert
END:VEVENT
BEGIN:VEVENT
DTSTAMP:20260423T175955Z
UID:5aa37081-be62-400b-975d-50cd10d90bfe
DTSTART:20260521T190000
DTEND:20260521T200000
DESCRIPTION:
LOCATION:Victoria East High School\, 4103 E Mockingbird Ln\, Victoria\, TX\
 , 77904
SUMMARY:STEM M.S. Choir Concert
END:VEVENT
BEGIN:VEVENT
DTSTAMP:20260423T175955Z
UID:6692d49a-dd8c-4244-8ff0-2b0991319db1
DTSTART;VALUE=DATE:20260524
DTEND;VALUE=DATE:20260526
DESCRIPTION:<html><head><meta http-equiv="Content-Type" content="text/html\
 ; charset=utf-8"></head><body><div class="elementToProof" style="font-fami
 ly:&quot\;Trebuchet MS&quot\;\,Trebuchet\,sans-serif\; font-size:11pt\; co
 lor:rgb(0\,0\,0)">High school students in band\, choir and orchestra parti
 cipate in All-State tryouts.</div></body></html>
LOCATION:Multiple sites in Austin Area.
SUMMARY:Texas State Solo & Ensemble Contest
END:VEVENT
BEGIN:VEVENT
DTSTAMP:20260423T175955Z
UID:33ca3981-0a14-4bc1-b416-63dbaa5d0846
DTSTART;VALUE=DATE:20260525
DTEND;VALUE=DATE:20260526
DESCRIPTION:
LOCATION:
SUMMARY:Closed for Memorial Day
END:VEVENT
END:VCALENDAR
