BEGIN:VCALENDAR
VERSION:2.0
PRODID:icalendar-ruby
CALSCALE:GREGORIAN
BEGIN:VTIMEZONE
TZID:America/Denver
BEGIN:DAYLIGHT
DTSTART:20260308T030000
TZOFFSETFROM:-0700
TZOFFSETTO:-0600
RRULE:FREQ=YEARLY;BYDAY=2SU;BYMONTH=3
TZNAME:MDT
END:DAYLIGHT
BEGIN:STANDARD
DTSTART:20261101T010000
TZOFFSETFROM:-0600
TZOFFSETTO:-0700
RRULE:FREQ=YEARLY;BYDAY=1SU;BYMONTH=11
TZNAME:MST
END:STANDARD
END:VTIMEZONE
BEGIN:VEVENT
DTSTAMP:20260420T055932Z
UID:361bfc66-bb00-4f4a-b621-4175c1d95fba
DTSTART;VALUE=DATE:20260423
DTEND;VALUE=DATE:20260424
DESCRIPTION:
LOCATION:
SUMMARY:Earth Day / Jumprope
END:VEVENT
BEGIN:VEVENT
DTSTAMP:20260420T055932Z
UID:61fab256-d365-497e-a534-9977a72a00e5
DTSTART;VALUE=DATE:20260429
DTEND;VALUE=DATE:20260430
DESCRIPTION:1:00 showing
LOCATION:
SUMMARY:Macey Robert Mirabal 
END:VEVENT
BEGIN:VEVENT
DTSTAMP:20260420T055932Z
UID:daef7ff6-dde9-42e1-afa2-4605c2548795
DTSTART;VALUE=DATE:20260511
DTEND;VALUE=DATE:20260515
DESCRIPTION:
LOCATION:
SUMMARY:EOY iStation & iMSSA Testing
END:VEVENT
BEGIN:VEVENT
DTSTAMP:20260420T055932Z
UID:011dfd31-f361-4d86-a471-03f3f90d3d25
DTSTART;VALUE=DATE:20260521
DTEND;VALUE=DATE:20260522
DESCRIPTION:
LOCATION:
SUMMARY:Field Day
END:VEVENT
BEGIN:VEVENT
DTSTAMP:20260420T055932Z
UID:d60bbb82-41f0-435a-90ca-9989cad74fa9
DTSTART;VALUE=DATE:20260525
DTEND;VALUE=DATE:20260526
DESCRIPTION:
LOCATION:
SUMMARY:No School
END:VEVENT
BEGIN:VEVENT
DTSTAMP:20260420T055932Z
UID:b56cb655-101f-452a-8269-fdf29ef8d86b
DTSTART;VALUE=DATE:20260527
DTEND;VALUE=DATE:20260528
DESCRIPTION:
LOCATION:
SUMMARY:Kinder & 5th Promotions
END:VEVENT
BEGIN:VEVENT
DTSTAMP:20260420T055932Z
UID:4a71f290-3f30-4aed-bd49-6e8ab1fc62bf
DTSTART;VALUE=DATE:20260527
DTEND;VALUE=DATE:20260528
DESCRIPTION:
LOCATION:
SUMMARY:PAC Meeting
END:VEVENT
BEGIN:VEVENT
DTSTAMP:20260420T055932Z
UID:12f7806a-e370-4c67-a224-98918821a3ab
DTSTART;VALUE=DATE:20260528
DTEND;VALUE=DATE:20260529
DESCRIPTION:
LOCATION:
SUMMARY:Last Day of School
END:VEVENT
END:VCALENDAR
