BEGIN:VCALENDAR
VERSION:2.0
PRODID:icalendar-ruby
CALSCALE:GREGORIAN
BEGIN:VTIMEZONE
TZID:America/Juneau
BEGIN:DAYLIGHT
DTSTART:20260308T030000
TZOFFSETFROM:-0900
TZOFFSETTO:-0800
RRULE:FREQ=YEARLY;BYDAY=2SU;BYMONTH=3
TZNAME:AKDT
END:DAYLIGHT
BEGIN:STANDARD
DTSTART:20261101T010000
TZOFFSETFROM:-0800
TZOFFSETTO:-0900
RRULE:FREQ=YEARLY;BYDAY=1SU;BYMONTH=11
TZNAME:AKST
END:STANDARD
END:VTIMEZONE
BEGIN:VEVENT
DTSTAMP:20260425T230214Z
UID:74923e07-ae80-4947-96dd-de1028600a2e
DTSTART;VALUE=DATE:20260427
DTEND;VALUE=DATE:20260429
DESCRIPTION:
LOCATION:
SUMMARY:TB testing w/public health nurses
END:VEVENT
BEGIN:VEVENT
DTSTAMP:20260425T230214Z
UID:b83ba8b0-ec99-47f0-94b3-02c1d73eaaa4
DTSTART:20260427T080000
DTEND:20260501T090000
DESCRIPTION:
LOCATION:
SUMMARY:End of the Year K-3 DIBELS Assessments
END:VEVENT
BEGIN:VEVENT
DTSTAMP:20260425T230214Z
UID:cd6891ec-9839-4f73-8b76-dca44a03cf95
DTSTART;VALUE=DATE:20260428
DTEND;VALUE=DATE:20260429
DESCRIPTION:
LOCATION:
SUMMARY:Senior Grades Due
END:VEVENT
BEGIN:VEVENT
DTSTAMP:20260425T230214Z
UID:1e319362-675a-4ba3-85e2-866818f394ab
DTSTART;VALUE=DATE:20260428
DTEND;VALUE=DATE:20260429
DESCRIPTION:
LOCATION:
SUMMARY:YKHC Summer Program Presentation (11th/12th grade) 2:15 in History
END:VEVENT
BEGIN:VEVENT
DTSTAMP:20260425T230214Z
UID:43f394fa-f14d-4c8c-bf5e-eb17f11c922b
DTSTART:20260430T180000
DTEND:20260430T200000
DESCRIPTION:
LOCATION:
SUMMARY:Sports Banquet
END:VEVENT
BEGIN:VEVENT
DTSTAMP:20260425T230214Z
UID:14ca8456-6969-426b-a9d3-651e65d50081
DTSTART:20260501T190000
DTEND:20260501T230000
DESCRIPTION:
LOCATION:
SUMMARY:Prom
END:VEVENT
BEGIN:VEVENT
DTSTAMP:20260425T230214Z
UID:1637a353-3a01-43de-aa11-4fb8fc5ff96d
DTSTART:20260502T180000
DTEND:20260502T200000
DESCRIPTION:
LOCATION:
SUMMARY:ES Spring Dance 
END:VEVENT
BEGIN:VEVENT
DTSTAMP:20260425T230214Z
UID:a37022cd-21de-4ae4-b4d6-9c9db6989602
DTSTART;VALUE=DATE:20260504
DTEND;VALUE=DATE:20260505
DESCRIPTION:
LOCATION:
SUMMARY:Last Day for Seniors
END:VEVENT
BEGIN:VEVENT
DTSTAMP:20260425T230214Z
UID:8e17ea7e-0a07-4c37-b3fd-26f96230d4d2
DTSTART;VALUE=DATE:20260505
DTEND;VALUE=DATE:20260506
DESCRIPTION:
LOCATION:
SUMMARY:Move Up Day
END:VEVENT
BEGIN:VEVENT
DTSTAMP:20260425T230214Z
UID:68608f45-1f94-4fea-ad3d-35cb73e385e4
DTSTART;VALUE=DATE:20260507
DTEND;VALUE=DATE:20260508
DESCRIPTION:
LOCATION:
SUMMARY:Last day of tutoring
END:VEVENT
BEGIN:VEVENT
DTSTAMP:20260425T230214Z
UID:81e26d21-29b4-4cdf-abd9-fff36debd5e9
DTSTART:20260508T190000
DTEND:20260508T210000
DESCRIPTION:
LOCATION:
SUMMARY:Senior Graduation/8th Grade Promotion
END:VEVENT
BEGIN:VEVENT
DTSTAMP:20260425T230214Z
UID:f3acf160-a517-41e4-9d1b-6be8c1a8101d
DTSTART;VALUE=DATE:20260511
DTEND;VALUE=DATE:20260512
DESCRIPTION:
LOCATION:
SUMMARY:Grades Due for K-11
END:VEVENT
BEGIN:VEVENT
DTSTAMP:20260425T230214Z
UID:430a9bd9-60a4-417b-b86f-9570adcba5a4
DTSTART:20260511T151500
DTEND:20260511T160000
DESCRIPTION:
LOCATION:
SUMMARY:Preschool Promotion
END:VEVENT
BEGIN:VEVENT
DTSTAMP:20260425T230214Z
UID:e6cc8a9d-a5a0-4f11-bd8d-2e9775fbc305
DTSTART:20260512T151500
DTEND:20260512T160000
DESCRIPTION:
LOCATION:
SUMMARY:Kindergarten Celebration
END:VEVENT
BEGIN:VEVENT
DTSTAMP:20260425T230214Z
UID:134bcf5e-9c5e-4c74-9481-713775b2dded
DTSTART:20260513T180000
DTEND:20260513T190000
DESCRIPTION:
LOCATION:
SUMMARY:8th Grade Promotion
END:VEVENT
BEGIN:VEVENT
DTSTAMP:20260425T230214Z
UID:6c38a3b0-089e-4abe-a8de-6cb2e1095b5e
DTSTART;VALUE=DATE:20260514
DTEND;VALUE=DATE:20260515
DESCRIPTION:
LOCATION:
SUMMARY:Last Day of School
END:VEVENT
BEGIN:VEVENT
DTSTAMP:20260425T230214Z
UID:d43a8708-ecde-423c-bc5f-cb9210e6a035
DTSTART;VALUE=DATE:20260515
DTEND;VALUE=DATE:20260516
DESCRIPTION:
LOCATION:
SUMMARY:Staff Work Day
END:VEVENT
BEGIN:VEVENT
DTSTAMP:20260425T230214Z
UID:377e10f8-f160-427e-bb2e-923be7cc9c7b
DTSTART:20260515T080000
DTEND:20260515T090000
DESCRIPTION:
LOCATION:
SUMMARY:Report Cards Out
END:VEVENT
BEGIN:VEVENT
DTSTAMP:20260425T230214Z
UID:7010a384-3179-48d4-b0e6-4ec912ce73be
DTSTART:20260525T080000
DTEND:20260525T090000
DESCRIPTION:
LOCATION:
SUMMARY:Memorial Day - NO SUMMER SCHOOL
END:VEVENT
BEGIN:VEVENT
DTSTAMP:20260425T230214Z
UID:0736bffe-6ee6-432d-8d69-d2dbcc0d003c
DTSTART:20260526T140000
DTEND:20260528T150000
DESCRIPTION:
LOCATION:
SUMMARY:Gym Reaurface Alaska Industries
END:VEVENT
BEGIN:VEVENT
DTSTAMP:20260425T230214Z
UID:26e21f9d-5423-4d0a-b93e-9ac370e4c012
DTSTART;VALUE=DATE:20260608
DTEND;VALUE=DATE:20260613
DESCRIPTION:ES 2:30-4\nJH/HS: 4-6
LOCATION:
SUMMARY:Wrestling Technique Clinic
END:VEVENT
BEGIN:VEVENT
DTSTAMP:20260425T230214Z
UID:fc5ed75b-260d-46fb-a671-390b8db19041
DTSTART:20260622T200000
DTEND:20260626T210000
DESCRIPTION:JH/HS 3-6pm
LOCATION:
SUMMARY:Intensive Wrestling Clinic
END:VEVENT
BEGIN:VEVENT
DTSTAMP:20260425T230214Z
UID:07cd171a-5549-4db0-a899-959f5cde9f9b
DTSTART;VALUE=DATE:20260727
DTEND;VALUE=DATE:20260728
DESCRIPTION:
LOCATION:
SUMMARY:HS XC Begins
END:VEVENT
BEGIN:VEVENT
DTSTAMP:20260425T230214Z
UID:e780001e-c12f-4043-bef8-9d13c82ec207
DTSTART;VALUE=DATE:20260909
DTEND;VALUE=DATE:20260910
DESCRIPTION:
LOCATION:
SUMMARY:Mixed 6 Volleyball Begins
END:VEVENT
BEGIN:VEVENT
DTSTAMP:20260425T230214Z
UID:30c2a9c7-e64b-4b21-b321-3207cdac3547
DTSTART;VALUE=DATE:20260911
DTEND;VALUE=DATE:20260913
DESCRIPTION:
LOCATION:
SUMMARY:ES XC Meet @ home
END:VEVENT
BEGIN:VEVENT
DTSTAMP:20260425T230214Z
UID:046c5a19-02ab-4677-9885-d89357ee35db
DTSTART;VALUE=DATE:20260911
DTEND;VALUE=DATE:20260913
DESCRIPTION:
LOCATION:
SUMMARY:HS XC @ KLG
END:VEVENT
BEGIN:VEVENT
DTSTAMP:20260425T230214Z
UID:d37b1643-8e47-4841-9406-00fe87a59c1f
DTSTART;VALUE=DATE:20260930
DTEND;VALUE=DATE:20261001
DESCRIPTION:
LOCATION:
SUMMARY:HS Wrestling Begins
END:VEVENT
BEGIN:VEVENT
DTSTAMP:20260425T230214Z
UID:07c59f21-698b-4a14-8b67-d1dfff1cd591
DTSTART;VALUE=DATE:20261001
DTEND;VALUE=DATE:20261002
DESCRIPTION:
LOCATION:
SUMMARY:Healing thru Music & Dance
END:VEVENT
BEGIN:VEVENT
DTSTAMP:20260425T230214Z
UID:1c273ce6-2fec-4970-8280-55859dfc5769
DTSTART;VALUE=DATE:20261003
DTEND;VALUE=DATE:20261004
DESCRIPTION:
LOCATION:
SUMMARY:HS State XC
END:VEVENT
BEGIN:VEVENT
DTSTAMP:20260425T230214Z
UID:d32b0951-55f1-43c2-bb9a-4b04050837df
DTSTART;VALUE=DATE:20261016
DTEND;VALUE=DATE:20261018
DESCRIPTION:
LOCATION:
SUMMARY:HS Wrestlers Scramble @ BET
END:VEVENT
BEGIN:VEVENT
DTSTAMP:20260425T230214Z
UID:781acf21-f391-47f9-aa22-bffb079850b3
DTSTART;VALUE=DATE:20261105
DTEND;VALUE=DATE:20261108
DESCRIPTION:
LOCATION:
SUMMARY:HS Wrestlers Invitational @ BET
END:VEVENT
BEGIN:VEVENT
DTSTAMP:20260425T230214Z
UID:de8147a7-bac2-448d-9b5f-e8476be9da3f
DTSTART;VALUE=DATE:20261202
DTEND;VALUE=DATE:20261203
DESCRIPTION:
LOCATION:
SUMMARY:HS Basketball Begins
END:VEVENT
BEGIN:VEVENT
DTSTAMP:20260425T230214Z
UID:50ab57ae-1137-4973-8b6f-d89d0969afdd
DTSTART;VALUE=DATE:20261203
DTEND;VALUE=DATE:20261206
DESCRIPTION:
LOCATION:
SUMMARY:Mixed 6 Volleyball State
END:VEVENT
BEGIN:VEVENT
DTSTAMP:20260425T230214Z
UID:b3129407-f9f2-4f7c-ab84-8007a06850c7
DTSTART;VALUE=DATE:20261211
DTEND;VALUE=DATE:20261212
DESCRIPTION:
LOCATION:
SUMMARY:HS Wrestling Regionals @ BET
END:VEVENT
BEGIN:VEVENT
DTSTAMP:20260425T230214Z
UID:c97e7e71-433e-4161-b661-28f30a148034
DTSTART;VALUE=DATE:20261218
DTEND;VALUE=DATE:20261220
DESCRIPTION:
LOCATION:
SUMMARY:HS State Wrestling
END:VEVENT
BEGIN:VEVENT
DTSTAMP:20260425T230214Z
UID:a7d44ac1-bc41-43ce-8268-e1419dbdfc6e
DTSTART;VALUE=DATE:20270127
DTEND;VALUE=DATE:20270131
DESCRIPTION:
LOCATION:
SUMMARY:HS Boys & Girls Bball @ KLG/ANI
END:VEVENT
BEGIN:VEVENT
DTSTAMP:20260425T230214Z
UID:056467f8-2a44-40e8-a0dc-cd60fad18286
DTSTART;VALUE=DATE:20270203
DTEND;VALUE=DATE:20270207
DESCRIPTION:Aniak\nKalskag
LOCATION:
SUMMARY:2027 Andreafski Invitational
END:VEVENT
BEGIN:VEVENT
DTSTAMP:20260425T230214Z
UID:81bc189d-37a5-4e18-9983-1e1acf5fe7b3
DTSTART;VALUE=DATE:20270212
DTEND;VALUE=DATE:20270215
DESCRIPTION:
LOCATION:
SUMMARY:HS Boys & Girls Bball @ BET VFW
END:VEVENT
BEGIN:VEVENT
DTSTAMP:20260425T230214Z
UID:0d66f1c5-7dd7-4c5f-8229-aefc67b50d5d
DTSTART;VALUE=DATE:20270219
DTEND;VALUE=DATE:20270221
DESCRIPTION:
LOCATION:
SUMMARY:St Mary's Annual Potlatch
END:VEVENT
BEGIN:VEVENT
DTSTAMP:20260425T230214Z
UID:46201ad1-73dc-4f7d-abf5-1424efb9975c
DTSTART;VALUE=DATE:20270225
DTEND;VALUE=DATE:20270228
DESCRIPTION:
LOCATION:
SUMMARY:Region 1A Basketball Conference
END:VEVENT
BEGIN:VEVENT
DTSTAMP:20260425T230214Z
UID:52cd5509-8655-4f56-840a-9794681b9b92
DTSTART;VALUE=DATE:20270310
DTEND;VALUE=DATE:20270314
DESCRIPTION:
LOCATION:
SUMMARY:1A State Basketball
END:VEVENT
END:VCALENDAR
