BEGIN:VCALENDAR
VERSION:2.0
PRODID:icalendar-ruby
CALSCALE:GREGORIAN
BEGIN:VTIMEZONE
TZID:America/New_York
BEGIN:DAYLIGHT
DTSTART:20260308T030000
TZOFFSETFROM:-0500
TZOFFSETTO:-0400
RRULE:FREQ=YEARLY;BYDAY=2SU;BYMONTH=3
TZNAME:EDT
END:DAYLIGHT
BEGIN:STANDARD
DTSTART:20261101T010000
TZOFFSETFROM:-0400
TZOFFSETTO:-0500
RRULE:FREQ=YEARLY;BYDAY=1SU;BYMONTH=11
TZNAME:EST
END:STANDARD
END:VTIMEZONE
BEGIN:VEVENT
DTSTAMP:20260424T021944Z
UID:655dda87-8e81-4519-a543-5ce1a0b946b1
DTSTART;VALUE=DATE:20260420
DTEND;VALUE=DATE:20260424
DESCRIPTION:
LOCATION:1165 Huff Creek Rd\, Cyclone\, WV 24827\, USA
SUMMARY:Book Fair
END:VEVENT
BEGIN:VEVENT
DTSTAMP:20260424T021944Z
UID:534edb97-1142-4cc0-84a3-ffd7e7b0f709
DTSTART;VALUE=DATE:20260423
DTEND;VALUE=DATE:20260424
DESCRIPTION:
LOCATION:1165 Huff Creek Rd\, Cyclone\, WV 24827\, USA
SUMMARY:Preschool Mt. Heart Track & Field
END:VEVENT
BEGIN:VEVENT
DTSTAMP:20260424T021944Z
UID:a6e082a6-bd69-44e9-a3c8-e9cb251dae65
DTSTART:20260423T170000
DTEND:20260423T180000
DESCRIPTION:
LOCATION:1165 Huff Creek Rd\, Cyclone\, WV 24827\, USA
SUMMARY:Sports Banquet
END:VEVENT
BEGIN:VEVENT
DTSTAMP:20260424T021944Z
UID:63331c35-adca-4c86-9e01-1891d7e12a01
DTSTART;VALUE=DATE:20260424
DTEND;VALUE=DATE:20260425
DESCRIPTION:
LOCATION:1165 Huff Creek Rd\, Cyclone\, WV 24827\, USA
SUMMARY:Professional Learning Day - No School for Students
END:VEVENT
BEGIN:VEVENT
DTSTAMP:20260424T021944Z
UID:22c56cbf-6c67-4fd0-b173-b492d09006b4
DTSTART;VALUE=DATE:20260501
DTEND;VALUE=DATE:20260502
DESCRIPTION:
LOCATION:1165 Huff Creek Rd\, Cyclone\, WV 24827\, USA
SUMMARY:Progress Reports
END:VEVENT
BEGIN:VEVENT
DTSTAMP:20260424T021944Z
UID:a66b9632-259d-411b-9697-8485f2098a63
DTSTART;VALUE=DATE:20260512
DTEND;VALUE=DATE:20260513
DESCRIPTION:
LOCATION:1165 Huff Creek Rd\, Cyclone\, WV 24827\, USA
SUMMARY:Election Day - No School
END:VEVENT
BEGIN:VEVENT
DTSTAMP:20260424T021944Z
UID:77646e7f-4097-49ab-9002-7429bb086935
DTSTART;VALUE=DATE:20260525
DTEND;VALUE=DATE:20260526
DESCRIPTION:
LOCATION:1165 Huff Creek Rd\, Cyclone\, WV 24827\, USA
SUMMARY:Memorial Day - No School
END:VEVENT
BEGIN:VEVENT
DTSTAMP:20260424T021944Z
UID:9473c933-0f89-405a-bbc9-23ddcc45b359
DTSTART;VALUE=DATE:20260602
DTEND;VALUE=DATE:20260603
DESCRIPTION:
LOCATION:1165 Huff Creek Rd\, Cyclone\, WV 24827\, USA
SUMMARY:Last Day for Students
END:VEVENT
BEGIN:VEVENT
DTSTAMP:20260424T021944Z
UID:dcef8ab8-71af-49fe-8cb3-8b92d29ee2d6
DTSTART;VALUE=DATE:20260605
DTEND;VALUE=DATE:20260606
DESCRIPTION:
LOCATION:1165 Huff Creek Rd\, Cyclone\, WV 24827\, USA
SUMMARY:Last Day for Staff
END:VEVENT
END:VCALENDAR
